BEGIN:VCALENDAR
VERSION:2.0
PRODID:-//The Bus Stop Theatre - ECPv6.14.2//NONSGML v1.0//EN
CALSCALE:GREGORIAN
METHOD:PUBLISH
X-WR-CALNAME:The Bus Stop Theatre
X-ORIGINAL-URL:https://busstoptheatre.coop
X-WR-CALDESC:Events for The Bus Stop Theatre
REFRESH-INTERVAL;VALUE=DURATION:PT1H
X-Robots-Tag:noindex
X-PUBLISHED-TTL:PT1H
BEGIN:VTIMEZONE
TZID:America/Halifax
BEGIN:DAYLIGHT
TZOFFSETFROM:-0400
TZOFFSETTO:-0300
TZNAME:ADT
DTSTART:20260308T060000
END:DAYLIGHT
BEGIN:STANDARD
TZOFFSETFROM:-0300
TZOFFSETTO:-0400
TZNAME:AST
DTSTART:20261101T050000
END:STANDARD
END:VTIMEZONE
BEGIN:VEVENT
DTSTART;TZID=America/Halifax:20260517T173000
DTEND;TZID=America/Halifax:20260517T193000
DTSTAMP:20260425T000828
CREATED:20260424T172151Z
LAST-MODIFIED:20260424T172151Z
UID:14247-1779039000-1779046200@busstoptheatre.coop
SUMMARY:HOT POT: An All-Asian Variety Show
DESCRIPTION:Back for its fourth year\, HOT POT is a joyful\, genre-blending celebration of Asian talent in the heart of Kjipuktuk/Halifax. Curated by burlesque artist Elle Lixir and hosted by the fabulous Kaidan Ivy\, this vibrant variety show brings together a simmering mix of burlesque\, drag\, dance\, and live music — all by Asian artists across the diaspora. \nFrom heartfelt storytelling to high-energy spectacle\, HOT POT serves up something for everyone\, while making space for community\, creativity\, and cultural pride. Whether you’re coming for the laughs\, the glamour\, or the emotional punch — you’re in for a night to remember. \nHosted By Kaidan Ivy \nPerformances by  Aiya Xiaoxin\, Akira Mayari\, Brocko LEE\, Dim Sum fund\, Elle Lixir\, G-Spott\, Harley Knower\, Kaleidoscope Crush\, Katanna Skin\, Lovina poison\, Mani & Soumya\, & Sangeeta Raju \nKIttened by MissShapen & GIDGEFor more info\, please visit: www.elle-lixir.com/hotpot \n\n\n Come spend part of your long weekend with us! We hope to see you there! \n\n\n\n\nPlease bring cash for tips\, but we also will accept EMT transactions to Elle.Lixir.Dancer@gmail.com\nAll tips will be split equally among the cast. Please write “Hot Pot Tips” in the note section. \nShowtimes*: EARLY 5:30 PM & LATE 9:00 PM (approx. 2 hours each)\nDoors into the theatre area open 30 minutes before each show.
URL:https://busstoptheatre.coop/event/hot-pot-an-all-asian-variety-show/2026-05-17/
LOCATION:The Bus Stop Theatre\, 2203 Gottingen Street\, Halifax\, Nova Scotia\, B3K3B5\, Canada
CATEGORIES:Burlesque,Dance,Drag,Music
ATTACH;FMTTYPE=image/png:https://busstoptheatre.coop/wp-content/uploads/2026/04/2026-05017-HOT-POT-1200x600-1.png
GEO:44.6531707;-63.585073
X-APPLE-STRUCTURED-LOCATION;VALUE=URI;X-ADDRESS=The Bus Stop Theatre 2203 Gottingen Street Halifax Nova Scotia B3K3B5 Canada;X-APPLE-RADIUS=500;X-TITLE=2203 Gottingen Street:geo:-63.585073,44.6531707
END:VEVENT
END:VCALENDAR