BEGIN:VCALENDAR
VERSION:2.0
PRODID:-//The Bus Stop Theatre - ECPv6.14.2//NONSGML v1.0//EN
CALSCALE:GREGORIAN
METHOD:PUBLISH
X-WR-CALNAME:The Bus Stop Theatre
X-ORIGINAL-URL:https://busstoptheatre.coop
X-WR-CALDESC:Events for The Bus Stop Theatre
REFRESH-INTERVAL;VALUE=DURATION:PT1H
X-Robots-Tag:noindex
X-PUBLISHED-TTL:PT1H
BEGIN:VTIMEZONE
TZID:America/Halifax
BEGIN:DAYLIGHT
TZOFFSETFROM:-0400
TZOFFSETTO:-0300
TZNAME:ADT
DTSTART:20230312T060000
END:DAYLIGHT
BEGIN:STANDARD
TZOFFSETFROM:-0300
TZOFFSETTO:-0400
TZNAME:AST
DTSTART:20231105T050000
END:STANDARD
END:VTIMEZONE
BEGIN:VEVENT
DTSTART;TZID=America/Halifax:20230217T200000
DTEND;TZID=America/Halifax:20230217T213000
DTSTAMP:20260420T184925
CREATED:20230131T133138Z
LAST-MODIFIED:20230131T133211Z
UID:10829-1676664000-1676669400@busstoptheatre.coop
SUMMARY:Live Art Dance presents m/Other
DESCRIPTION:m/Other is a duet for mother and son. The dance is simple and challenging: together naked we touch each other and try to “not-feel”. The duration of the dance is the length of a symphony. We hope the work stages many values and questions: The importance of time as a substance\, the value of an aged body on stage\, the psychic capability to hold one another. Most basically it is an opportunity for a mother and a son to give each other time and attention. \nCreators and performers: Benjamin Kamino & Gabby Kamino \nGeneral Seating\n$25.00 Adults; $22.50 Seniors; $15.00 Students / Arts Worker / Under Waged \nRunning time 55 minutes \n*Content warning: Nudity
URL:https://busstoptheatre.coop/event/live-art-dance-presents-m-other/2023-02-17/
LOCATION:The Bus Stop Theatre\, 2203 Gottingen Street\, Halifax\, Nova Scotia\, B3K3B5\, Canada
CATEGORIES:Dance
ATTACH;FMTTYPE=image/jpeg:https://busstoptheatre.coop/wp-content/uploads/2023/01/mother.jpg
GEO:44.6531707;-63.585073
X-APPLE-STRUCTURED-LOCATION;VALUE=URI;X-ADDRESS=The Bus Stop Theatre 2203 Gottingen Street Halifax Nova Scotia B3K3B5 Canada;X-APPLE-RADIUS=500;X-TITLE=2203 Gottingen Street:geo:-63.585073,44.6531707
END:VEVENT
END:VCALENDAR