BEGIN:VCALENDAR
VERSION:2.0
PRODID:-//The Bus Stop Theatre - ECPv6.14.2//NONSGML v1.0//EN
CALSCALE:GREGORIAN
METHOD:PUBLISH
X-WR-CALNAME:The Bus Stop Theatre
X-ORIGINAL-URL:https://busstoptheatre.coop
X-WR-CALDESC:Events for The Bus Stop Theatre
REFRESH-INTERVAL;VALUE=DURATION:PT1H
X-Robots-Tag:noindex
X-PUBLISHED-TTL:PT1H
BEGIN:VTIMEZONE
TZID:America/Halifax
BEGIN:DAYLIGHT
TZOFFSETFROM:-0400
TZOFFSETTO:-0300
TZNAME:ADT
DTSTART:20260308T060000
END:DAYLIGHT
BEGIN:STANDARD
TZOFFSETFROM:-0300
TZOFFSETTO:-0400
TZNAME:AST
DTSTART:20261101T050000
END:STANDARD
END:VTIMEZONE
BEGIN:VEVENT
DTSTART;TZID=America/Halifax:20260421T180000
DTEND;TZID=America/Halifax:20260421T191500
DTSTAMP:20260421T023559
CREATED:20260402T140046Z
LAST-MODIFIED:20260407T160330Z
UID:14142-1776794400-1776798900@busstoptheatre.coop
SUMMARY:Movie Screening: Liste de Mariage
DESCRIPTION:Join Beirut Film Society and Lebanon Cinema Days for their first Halifax screening\, and every third Tuesday after\, where a new story takes the screen. \nTickets are going fast. Get yours before it’s too late! \nMovie: Liste de Mariage\nTuesday\, April 21\, 2026\nTime: 6PM & 8PM\nLocation: The Bus Stop Theatre (2203 Gottingen Street)\nLanguage: Lebanese Arabic with English subtitles\nTickets: \n\n\nTickets for the 6 PM Show here \nTickets for the 8 PM Show here \n\n\nSynopsis: All Lana wanted was to survive her ex’s wedding…Instead\, she finds herself caught in a fake relationship with a mysterious stranger—and a whole lot of unexpected feelings she never signed up for. \nGenre: Romantic Comedy\nDirector: Randa Aalam\nWriter: Tarek Soueid\nStarring: Rita Hayek & Carlos Azar\nRuntime: 1h 15mins\nRating: G \n\nDon’t miss it—save the date and bring your friends!
URL:https://busstoptheatre.coop/event/movie-screening-liste-de-mariage/
LOCATION:The Bus Stop Theatre\, 2203 Gottingen Street\, Halifax\, Nova Scotia\, B3K3B5\, Canada
CATEGORIES:Film
ATTACH;FMTTYPE=image/jpeg:https://busstoptheatre.coop/wp-content/uploads/2026/04/IMG_1045-scaled.jpeg
GEO:44.6531707;-63.585073
X-APPLE-STRUCTURED-LOCATION;VALUE=URI;X-ADDRESS=The Bus Stop Theatre 2203 Gottingen Street Halifax Nova Scotia B3K3B5 Canada;X-APPLE-RADIUS=500;X-TITLE=2203 Gottingen Street:geo:-63.585073,44.6531707
END:VEVENT
BEGIN:VEVENT
DTSTART;TZID=America/Halifax:20260421T200000
DTEND;TZID=America/Halifax:20260421T211500
DTSTAMP:20260421T023559
CREATED:20260402T140244Z
LAST-MODIFIED:20260407T160440Z
UID:14149-1776801600-1776806100@busstoptheatre.coop
SUMMARY:Movie Screening: Liste de Mariage
DESCRIPTION:Join Beirut Film Society and Lebanon Cinema Days for their first Halifax screening\, and every third Tuesday after\, where a new story takes the screen. \nTickets are going fast. Get yours before it’s too late! \nMovie: Liste de Mariage\nTuesday\, April 21\, 2026\nTime: 6PM & 8PM\nLocation: The Bus Stop Theatre (2203 Gottingen Street)\nLanguage: Lebanese Arabic with English subtitles\nTickets: \n\n\nTickets for the 6 PM Show here \nTickets for the 8 PM Show here \n\n\nSynopsis: All Lana wanted was to survive her ex’s wedding…Instead\, she finds herself caught in a fake relationship with a mysterious stranger—and a whole lot of unexpected feelings she never signed up for. \nGenre: Romantic Comedy\nDirector: Randa Aalam\nWriter: Tarek Soueid\nStarring: Rita Hayek & Carlos Azar\nRuntime: 1h 15mins\nRating: G \n\nDon’t miss it—save the date and bring your friends!
URL:https://busstoptheatre.coop/event/movie-screening-liste-de-mariage-2/
LOCATION:The Bus Stop Theatre\, 2203 Gottingen Street\, Halifax\, Nova Scotia\, B3K3B5\, Canada
CATEGORIES:Film
ATTACH;FMTTYPE=image/jpeg:https://busstoptheatre.coop/wp-content/uploads/2026/04/IMG_1045-scaled.jpeg
GEO:44.6531707;-63.585073
X-APPLE-STRUCTURED-LOCATION;VALUE=URI;X-ADDRESS=The Bus Stop Theatre 2203 Gottingen Street Halifax Nova Scotia B3K3B5 Canada;X-APPLE-RADIUS=500;X-TITLE=2203 Gottingen Street:geo:-63.585073,44.6531707
END:VEVENT
END:VCALENDAR