BEGIN:VCALENDAR
VERSION:2.0
PRODID:-//The Bus Stop Theatre - ECPv6.14.2//NONSGML v1.0//EN
CALSCALE:GREGORIAN
METHOD:PUBLISH
X-WR-CALNAME:The Bus Stop Theatre
X-ORIGINAL-URL:https://busstoptheatre.coop
X-WR-CALDESC:Events for The Bus Stop Theatre
REFRESH-INTERVAL;VALUE=DURATION:PT1H
X-Robots-Tag:noindex
X-PUBLISHED-TTL:PT1H
BEGIN:VTIMEZONE
TZID:America/Halifax
BEGIN:DAYLIGHT
TZOFFSETFROM:-0400
TZOFFSETTO:-0300
TZNAME:ADT
DTSTART:20260308T060000
END:DAYLIGHT
BEGIN:STANDARD
TZOFFSETFROM:-0300
TZOFFSETTO:-0400
TZNAME:AST
DTSTART:20261101T050000
END:STANDARD
END:VTIMEZONE
BEGIN:VEVENT
DTSTART;TZID=America/Halifax:20260302T200000
DTEND;TZID=America/Halifax:20260302T213000
DTSTAMP:20260422T115339
CREATED:20260212T180847Z
LAST-MODIFIED:20260212T180847Z
UID:14033-1772481600-1772487000@busstoptheatre.coop
SUMMARY:Seen Worse ft. Rachel Ruecker\, Catherine Robertson & Karim Tuffaha
DESCRIPTION:Seen Worse\nFeaturing Rachel Ruecker\, Catherine Robertson\, and Karim Tuffaha \nOriginally from Vancouver\, Rachel has performed comedy all across the country. She won the Whistler Comedy Competition Laugh Out Live! And literally the day she moved to Halifax\, was named Vancouver’s Best Comedian in Georgia Straight’s 2025 “Best of Vancouver” Issue. She is known for her quirky\, girly approach to dark subject matter. She also\, miraculously\, has a dead dad. \nA longtime fixture of the Halifax comedy scene\, Catherine Robertson is the kind of no-nonsense mama bear that everybody needs in their life. She’s also absolutely hilarious\, helping audiences across the maritimes laugh at everyday irritations with her devastatingly wry comedy. She produces and hosts the weekly show “Catherine Robertson’s Comedy Hour” at Bearly’s House of Blues every Wednesday night\, Halifax’s longest running independent comedy show. Robertson has previously appeared at the Halifax Comedy Fest\, the PEI Comedy Festival\, and her work can be heard on SiriusXM. \nOriginally from Lebanon\, Karim has recently come to Canada\, new to the comedy scene\, here to showcase his story. Karim used to vlog on YouTube\, and created content across Tiktok and Instagram\, diverting his focus now to comedy story telling. Karim is known for his goofiness and enjoys crowd work. \nINFO: \n18+ || Doors: 7 PM || Show: 8:00 PM \nTickets:\n$10 in advance\n$15 at the door
URL:https://busstoptheatre.coop/event/seen-worse-ft-rachel-ruecker-catherine-robertson-karim-tuffaha/
LOCATION:The Bus Stop Theatre\, 2203 Gottingen Street\, Halifax\, Nova Scotia\, B3K3B5\, Canada
CATEGORIES:Comedy & Improv
ATTACH;FMTTYPE=image/png:https://busstoptheatre.coop/wp-content/uploads/2026/02/image0.png
GEO:44.6531707;-63.585073
X-APPLE-STRUCTURED-LOCATION;VALUE=URI;X-ADDRESS=The Bus Stop Theatre 2203 Gottingen Street Halifax Nova Scotia B3K3B5 Canada;X-APPLE-RADIUS=500;X-TITLE=2203 Gottingen Street:geo:-63.585073,44.6531707
END:VEVENT
BEGIN:VEVENT
DTSTART;TZID=America/Halifax:20260308T190000
DTEND;TZID=America/Halifax:20260308T203000
DTSTAMP:20260422T115339
CREATED:20260223T134952Z
LAST-MODIFIED:20260223T221812Z
UID:14053-1772996400-1773001800@busstoptheatre.coop
SUMMARY:Chinese stand up comedy\, “高分脱口秀专场《诺丁山恩仇记》
DESCRIPTION:高分中文脱口秀专场《诺丁山恩仇记》7:00晚上场\n\n\n\n\n\n\n\n\n\n  \n\n\n\n\n\n\n\nBy水产喜剧 \n\n\n\n\nThe Bus Stop Theatre Co-operativeHalifax\, NS \nSunday\, Mar 8 from 7 pm to 8:30 pm\n\n\n\n\n\n\n\n小MO，仙人掌喜剧签约脱口秀演员，多平台播放量破亿。本场带来个人专场《诺丁山恩仇记》，一部打磨四年的“喜剧复仇”。他的段子精准锋利、逻辑极强，现场笑点密集，常让观众笑着被说中。如果你已看腻套路脱口秀，这一场很可能是你今年最值的一次。 \n\n\n\n\n\n\n\n\n\n由 Aquatic Comedy 主办，特邀仙人掌喜剧签约脱口秀演员 小MO 带来个人专场 《诺丁山恩仇记》——一部历时 四年打磨、在无数次内测演出中精炼而成的“喜剧复仇”作品。 \n小MO 是中文脱口秀圈中少有的 实力派、脑洞型、笑点密集型演员，多平台视频播放量破亿。他的表演风格独特：不靠夸张噱头、不靠吵闹，而是用精准、锋利的观察和文字，把留学经历、身份焦虑、都市生活与亲密关系中的真实困境，转化为 让人笑到停不下来的段子。 \n《诺丁山恩仇记》在过去四年里经过 无数场内测演出，每一个笑点、每一句反转都经过反复雕琢，只为在现场呈现最精准、最锋利、最连贯的幽默体验。现场的笑点密集、节奏紧凑，你会在大笑之余暗自点头：“这不就是我吗？太准了！” \n如果你已经看腻了套路脱口秀、拼盘演出或只靠段子堆笑料的表演，那么这一场绝对是 2026年不看会后悔的专场。这是内容扎实、逻辑严密、表演稳定到极致的一场笑中带刺的喜剧复仇，错过只能等下一轮再来。 \n\n\n\n\n 
URL:https://busstoptheatre.coop/event/chinese-stand-up-comedy-%e9%ab%98%e5%88%86%e8%84%b1%e5%8f%a3%e7%a7%80%e4%b8%93%e5%9c%ba%e3%80%8a%e8%af%ba%e4%b8%81%e5%b1%b1%e6%81%a9%e4%bb%87%e8%ae%b0%e3%80%8b/
LOCATION:The Bus Stop Theatre\, 2203 Gottingen Street\, Halifax\, Nova Scotia\, B3K3B5\, Canada
CATEGORIES:Comedy & Improv
ATTACH;FMTTYPE=image/jpeg:https://busstoptheatre.coop/wp-content/uploads/2026/02/IMG_3806.jpeg
GEO:44.6531707;-63.585073
X-APPLE-STRUCTURED-LOCATION;VALUE=URI;X-ADDRESS=The Bus Stop Theatre 2203 Gottingen Street Halifax Nova Scotia B3K3B5 Canada;X-APPLE-RADIUS=500;X-TITLE=2203 Gottingen Street:geo:-63.585073,44.6531707
END:VEVENT
BEGIN:VEVENT
DTSTART;TZID=America/Halifax:20260311T200000
DTEND;TZID=America/Halifax:20260311T220000
DTSTAMP:20260422T115339
CREATED:20260212T163124Z
LAST-MODIFIED:20260212T163124Z
UID:14082-1773259200-1773266400@busstoptheatre.coop
SUMMARY:Comedy! Featuring some of the stars of 22 Minutes
DESCRIPTION:Come join some of the stars and writers of This Hour Has 22 Minutes for a night of stand-up and sketch comedy.\n\nFebruary 25: Featuring a headlining set by Jordan Foisy!\nMarch 11: Featuring a headlining set by Aba Amuquandoh!\nMarch 25: Featuring a headlining set by Chris Wilson!
URL:https://busstoptheatre.coop/event/comedy-featuring-some-of-the-stars-of-22-minutes/2026-03-11/
LOCATION:The Bus Stop Theatre\, 2203 Gottingen Street\, Halifax\, Nova Scotia\, B3K3B5\, Canada
CATEGORIES:Comedy & Improv
ATTACH;FMTTYPE=image/jpeg:https://busstoptheatre.coop/wp-content/uploads/2026/02/22-MINUTES-BUS-STOP-INSTAGRAM.jpg
GEO:44.6531707;-63.585073
X-APPLE-STRUCTURED-LOCATION;VALUE=URI;X-ADDRESS=The Bus Stop Theatre 2203 Gottingen Street Halifax Nova Scotia B3K3B5 Canada;X-APPLE-RADIUS=500;X-TITLE=2203 Gottingen Street:geo:-63.585073,44.6531707
END:VEVENT
BEGIN:VEVENT
DTSTART;TZID=America/Halifax:20260325T200000
DTEND;TZID=America/Halifax:20260325T220000
DTSTAMP:20260422T115339
CREATED:20260212T163124Z
LAST-MODIFIED:20260212T163124Z
UID:14083-1774468800-1774476000@busstoptheatre.coop
SUMMARY:Comedy! Featuring some of the stars of 22 Minutes
DESCRIPTION:Come join some of the stars and writers of This Hour Has 22 Minutes for a night of stand-up and sketch comedy.\n\nFebruary 25: Featuring a headlining set by Jordan Foisy!\nMarch 11: Featuring a headlining set by Aba Amuquandoh!\nMarch 25: Featuring a headlining set by Chris Wilson!
URL:https://busstoptheatre.coop/event/comedy-featuring-some-of-the-stars-of-22-minutes/2026-03-25/
LOCATION:The Bus Stop Theatre\, 2203 Gottingen Street\, Halifax\, Nova Scotia\, B3K3B5\, Canada
CATEGORIES:Comedy & Improv
ATTACH;FMTTYPE=image/jpeg:https://busstoptheatre.coop/wp-content/uploads/2026/02/22-MINUTES-BUS-STOP-INSTAGRAM.jpg
GEO:44.6531707;-63.585073
X-APPLE-STRUCTURED-LOCATION;VALUE=URI;X-ADDRESS=The Bus Stop Theatre 2203 Gottingen Street Halifax Nova Scotia B3K3B5 Canada;X-APPLE-RADIUS=500;X-TITLE=2203 Gottingen Street:geo:-63.585073,44.6531707
END:VEVENT
BEGIN:VEVENT
DTSTART;TZID=America/Halifax:20260331T193000
DTEND;TZID=America/Halifax:20260331T220000
DTSTAMP:20260422T115339
CREATED:20260224T161830Z
LAST-MODIFIED:20260224T183958Z
UID:14078-1774985400-1774994400@busstoptheatre.coop
SUMMARY:SPONTANEITY IMPROV COMBO SHOW
DESCRIPTION:DESCRIPTION\n\n\n\n\nTwo Spontaneity Improv teams come together to provide a night of hilarious entertainment.\nJoin Spontaneity’s ‘Improv the Musical’ for their opening AND closing night of a brand new improvised musical inspired by YOU! These seasoned improvisers create the next big musical\, with each scene and songs made up on the spot!\n\n\n\nWatch a wild\, unique\, and silly world unfold as Spontaneity’s ‘What’s Up! Improv’ brings a brand new universe to life every show\, based on audience suggestions.
URL:https://busstoptheatre.coop/event/spontaneity-improv-combo-show-2/
LOCATION:The Bus Stop Theatre\, 2203 Gottingen Street\, Halifax\, Nova Scotia\, B3K3B5\, Canada
CATEGORIES:Comedy & Improv
ATTACH;FMTTYPE=image/png:https://busstoptheatre.coop/wp-content/uploads/2026/02/Spontaneity-Combo-March-31.png
GEO:44.6531707;-63.585073
X-APPLE-STRUCTURED-LOCATION;VALUE=URI;X-ADDRESS=The Bus Stop Theatre 2203 Gottingen Street Halifax Nova Scotia B3K3B5 Canada;X-APPLE-RADIUS=500;X-TITLE=2203 Gottingen Street:geo:-63.585073,44.6531707
END:VEVENT
END:VCALENDAR