BEGIN:VCALENDAR
VERSION:2.0
PRODID:-//The Bus Stop Theatre - ECPv6.14.2//NONSGML v1.0//EN
CALSCALE:GREGORIAN
METHOD:PUBLISH
X-WR-CALNAME:The Bus Stop Theatre
X-ORIGINAL-URL:https://busstoptheatre.coop
X-WR-CALDESC:Events for The Bus Stop Theatre
REFRESH-INTERVAL;VALUE=DURATION:PT1H
X-Robots-Tag:noindex
X-PUBLISHED-TTL:PT1H
BEGIN:VTIMEZONE
TZID:America/Halifax
BEGIN:DAYLIGHT
TZOFFSETFROM:-0400
TZOFFSETTO:-0300
TZNAME:ADT
DTSTART:20240310T060000
END:DAYLIGHT
BEGIN:STANDARD
TZOFFSETFROM:-0300
TZOFFSETTO:-0400
TZNAME:AST
DTSTART:20241103T050000
END:STANDARD
END:VTIMEZONE
BEGIN:VEVENT
DTSTART;TZID=America/Halifax:20240914T190000
DTEND;TZID=America/Halifax:20240914T220000
DTSTAMP:20260421T121556
CREATED:20240827T145532Z
LAST-MODIFIED:20240827T145532Z
UID:12753-1726340400-1726351200@busstoptheatre.coop
SUMMARY:Crescent Moon Cabaret
DESCRIPTION:Crescent Moon Cabaret is back for our third show! Founded in 2022\, Crescent Moon Cabaret is a production company based right here in Halifax\, we produce shows that are unlike anything else happening in Halifax right now. Our shows are a contemporary take on the Vaudeville Reviews of the early 20th Century. \nSeptember 14th\, doors at 7:00\, show 7:30 \nTickets: In Advance: $15/$20\, (plus 2 VIP tables available!) \nat the door: $20/$25 \nLive stream: suggested $15 \nTickets on sale now\, link to purchase can be found at https://linktr.ee/CrescentMoonCabaret \nCrescent Moon Cabaret’s latest show is a contemporary vaudeville-esque variety show featuring a wide variety of local talent all in one place. From the comedic to the sultry\, from the musical to the magical; there is surely something for everyone! Artists featured include Cat McCluskey; Musician and Host\, Logan Wolfe with Avalon Moore; boylesque and live music\, Lacia Majora; Burlesque\, G-Spott; Drag\, Jayden Gigliotti: juggling\, Elle Lixer; Burlesque\, Vanessa Furlong; Live music\, Miss Shapen; Stage Kitten Extraordinaire
URL:https://busstoptheatre.coop/event/crescent-moon-cabaret-2/
LOCATION:The Bus Stop Theatre\, 2203 Gottingen Street\, Halifax\, Nova Scotia\, B3K3B5\, Canada
CATEGORIES:Burlesque,Drag
ORGANIZER;CN="Crescent Moon Productions":MAILTO:crescentmooncabaret@gmail.com
GEO:44.6531707;-63.585073
X-APPLE-STRUCTURED-LOCATION;VALUE=URI;X-ADDRESS=The Bus Stop Theatre 2203 Gottingen Street Halifax Nova Scotia B3K3B5 Canada;X-APPLE-RADIUS=500;X-TITLE=2203 Gottingen Street:geo:-63.585073,44.6531707
END:VEVENT
BEGIN:VEVENT
DTSTART;TZID=America/Halifax:20240926T180000
DTEND;TZID=America/Halifax:20240926T210000
DTSTAMP:20260421T121556
CREATED:20240911T140628Z
LAST-MODIFIED:20240911T140628Z
UID:12790-1727373600-1727384400@busstoptheatre.coop
SUMMARY:Halifax's Mayoral (Drag) Race
DESCRIPTION:We all know the mayoral election is coming up – but did you know that they’re all drag performers?! An evening of political satire in drag\, featuring a musical performance by bing bong!
URL:https://busstoptheatre.coop/event/halifaxs-mayoral-drag-race/
LOCATION:The Bus Stop Theatre\, 2203 Gottingen Street\, Halifax\, Nova Scotia\, B3K3B5\, Canada
CATEGORIES:Community Events,Drag,Fundraiser
GEO:44.6531707;-63.585073
X-APPLE-STRUCTURED-LOCATION;VALUE=URI;X-ADDRESS=The Bus Stop Theatre 2203 Gottingen Street Halifax Nova Scotia B3K3B5 Canada;X-APPLE-RADIUS=500;X-TITLE=2203 Gottingen Street:geo:-63.585073,44.6531707
END:VEVENT
BEGIN:VEVENT
DTSTART;TZID=America/Halifax:20240928T193000
DTEND;TZID=America/Halifax:20240928T220000
DTSTAMP:20260421T121556
CREATED:20240905T162846Z
LAST-MODIFIED:20240905T162846Z
UID:12781-1727551800-1727560800@busstoptheatre.coop
SUMMARY:Anime Cabaret
DESCRIPTION:Aiya Xiaoxin and Elle Lixir have teamed up to present “Anime Cabaret” –a live show that captures everything you love about anime!\nPrepare to see a fabulous line up of nerdy\, outrageous and never-before-seen drag and burlesque performances from our talented cast. We’ll spoil your favorite anime!\nCelebrate anime fandom with us with bumpin’ anime OSTs and opportunities to win fantastic prizes. \nCome as you are or wear a cosplay for photo ops! \n\nPerformances by:\nAiya Xiaoxin\, Hannibal Lickeder\, Izzy Limpwrist\, Kinky Keyda\, The Lady Corbeau\, Mel Manhattan\, Randi E. Rogenous\, Scarlett Rose\, Velvet Orchid\, Vincent St. Grace \nDoors open at 7pm\nShow starts promptly at 7:30pm \nSponsored by: Fandom Plus and Sarah & Tom\nCo-produced by Aiya Xiaoxin and Elle Lixir
URL:https://busstoptheatre.coop/event/anime-cabaret/
LOCATION:The Bus Stop Theatre\, 2203 Gottingen Street\, Halifax\, Nova Scotia\, B3K3B5\, Canada
CATEGORIES:Burlesque,Drag
GEO:44.6531707;-63.585073
X-APPLE-STRUCTURED-LOCATION;VALUE=URI;X-ADDRESS=The Bus Stop Theatre 2203 Gottingen Street Halifax Nova Scotia B3K3B5 Canada;X-APPLE-RADIUS=500;X-TITLE=2203 Gottingen Street:geo:-63.585073,44.6531707
END:VEVENT
END:VCALENDAR