BEGIN:VCALENDAR
VERSION:2.0
PRODID:-//The Bus Stop Theatre - ECPv6.14.2//NONSGML v1.0//EN
CALSCALE:GREGORIAN
METHOD:PUBLISH
X-ORIGINAL-URL:https://busstoptheatre.coop
X-WR-CALDESC:Events for The Bus Stop Theatre
REFRESH-INTERVAL;VALUE=DURATION:PT1H
X-Robots-Tag:noindex
X-PUBLISHED-TTL:PT1H
BEGIN:VTIMEZONE
TZID:America/Halifax
BEGIN:DAYLIGHT
TZOFFSETFROM:-0400
TZOFFSETTO:-0300
TZNAME:ADT
DTSTART:20240310T060000
END:DAYLIGHT
BEGIN:STANDARD
TZOFFSETFROM:-0300
TZOFFSETTO:-0400
TZNAME:AST
DTSTART:20241103T050000
END:STANDARD
END:VTIMEZONE
BEGIN:VEVENT
DTSTART;TZID=America/Halifax:20240113T190000
DTEND;TZID=America/Halifax:20240114T023000
DTSTAMP:20260420T012535
CREATED:20240103T155030Z
LAST-MODIFIED:20240103T173418Z
UID:11922-1705172400-1705199400@busstoptheatre.coop
SUMMARY:Atlantic Burlesque Festival Fundraiser Event
DESCRIPTION:In May of 2024\, Halifax will be hosting the Atlantic Burlesque Festival at the Scotiabank Studio in Neptune Theatre. This exciting event is the first of its kind and aims to spotlight the incredible talent of Burlesque performers in Atlantic Canada\, foster community growth\, and provide networking opportunities with the wider burlesque world. The event is being organized by a brand new non-profit cooperative composed of burlesque performers from throughout the region. On January 13th\, this cooperative will be hosting a fundraising event at the Bus Stop Theatre and promises to be a very big deal!!! They have pulled together talent from every major burlesque company in Halifax (as well as some surprises from away) for one unforgettable night of laughter\, seduction\, joy and celebration of performing art. What a way to start the year!! \nThe night’s itinerary is literally spilling over with amazing performances from the region’s most talented burlesque artists\, a jaw-dropping silent auction featuring a trove of tantalizing treasures\, interactive games\, go-go dancing and more! The night will reach its boiling point with a dance party hosted by DJ Vero and an opportunity to wiggle with the city’s brightest and sparkliest burlesque talent! \nProceeds from tickets\, tips\, auctions and donations are ALL going toward making the Atlantic provinces a leading destination for burlesque! Come out and support your community! \nWhen: 7:30-late\, January 13th\, 2024 \nLive Performances by: Honey de Mele\, Oliver Twisted\, The Lady Corbeau\, Newfound Lad\, Vanessa Buttercup\, Kristyn Green\, Kay Licious\, Kyann Pepper\, Beef Pattie\, Jake Jockerson\, Lumen Lux\, Tiny Orchid\, Aiya Xiaoxin\, and more!! \nAmazing items and services for the silent auction have been donated by this incredible list of sponsors: Atlantic Burlesque Festival\, Neo Novas Burlesque\, Atlantic Boylesque\, Blue Lobster Burlesque\, Crescent Moon Cabaret\, Talent NB\, Lumen Lux\, Lady Corbeau\, Elle Lixir\, Luminous Designs\, Steph Kincade\, Stoo Metz\, Seymour Snaps\, Kyla Nicholle\, Sophie Belliveau\, Custom Curves\, Serpentine Studios\, Unleashed Dance AND MANY MORE TO COME!!!
URL:https://busstoptheatre.coop/event/atlantic-burlesque-festival-fundraiser-event/
LOCATION:The Bus Stop Theatre\, 2203 Gottingen Street\, Halifax\, Nova Scotia\, B3K3B5\, Canada
CATEGORIES:Burlesque,Festival,Fundraiser
GEO:44.6531707;-63.585073
X-APPLE-STRUCTURED-LOCATION;VALUE=URI;X-ADDRESS=The Bus Stop Theatre 2203 Gottingen Street Halifax Nova Scotia B3K3B5 Canada;X-APPLE-RADIUS=500;X-TITLE=2203 Gottingen Street:geo:-63.585073,44.6531707
END:VEVENT
END:VCALENDAR