BEGIN:VCALENDAR
VERSION:2.0
PRODID:-//The Bus Stop Theatre - ECPv6.14.2//NONSGML v1.0//EN
CALSCALE:GREGORIAN
METHOD:PUBLISH
X-WR-CALNAME:The Bus Stop Theatre
X-ORIGINAL-URL:https://busstoptheatre.coop
X-WR-CALDESC:Events for The Bus Stop Theatre
REFRESH-INTERVAL;VALUE=DURATION:PT1H
X-Robots-Tag:noindex
X-PUBLISHED-TTL:PT1H
BEGIN:VTIMEZONE
TZID:America/Halifax
BEGIN:DAYLIGHT
TZOFFSETFROM:-0400
TZOFFSETTO:-0300
TZNAME:ADT
DTSTART:20240310T060000
END:DAYLIGHT
BEGIN:STANDARD
TZOFFSETFROM:-0300
TZOFFSETTO:-0400
TZNAME:AST
DTSTART:20241103T050000
END:STANDARD
END:VTIMEZONE
BEGIN:VEVENT
DTSTART;VALUE=DATE:20240423
DTEND;VALUE=DATE:20240429
DTSTAMP:20260419T145643
CREATED:20240328T175252Z
LAST-MODIFIED:20240328T175655Z
UID:12317-1713830400-1714348799@busstoptheatre.coop
SUMMARY:OutFest
DESCRIPTION:OutFest is the largest Queer theatre festival in Atlantic Canada\, featuring local\, regional\, and national artists. From completed works that have been on tour\, to new and emerging creations\, OutFest continues to provide a platform for Queer artists to create and share their work. \nWe’ve partnered with the folks at Every One Every Day to host an opening night Community Supper. Theatre and Dance performances from our Main and Emerging stage shows will take place at The Bus Stop Theatre. There will be a closing night Music Stage at The Carleton and a Comedy stage at Roxbury Live. \nGrab your tickets today!
URL:https://busstoptheatre.coop/event/outfest/
LOCATION:The Bus Stop Theatre\, 2203 Gottingen Street\, Halifax\, Nova Scotia\, B3K3B5\, Canada
CATEGORIES:Outfest
GEO:44.6531707;-63.585073
X-APPLE-STRUCTURED-LOCATION;VALUE=URI;X-ADDRESS=The Bus Stop Theatre 2203 Gottingen Street Halifax Nova Scotia B3K3B5 Canada;X-APPLE-RADIUS=500;X-TITLE=2203 Gottingen Street:geo:-63.585073,44.6531707
END:VEVENT
BEGIN:VEVENT
DTSTART;TZID=America/Halifax:20240429T183000
DTEND;TZID=America/Halifax:20240429T210000
DTSTAMP:20260419T145643
CREATED:20240429T172805Z
LAST-MODIFIED:20240429T172805Z
UID:12469-1714415400-1714424400@busstoptheatre.coop
SUMMARY:Reel Justice / Animating Justice
DESCRIPTION:Returning for the first time since 2019\, Mayworks is excited to present the Reel Justice program of short films. Showcasing shorts from across Atlantic Canada and the country at large\, this year’s program highlights those who push to create space for themselves in places that often feel hostile or unwelcoming. \nTotal runtime: 65 minutes\n>>Register Here for FREE Childcare\n\nProgram:\nSisterhood Softball by Farhiya Ahmed (7 min) \n \nLacking a dedicated space\, a group of muslim women create their own softball group to play the sport they love\, but feel excluded from. \n\nWhat Do you Think by Brandon Boyd (11 min) \n \nAutistic Haligonians work to create space within the local filmmaking community. \n\nThe Body of My Name 名自字体 by Rosie Choo Pidcock (4 min) \n \nFive Chinese Canadians return to their elementary school to reclaim their names through dance. \n\nBlack Boys Skate Too by Danica Ricamara (6 min) \n \nBlack skaters make a space and culture for themselves. \n\nMiss Campbell: Inuk Teacher by Heather Campbell (15 min) \n \nPart oral history and part visual poem\, Miss Campbell: Inuk Teacher is the story of Evelyn Campbell\, a trailblazer for an Inuit-led educational system in the small community of Rigolet\, Labrador. \n\nSongs of Unama’ki by Dawn Wells and Jeff Miller (22 min) \n \nA look at The Mi’kmaw artists keeping tradional music alive\, and those taking it into the future. \n\nAnimating Justice\nReel Justice will be Followed by a short program offered by the Animation Festival of Halifax (AFX)\nStart time at 8:15 PM | Total runtime: 27 min\n\nOne of Those Families by Stephanie Joline (3 min) \n\nA deeply personal animated short film that brings together the exquisite hand-painted illustrations of Mi’kmaw artist Pauline Young\, the animation expertise of Struan Sutherland\, and the poignant poetry of Rebecca Thomas. \n\nMeet the Creatures by Veronica Dymond (4 min)\nTension arises when an alien brings her human fiancee home to meet the parents. \n\nBorn in a Body by Elliot Ciz and Brody Weaver (10 min)\nA segment from the 60m experimental animated documentary which repositions the trans community as experts of their own lives\, bodies\, and (medical) needs to reconsider liberation and wellbeing. \n\nHadis by Nazrin Aghamaliyeva (10 min) \n\nIn a world ruled by crows and discrimination\, a young girl decides to fight for justice.
URL:https://busstoptheatre.coop/event/reel-justice-animating-justice/
LOCATION:The Bus Stop Theatre\, 2203 Gottingen Street\, Halifax\, Nova Scotia\, B3K3B5\, Canada
CATEGORIES:Festival,Film,Mayworks Halifax
GEO:44.6531707;-63.585073
X-APPLE-STRUCTURED-LOCATION;VALUE=URI;X-ADDRESS=The Bus Stop Theatre 2203 Gottingen Street Halifax Nova Scotia B3K3B5 Canada;X-APPLE-RADIUS=500;X-TITLE=2203 Gottingen Street:geo:-63.585073,44.6531707
END:VEVENT
END:VCALENDAR