BEGIN:VCALENDAR
VERSION:2.0
PRODID:-//The Bus Stop Theatre - ECPv6.14.2//NONSGML v1.0//EN
CALSCALE:GREGORIAN
METHOD:PUBLISH
X-ORIGINAL-URL:https://busstoptheatre.coop
X-WR-CALDESC:Events for The Bus Stop Theatre
REFRESH-INTERVAL;VALUE=DURATION:PT1H
X-Robots-Tag:noindex
X-PUBLISHED-TTL:PT1H
BEGIN:VTIMEZONE
TZID:America/Halifax
BEGIN:DAYLIGHT
TZOFFSETFROM:-0400
TZOFFSETTO:-0300
TZNAME:ADT
DTSTART:20200308T060000
END:DAYLIGHT
BEGIN:STANDARD
TZOFFSETFROM:-0300
TZOFFSETTO:-0400
TZNAME:AST
DTSTART:20201101T050000
END:STANDARD
BEGIN:DAYLIGHT
TZOFFSETFROM:-0400
TZOFFSETTO:-0300
TZNAME:ADT
DTSTART:20210314T060000
END:DAYLIGHT
BEGIN:STANDARD
TZOFFSETFROM:-0300
TZOFFSETTO:-0400
TZNAME:AST
DTSTART:20211107T050000
END:STANDARD
BEGIN:DAYLIGHT
TZOFFSETFROM:-0400
TZOFFSETTO:-0300
TZNAME:ADT
DTSTART:20220313T060000
END:DAYLIGHT
BEGIN:STANDARD
TZOFFSETFROM:-0300
TZOFFSETTO:-0400
TZNAME:AST
DTSTART:20221106T050000
END:STANDARD
BEGIN:DAYLIGHT
TZOFFSETFROM:-0400
TZOFFSETTO:-0300
TZNAME:ADT
DTSTART:20230312T060000
END:DAYLIGHT
BEGIN:STANDARD
TZOFFSETFROM:-0300
TZOFFSETTO:-0400
TZNAME:AST
DTSTART:20231105T050000
END:STANDARD
END:VTIMEZONE
BEGIN:VEVENT
DTSTART;TZID=America/Halifax:20230628T063000
DTEND;TZID=America/Halifax:20230628T213000
DTSTAMP:20260420T112931
CREATED:20230531T140833Z
LAST-MODIFIED:20230531T141119Z
UID:11424-1687933800-1687987800@busstoptheatre.coop
SUMMARY:Art Arena: Dance Battles and Showcase
DESCRIPTION:Art Arena: Dance Battles and Showcase \nThe Bus Stop Theatre’s in-house program StART is partnering with Unity Charity\, Atlantic Breaking Alliance and Breakspace to present our June 28th Showcase and Unity Qualifier Dance Battle! \nThis event will feature performers from the StART Dance Mentorship in addition to a 1v1 Breaking battle and a 1v1 Open Styles battle. Prize money for each category is $250! \nWinners receive top 8 placement at Unity’s MURAL Festival 2v2 dance competition “Show & Prove” happening July 8th \nWarm up at 5:30pm\, Doors at 6pm\, Show 6:30-9:30pm \nClick here to RSVP! \nThank you to our sponsors Canada Council for the Arts\, Arts Nova Scotia and Support4Culture!!
URL:https://busstoptheatre.coop/event/art-arena-dance-battles-and-showcase/
LOCATION:The Bus Stop Theatre\, 2203 Gottingen Street\, Halifax\, Nova Scotia\, B3K3B5\, Canada
CATEGORIES:Art Arena,Dance
ATTACH;FMTTYPE=image/png:https://busstoptheatre.coop/wp-content/uploads/2023/05/Art-Arena2.png
GEO:44.6531707;-63.585073
X-APPLE-STRUCTURED-LOCATION;VALUE=URI;X-ADDRESS=The Bus Stop Theatre 2203 Gottingen Street Halifax Nova Scotia B3K3B5 Canada;X-APPLE-RADIUS=500;X-TITLE=2203 Gottingen Street:geo:-63.585073,44.6531707
END:VEVENT
BEGIN:VEVENT
DTSTART;TZID=America/Halifax:20220424T180000
DTEND;TZID=America/Halifax:20220424T203000
DTSTAMP:20260420T112931
CREATED:20220411T131919Z
LAST-MODIFIED:20220411T131919Z
UID:9177-1650823200-1650832200@busstoptheatre.coop
SUMMARY:Art Arena: Fashion Show
DESCRIPTION:We are excited to present an in person event with three Nova Scotian fashion/ clothing designers. Featuring DB Pearlz Designs\, One Off Dsign and Chokersx Xchains. The vibes are ruthless expression & having faith in the future of fashion! \nAPRIL 24TH 2022\, 6:00PM – 8:30PM \nTickets are on a sliding scale of $10-$20 + tax. \nTickets may be available at the door IF we don’t sell out by then! \nAccessibility note: Wheelchair users can access the space\, but may need some assistance getting into the lobby\, as we may still have the temporary door installed by April 24th 2022. Staff will continue to mask\, and masking/distancing will be strongly encouraged for audience/performers.
URL:https://busstoptheatre.coop/event/art-arena-fashion-show/
LOCATION:The Bus Stop Theatre\, 2203 Gottingen Street\, Halifax\, Nova Scotia\, B3K3B5\, Canada
CATEGORIES:Art Arena,Fashion Show
ATTACH;FMTTYPE=image/jpeg:https://busstoptheatre.coop/wp-content/uploads/2022/04/art-arena.jpg
ORGANIZER;CN="The Bus Stop Theatre Coop":MAILTO:info@thebusstoptheatre.org
GEO:44.6531707;-63.585073
X-APPLE-STRUCTURED-LOCATION;VALUE=URI;X-ADDRESS=The Bus Stop Theatre 2203 Gottingen Street Halifax Nova Scotia B3K3B5 Canada;X-APPLE-RADIUS=500;X-TITLE=2203 Gottingen Street:geo:-63.585073,44.6531707
END:VEVENT
BEGIN:VEVENT
DTSTART;TZID=America/Halifax:20210225T183000
DTEND;TZID=America/Halifax:20210225T183000
DTSTAMP:20260420T112931
CREATED:20210210T153246Z
LAST-MODIFIED:20210210T153340Z
UID:7742-1614277800-1614277800@busstoptheatre.coop
SUMMARY:Art Arena - A Healing Performance Event
DESCRIPTION:This will be an interactive experience for the viewers at home! \nThe intention is soothe and nurture the nervous systems of the viewers. \nThis will happen by an intentional weaving of healing performances with singing bowls\, vocals and interpretive dance. \nYour host @mariah.kundaliniyoga (Mariah Pelley Smith) will be giving an intro to meditation and give you tools to soothe your nervous system and mind during these interesting times. \nYou may be used to the black\, blue and red… we have introduced new colours\, to bring a softness and a slowness in the space. \nThe stage will be white with plants 🌱 😍 \n🐬 The event will be live streamed\, so you will be able to ask questions and interact in real time! \n🐬 We will also be introducing a contest to win some nourishing prizes! \n🐬 We will be introducing the artists and giving tastes to what’s to come over the next few week! \nStay tuned 🐬
URL:https://busstoptheatre.coop/event/art-arena-a-healing-performance-event/
LOCATION:The Bus Stop Theatre\, 2203 Gottingen Street\, Halifax\, Nova Scotia\, B3K3B5\, Canada
CATEGORIES:Art Arena
ATTACH;FMTTYPE=image/png:https://busstoptheatre.coop/wp-content/uploads/2021/02/ART-ARENA-2.png
GEO:44.6531707;-63.585073
X-APPLE-STRUCTURED-LOCATION;VALUE=URI;X-ADDRESS=The Bus Stop Theatre 2203 Gottingen Street Halifax Nova Scotia B3K3B5 Canada;X-APPLE-RADIUS=500;X-TITLE=2203 Gottingen Street:geo:-63.585073,44.6531707
END:VEVENT
BEGIN:VEVENT
DTSTART;TZID=America/Halifax:20201203T130000
DTEND;TZID=America/Halifax:20201203T140000
DTSTAMP:20260420T112931
CREATED:20201110T182725Z
LAST-MODIFIED:20201130T190622Z
UID:7284-1607000400-1607004000@busstoptheatre.coop
SUMMARY:Art Arena: Vol. 2
DESCRIPTION:Get ready for our 2nd Art Arena showcase\, now focused on Youth. We have a very special show prepared for you all!\nPerformances by Eriana Willis\, Morgan Roulston\, Jayden Austin and Wave Lord.\n\n\nDecember 3rd\, 1pm & 7pm\n\n  \nWe will stream on The Bus Stop Theatre Co-op Facebook page: https://www.facebook.com/thebusstoptheatre \n\n\nArt Arena is an opportunity for young artists to have their work showcased in a professional format\, gaining valuable exposure by having their paid performances recorded\, streamed live on the Bus Stop Theatre’s Facebook page\, and posted online. By attending our free live streaming event\, you can show your support for these talented young creators and contribute to a culture where young artists’ self-expression is celebrated and empowered. Help our young participants build a foundation of confidence and joy in their work\, while you get to enjoy an inspiring afternoon of sound and movement! The second Art Arena will livestream online on Dec. 3rd at 1pm and 7pm. \nWe are grateful for support from the Canada Council for the Arts\, the province of Nova Scotia and iNova Credit Union.
URL:https://busstoptheatre.coop/event/art-arena-vol-2/
LOCATION:The Bus Stop Theatre\, 2203 Gottingen Street\, Halifax\, Nova Scotia\, B3K3B5\, Canada
CATEGORIES:Art Arena
ATTACH;FMTTYPE=image/png:https://busstoptheatre.coop/wp-content/uploads/2020/11/Art-Arena-FB-Cover-5.png
ORGANIZER;CN="The Bus Stop Theatre Coop":MAILTO:info@thebusstoptheatre.org
GEO:44.6531707;-63.585073
X-APPLE-STRUCTURED-LOCATION;VALUE=URI;X-ADDRESS=The Bus Stop Theatre 2203 Gottingen Street Halifax Nova Scotia B3K3B5 Canada;X-APPLE-RADIUS=500;X-TITLE=2203 Gottingen Street:geo:-63.585073,44.6531707
END:VEVENT
BEGIN:VEVENT
DTSTART;TZID=America/Halifax:20200925T190000
DTEND;TZID=America/Halifax:20200925T210000
DTSTAMP:20260420T112931
CREATED:20200917T143430Z
LAST-MODIFIED:20200923T193612Z
UID:7035-1601060400-1601067600@busstoptheatre.coop
SUMMARY:Art Arena! - BIPOC Femmes
DESCRIPTION:Launching a new initiative of the Bus Stop Theatre Co-op!! \nWe will be capturing the live performances of the selected artists and streaming it live on the 25th of September! We will stream on The Bus Stop Theatre Co-op page\, the Artist’s Pages and right here!\nThis allows the artists to still be seen by many eyes\, on many platforms!\nThis allows the artists to have access to the raw and edited content after their show!\n——-\nTHE ARTISTS:\nNat Chantel (NAT CHANTEL)\nThemes of home\, silence; containment and belonging recur in the body of my art. Through subtle movements and repeated actions\, I explore repercussions of contact and it’s relationship to being silenced\, with the intention to give space for connection and healing.\nAs an interdisciplinary artist\, my medium of expression changes\, yet\, the context remains familiar and focused on recalling voice. Trauma from the erasure of body and self\, and the conditions surrounding distortions in identity are addressed to show how communication alters and imprints our sense of self-worth.\n\nhttp://www.natchantel.com\ninstagram.com/nat.chantelle\n————\nERIANA WILLIS\nEriana was born and raised in Dartmouth Nova Scotia\, with strong family roots in North Preston where her love for singing began at the age of 7. Some of her performances include singing the National Anthem and the Black National Anthem (Lift Every Voice) for the Provincial Launch of African Heritage Month 2018\, the RCMP “H” division\, and the Viola Desmond $10 bill launch at the Black Cultural Centre.\nEriana has also played in numerous musical theatre productions including\, “The Wiz” (2016) at the Rebecca Cohn theatre “From Broadway With Love” (2017) in Las Vegas\, Nevada\, and “Descendents a Musical History Lesson” (2017) by Broadway in the H.O.O.D. Canada. Her most recent performances include singing for the Scotia’s Got Talent fundraiser in the summer of 2018. Eriana is in her second year at Dalhousie University pursuing a Bachelor of Arts degree.\nhttps://www.facebook.com/454733191212217/videos/541533573225839\nIG: Eriana Willis\n———–\nMayumi Lashbrook\nMy main titles as a creator include: Co-Artistic Director\, Choreographer\, Dancer\, Dance Educator\, and Arts Administrator. Creatively\, I aim with my work to leave the audience with a rich and lasting experience that explores possibilities of beauty\, finite detail and raw elegance. I create as a means to find connection\, commonality and vulnerability in others. I’m most interested in movement that is fluid\, powerful\, delicate\, weighted\, intricate\, agile and impactful. I choose dance as my medium as I see it as a unique\, powerful and universal language. It speaks to the kinesthetic and somatic intelligence that all humans have. In the dance I explore\, I emphasize this inherent intelligence through the power of breath\, emotion\, thought and gaze. I offer movement language spoken by all that incites visceral and lasting internal sensations. I thrive in close physical proximity to access optimal internal intimacy; fourth wall breaking\, site-specific and film/camera. My current creative energy is focused on accessing my personal history as a means to find belonging and acceptance of self.\nFB/IG: mayumi.movement\nFB/IG: Aeris Körper\nwww.aeriskorper.com (website)\n———–\nMoneesha Bakshi\n“Misha” Bakshi is a bisexual indian performer for Stage\, Film\, and Voiceover. Originally from Tennessee\, Misha is currently a 4th year student at the Fountain School of Performing Arts\, where she studies Acting as part of her master plan to become a C-list celebrity. A Proud LGBT Woman of Color\, Misha strives to make art that reflects the lived experiences of herself and other marginalized people.”\nhttps://mishasvoices.wixsite.com/mishasvoice\nTwitter: @MishasVoice\nIn:@SuccubiQueen
URL:https://busstoptheatre.coop/event/art-arena-bipoc-femme-non-binary-trans-artists/
LOCATION:The Bus Stop Theatre\, 2203 Gottingen Street\, Halifax\, Nova Scotia\, B3K3B5\, Canada
CATEGORIES:Art Arena
ATTACH;FMTTYPE=image/png:https://busstoptheatre.coop/wp-content/uploads/2020/09/POSTer.png
ORGANIZER;CN="The Bus Stop Theatre Coop":MAILTO:info@thebusstoptheatre.org
GEO:44.6531707;-63.585073
X-APPLE-STRUCTURED-LOCATION;VALUE=URI;X-ADDRESS=The Bus Stop Theatre 2203 Gottingen Street Halifax Nova Scotia B3K3B5 Canada;X-APPLE-RADIUS=500;X-TITLE=2203 Gottingen Street:geo:-63.585073,44.6531707
END:VEVENT
END:VCALENDAR