BEGIN:VCALENDAR
VERSION:2.0
PRODID:-//The Bus Stop Theatre - ECPv6.14.2//NONSGML v1.0//EN
CALSCALE:GREGORIAN
METHOD:PUBLISH
X-WR-CALNAME:The Bus Stop Theatre
X-ORIGINAL-URL:https://busstoptheatre.coop
X-WR-CALDESC:Events for The Bus Stop Theatre
REFRESH-INTERVAL;VALUE=DURATION:PT1H
X-Robots-Tag:noindex
X-PUBLISHED-TTL:PT1H
BEGIN:VTIMEZONE
TZID:America/Halifax
BEGIN:DAYLIGHT
TZOFFSETFROM:-0400
TZOFFSETTO:-0300
TZNAME:ADT
DTSTART:20200308T060000
END:DAYLIGHT
BEGIN:STANDARD
TZOFFSETFROM:-0300
TZOFFSETTO:-0400
TZNAME:AST
DTSTART:20201101T050000
END:STANDARD
BEGIN:DAYLIGHT
TZOFFSETFROM:-0400
TZOFFSETTO:-0300
TZNAME:ADT
DTSTART:20210314T060000
END:DAYLIGHT
BEGIN:STANDARD
TZOFFSETFROM:-0300
TZOFFSETTO:-0400
TZNAME:AST
DTSTART:20211107T050000
END:STANDARD
END:VTIMEZONE
BEGIN:VEVENT
DTSTART;TZID=America/Halifax:20211014T190000
DTEND;TZID=America/Halifax:20211014T210000
DTSTAMP:20260420T151652
CREATED:20211008T015816Z
LAST-MODIFIED:20211008T021632Z
UID:8694-1634238000-1634245200@busstoptheatre.coop
SUMMARY:Francofest 2021: Spectacle d'humour
DESCRIPTION:En ouverture du Francofest\, venez profiter d’une soirée humour présentée par Hughie Batherson au Bus Stop Theatre. À l’affiche: Sinem Kara\, Line Woods et Yves Doucet. Vous pourrez aussi profiter du bar tout au long de la soirée. \nOuverture des portes à 18h30. \n– \nAt the opening of Francofest\, come and enjoy an evening of humour presented by Hughie Batherson at the Bus Stop Theatre. On the bill: Sinem Kara\, Line Woods and Yves Doucet. You can also enjoy the bar throughout the evening. \nDoors open at 6.30 p.m. \nRun Time: 2 Hours
URL:https://busstoptheatre.coop/event/francofest-2021-spectacle-dhumour/
LOCATION:The Bus Stop Theatre\, 2203 Gottingen Street\, Halifax\, Nova Scotia\, B3K3B5\, Canada
CATEGORIES:Comedy & Improv,Festival,Francofest
ATTACH;FMTTYPE=image/jpeg:https://busstoptheatre.coop/wp-content/uploads/2021/10/Spectacle-Humour-1.jpg
GEO:44.6531707;-63.585073
X-APPLE-STRUCTURED-LOCATION;VALUE=URI;X-ADDRESS=The Bus Stop Theatre 2203 Gottingen Street Halifax Nova Scotia B3K3B5 Canada;X-APPLE-RADIUS=500;X-TITLE=2203 Gottingen Street:geo:-63.585073,44.6531707
END:VEVENT
BEGIN:VEVENT
DTSTART;TZID=America/Halifax:20201107T133000
DTEND;TZID=America/Halifax:20201107T143000
DTSTAMP:20260420T151652
CREATED:20201102T170205Z
LAST-MODIFIED:20201102T170205Z
UID:7255-1604755800-1604759400@busstoptheatre.coop
SUMMARY:Francofest: animation avec Fabien Melanson
DESCRIPTION:Dans le cadre de la \nFrancofest\nà Halifax\, assistez à une animation familiale gratuite\, donnée par Fabien Melanson\, autour de son prochain album pour enfants intitulé Petit Pico\, illustré par Nathasha Pilotte. \n\nL’événement aura lieu en personne à \nThe Bus Stop Theatre Co-op\nà Halifax\, et en direct sur les pages Facebook de la Francofest et de Bouton d’or Acadie\, le samedi 7 novembre à 13h30. \nBasé à Halifax\, en Nouvelle-Écosse\, Fabien Melanson a travaillé\ndans le milieu de la télévision\, des relations publiques\, de la radio et du théâtre. En 2015 il a fondé Les Productions du 4e Mur pour produire et réaliser son premier documentaire\, En Français S.V.P.\nIl se consacre maintenant au développement de ses propres projets de télévision et de films. Petit Pico est son premier album jeunesse.
URL:https://busstoptheatre.coop/event/francofest-animation-avec-fabien-melanson/
LOCATION:The Bus Stop Theatre\, 2203 Gottingen Street\, Halifax\, Nova Scotia\, B3K3B5\, Canada
CATEGORIES:Book Launch,Festival,Francofest,Francophone
ATTACH;FMTTYPE=image/jpeg:https://busstoptheatre.coop/wp-content/uploads/2020/11/122745954_3787477444604184_5504275964451861619_o.jpg
GEO:44.6531707;-63.585073
X-APPLE-STRUCTURED-LOCATION;VALUE=URI;X-ADDRESS=The Bus Stop Theatre 2203 Gottingen Street Halifax Nova Scotia B3K3B5 Canada;X-APPLE-RADIUS=500;X-TITLE=2203 Gottingen Street:geo:-63.585073,44.6531707
END:VEVENT
BEGIN:VEVENT
DTSTART;TZID=America/Halifax:20201106T190000
DTEND;TZID=America/Halifax:20201106T210000
DTSTAMP:20260420T151652
CREATED:20201102T165834Z
LAST-MODIFIED:20201102T165834Z
UID:7252-1604689200-1604696400@busstoptheatre.coop
SUMMARY:Court-toujours
DESCRIPTION:Enregistrement | Registration\n \n-GRATUIT-\n \nCourt-toujours revient pour sa seconde édition ! Court-toujours est un concours de court-métrages qui se déroule en 48 H. Le vendredi soir\, le thème sera annoncé et ensuite les participants disposent de deux jours pour écrire\, tourner et monter un film qu’ils devront impérativement remettre 48 h après le lancement du concours. Le dimanche soir\, toutes les équipes assistent à la projection des films ainsi qu’à la remise des prix ! Note: Les films doivent durer entre 1 et 4 minutes et ils doivent inclure au moins 51 % de dialogues en français.\n \nCette année\, notre seconde édition se tiendra en format présentiel et virtuel. Retrouvez-nous sur la page Facebook du Francofest pour assister en direct à nos cérémonies.\n \n4 prix à remporter\n– Prix du public UnisTV 250 $ + panier cadeau\n– Prix de la meilleure réalisation : Carte de membre de la Atlantic Filmmakers Cooperative (AFCOOP) pour les membres de l’équipe gagnante\n– Prix Québec Cinéma du meilleur montage\n– Prix jeunesse avec la Fédération des parents acadiens de la Nouvelle-Écosse (FPANE) d’une valeur de 500 $. Le prix jeunesse récompense une équipe d’étudiants entre la 7e et 12e année.\n \nInscrivez votre équipe ici avant le mercredi 4 novembre 2020: https://forms.office.com/Pages/ResponsePage.aspx… Une fois enregistrée\, l’équipe de Court-toujours entrera en contact avec vous.\n \nVendredi 6 novembre à 19 h (Bus Stop Theatre\, 2203 rue Gottingen\, Halifax\nParticipez à la soirée d’ouverture de l’événement Court-toujours.Venez présenter votre équipe et recevez le thème des courts-métrages à réaliser ! La cérémonie d’ouverture sera en collaboration avec Ryan Doucette qui nous présentera sa série « le sens du Punch ». Une session « question-réponse » s’en suivra. Les équipes jeunesse sont invitées à rester par la suite\, pour un atelier de deux heures sur la rédaction de scénario.\nAttention : nombre de places en présentiel sont très limitées\, les premiers inscrits seront les premiers invités.\n \nDimanche 8 novembre à 18 h (Cineplex\, 5657 rue Spring Garden\, Halifax)\n18 h – Ouverture des portes (attention nombre de places limitées)\n18 h 30 – Venez encourager les jeunes pousses du cinéma en participant au visionnement des courts-métrages\, au vote du public (qui verra attribué un prix à l’équipe ayant reçu le plus de votes) et célébrer le cinéma à Halifax !\n19h – Projection d’un film en partenariat avec Québec Cinéma\n \n-FREE-\n \nCourt-toujours is a short film contest where participants will have 48 hours to make a movie. On Friday night\, the contest theme will be announced and contestants will have 48 hours to get creative. On Sunday\, all of the team’s creations will be presented and an award ceremony will follow. Note: Movies have to be between 1 and 4 minutes and they must contain 51% French dialogue.\n \nThis year you will be able to participate physically or virtually. You can watch all the events on our Facebook page “Francofest”.\n \n4 prizes to win\n– Public Choice with UnisTV : 250$ + a gift basket\n– Best Production: An Atlantic Filmmakers Cooperative (AFCOOP) membership for each member of the winning team\n– Best Editing with Quebec CInéma\n– Youth Prize with la Fédération des parents acadien de la Nouvelle-Écosse (FPANE)\n \nRegister your team here before Wednesday\, November 4th 2020 :\nhttps://forms.office.com/Pages/ResponsePage.aspx… Once registered you will be contacted by the Court-toujours team.\n \nFriday Nov. 6 th at 7 :00 PM (Bus Stop Theatre\, 2203 Gottingen st\, Halifax)\nCome to the opening night of “Court-toujours” where competing teams will be introduced and the contest theme will be revealed. This ceremony will be followed by presentation and discussion with Ryan Doucette\, director of ‘le sens du Punch’ director. Youth teams are invited to stay afterwards for a 2 hours workshop on script writing.\nImportant: In-person seating is very limited. Seating will be attributed according to registration time.\n \nSunday\, Nov.6th at 6:30 PM (Park Lane Cineplex\, 5657 Spring Garden rd\, Halifax)\n6pm – Doors open (limited seating)\n6:30pm – Come support the work of all the teams and vote for your favorite short film.\n7pm – Film screening in partnership with Québec Cinéma
URL:https://busstoptheatre.coop/event/court-toujours/
LOCATION:The Bus Stop Theatre\, 2203 Gottingen Street\, Halifax\, Nova Scotia\, B3K3B5\, Canada
CATEGORIES:Festival,Film,Francofest,Francophone
ATTACH;FMTTYPE=image/jpeg:https://busstoptheatre.coop/wp-content/uploads/2020/11/122785476_3761552460542862_8036051847591898866_o.jpg
GEO:44.6531707;-63.585073
X-APPLE-STRUCTURED-LOCATION;VALUE=URI;X-ADDRESS=The Bus Stop Theatre 2203 Gottingen Street Halifax Nova Scotia B3K3B5 Canada;X-APPLE-RADIUS=500;X-TITLE=2203 Gottingen Street:geo:-63.585073,44.6531707
END:VEVENT
BEGIN:VEVENT
DTSTART;TZID=America/Halifax:20201104T190000
DTEND;TZID=America/Halifax:20201104T210000
DTSTAMP:20260420T151652
CREATED:20201026T175504Z
LAST-MODIFIED:20201026T175608Z
UID:7243-1604516400-1604523600@busstoptheatre.coop
SUMMARY:Paint Night avec Karine " Bob Ross" Lahaie
DESCRIPTION:Venez apprendre les techniques de Karine “Ross”\, notre sosie officiel de Bob Ross\, et réaliser votre plus belle œuvre d’art! Nous fournissons tout le matériel (toile\, peinture\, pinceaux\, papier…)\, et une boisson est aussi compris dans le tarif.   \nLe port du masque est obligatoire lors de tout déplacement dans le Bus Stop Theatre.  \nBillets
URL:https://busstoptheatre.coop/event/paint-night-avec-karine-bob-ross-lahaie/
LOCATION:The Bus Stop Theatre\, 2203 Gottingen Street\, Halifax\, Nova Scotia\, B3K3B5\, Canada
CATEGORIES:Festival,Francofest,Francophone
ATTACH;FMTTYPE=image/jpeg:https://busstoptheatre.coop/wp-content/uploads/2020/10/122173346_3747044101993698_1412459479529025820_o.jpg
GEO:44.6531707;-63.585073
X-APPLE-STRUCTURED-LOCATION;VALUE=URI;X-ADDRESS=The Bus Stop Theatre 2203 Gottingen Street Halifax Nova Scotia B3K3B5 Canada;X-APPLE-RADIUS=500;X-TITLE=2203 Gottingen Street:geo:-63.585073,44.6531707
END:VEVENT
END:VCALENDAR