BEGIN:VCALENDAR
VERSION:2.0
PRODID:-//The Bus Stop Theatre - ECPv6.14.2//NONSGML v1.0//EN
CALSCALE:GREGORIAN
METHOD:PUBLISH
X-ORIGINAL-URL:https://busstoptheatre.coop
X-WR-CALDESC:Events for The Bus Stop Theatre
REFRESH-INTERVAL;VALUE=DURATION:PT1H
X-Robots-Tag:noindex
X-PUBLISHED-TTL:PT1H
BEGIN:VTIMEZONE
TZID:America/Halifax
BEGIN:DAYLIGHT
TZOFFSETFROM:-0400
TZOFFSETTO:-0300
TZNAME:ADT
DTSTART:20260308T060000
END:DAYLIGHT
BEGIN:STANDARD
TZOFFSETFROM:-0300
TZOFFSETTO:-0400
TZNAME:AST
DTSTART:20261101T050000
END:STANDARD
END:VTIMEZONE
BEGIN:VEVENT
DTSTART;VALUE=DATE:20260115
DTEND;VALUE=DATE:20260119
DTSTAMP:20260423T085235
CREATED:20251211T155858Z
LAST-MODIFIED:20251211T161027Z
UID:13808-1768435200-1768780799@busstoptheatre.coop
SUMMARY:ReFringed
DESCRIPTION:To celebrate the launch of our 2026 Festival Applications on January 15th\, the Halifax Fringe presents…REFRINGED\, January 15th to 18th\, 2026\, at the Bus Stop Theatre Co-op (2203 Gottingen Street). Three hit plays from the 2025 Halifax Fringe are back\, along with a workshop on How to Apply to the Halifax Fringe! \nTickets to individual performances are $15 (taxes and fees included). See all three shows for $40.50 (taxes and fees included). Discount applies automatically in the online shopping cart. Tickets must be purchased in a single transaction to receive the discount. Tickets are non-refundable. \n  \nWhat Will You Be? by Kaitlyn Thompkins (40 minutes) \nJanuary 15th\, 16th\, and 17th at 7:00 PM \nJanuary 17th and 18th at 1:00 PM \nStarring Mae Rafuse and Michael Kamras \nDirected by Kaitlyn Thompkins \nStage Managed by Mia Larche \n2025 Halifax Fringe Awards: Second Life Award\, Outstanding Direction\, Outstanding \nPerformance\, Outstanding Original Script\, Neptune Theatre Windsor Studio Hot Ticket \nMeet Ava: a lost\, confused\, 21-year-old university dropout who sits around in her childhood home wondering why she is here and what she will become. After being lovingly shoved by her mother\, she sits down with an agent of TruePath: a company that\, with the help of a foolproof test and a little magic\, can lead you to what you should be doing with your life. Throughout a grueling process of filling out a ten part questionnaire\, she is forced to bare her soul and figure out what she should be when she grows up\, and why that question is so difficult to answer. \n  \nDead Man Walking by Emma Lamont (50 minutes) \nJanuary 15th\, 16th\, and 17th at 8:00 PM \nJanuary 17th and 18th at 2:00 PM \nStarring Daniel Nwobi \nDirected by Emma Lamont \nAssistant Directed by Tip Finless \nSound Design by Dylan Hay \nLighting and Set Design by Thunder Defayette \nDramaturgy by Dan Bray \n2025 Halifax Fringe Awards: Outstanding Performance\, Outstanding Original Script\, Outstanding Drama \nScott is an adrenaline-seeking storm chaser pursuing an approaching storm\, but this one is unlike anything he’s seen before. Something deeply strange is coming for Jarrell\, Texas. \n  \nHOW TO KNIT by Lee-Anne Poole (60 minutes) \nJanuary 15th\, 16th\, and 17th at 9:30 PM \nJanuary 17th and 18th at 3:30 PM \nStarring Lee-Anne Poole \nDirection and Dramaturgy by Stephanie MacDonald \nA semi-autobiographical account of the family you have\, the family you make\, and knitting. This is a new work in development. This is a piece of textile art. This is a workshop. This is a play. \n  \nHow to Apply to the Halifax Fringe \nFestival Director Jake Planinc and Managing Director Blaze Fraser are holding two workshops on applying to the Halifax Fringe in 2026\, including an overview of the festival’s new application platform\, Eventotron. The workshops are free and will be hosted in the Bus Stop Theatre’s lobby on January 17th and 18th\, from 10:00 AM to 11:00 AM. Registration is required. Planinc and Fraser will be available for questions in person and via email during ReFringed.
URL:https://busstoptheatre.coop/event/refringed/
LOCATION:The Bus Stop Theatre\, 2203 Gottingen Street\, Halifax\, Nova Scotia\, B3K3B5\, Canada
CATEGORIES:Halifax Fringe,Theatre
GEO:44.6531707;-63.585073
X-APPLE-STRUCTURED-LOCATION;VALUE=URI;X-ADDRESS=The Bus Stop Theatre 2203 Gottingen Street Halifax Nova Scotia B3K3B5 Canada;X-APPLE-RADIUS=500;X-TITLE=2203 Gottingen Street:geo:-63.585073,44.6531707
END:VEVENT
END:VCALENDAR