BEGIN:VCALENDAR
VERSION:2.0
PRODID:-//The Bus Stop Theatre - ECPv6.14.2//NONSGML v1.0//EN
CALSCALE:GREGORIAN
METHOD:PUBLISH
X-ORIGINAL-URL:https://busstoptheatre.coop
X-WR-CALDESC:Events for The Bus Stop Theatre
REFRESH-INTERVAL;VALUE=DURATION:PT1H
X-Robots-Tag:noindex
X-PUBLISHED-TTL:PT1H
BEGIN:VTIMEZONE
TZID:America/Halifax
BEGIN:DAYLIGHT
TZOFFSETFROM:-0400
TZOFFSETTO:-0300
TZNAME:ADT
DTSTART:20180311T060000
END:DAYLIGHT
BEGIN:STANDARD
TZOFFSETFROM:-0300
TZOFFSETTO:-0400
TZNAME:AST
DTSTART:20181104T050000
END:STANDARD
BEGIN:DAYLIGHT
TZOFFSETFROM:-0400
TZOFFSETTO:-0300
TZNAME:ADT
DTSTART:20190310T060000
END:DAYLIGHT
BEGIN:STANDARD
TZOFFSETFROM:-0300
TZOFFSETTO:-0400
TZNAME:AST
DTSTART:20191103T050000
END:STANDARD
BEGIN:DAYLIGHT
TZOFFSETFROM:-0400
TZOFFSETTO:-0300
TZNAME:ADT
DTSTART:20200308T060000
END:DAYLIGHT
BEGIN:STANDARD
TZOFFSETFROM:-0300
TZOFFSETTO:-0400
TZNAME:AST
DTSTART:20201101T050000
END:STANDARD
BEGIN:DAYLIGHT
TZOFFSETFROM:-0400
TZOFFSETTO:-0300
TZNAME:ADT
DTSTART:20210314T060000
END:DAYLIGHT
BEGIN:STANDARD
TZOFFSETFROM:-0300
TZOFFSETTO:-0400
TZNAME:AST
DTSTART:20211107T050000
END:STANDARD
BEGIN:DAYLIGHT
TZOFFSETFROM:-0400
TZOFFSETTO:-0300
TZNAME:ADT
DTSTART:20220313T060000
END:DAYLIGHT
BEGIN:STANDARD
TZOFFSETFROM:-0300
TZOFFSETTO:-0400
TZNAME:AST
DTSTART:20221106T050000
END:STANDARD
BEGIN:DAYLIGHT
TZOFFSETFROM:-0400
TZOFFSETTO:-0300
TZNAME:ADT
DTSTART:20230312T060000
END:DAYLIGHT
BEGIN:STANDARD
TZOFFSETFROM:-0300
TZOFFSETTO:-0400
TZNAME:AST
DTSTART:20231105T050000
END:STANDARD
BEGIN:DAYLIGHT
TZOFFSETFROM:-0400
TZOFFSETTO:-0300
TZNAME:ADT
DTSTART:20240310T060000
END:DAYLIGHT
BEGIN:STANDARD
TZOFFSETFROM:-0300
TZOFFSETTO:-0400
TZNAME:AST
DTSTART:20241103T050000
END:STANDARD
END:VTIMEZONE
BEGIN:VEVENT
DTSTART;TZID=America/Halifax:20240529T183000
DTEND;TZID=America/Halifax:20240601T230000
DTSTAMP:20260423T175558
CREATED:20240508T195730Z
LAST-MODIFIED:20240508T195730Z
UID:12514-1717007400-1717282800@busstoptheatre.coop
SUMMARY:Halifax Independent Filmmakers Festival
DESCRIPTION:The 18th annual Halifax Independent Filmmakers Festival takes place May 29-June 1. Join us for four days of boundary-pushing cinema from Canada and around the world\, filmmaker Q+As\, and more! Films this year include Vera Drew’s subversive satire THE PEOPLE’s JOKER; Sean Price William’s THE SWEET EAST\, the Palestinian drama FORAGERS\, a retrospective of the work of LULU KEATING\, and the ever-popular ATLANTIC AUTEURS shorts program. A festival pass is just $35 for AFCOOP members ($45 general). Check out the full program and buy advance tickets at hiff.ca.
URL:https://busstoptheatre.coop/event/halifax-independent-filmmakers-festival/
LOCATION:The Bus Stop Theatre\, 2203 Gottingen Street\, Halifax\, Nova Scotia\, B3K3B5\, Canada
CATEGORIES:Festival,Film,Halifax Independent Film Festival
GEO:44.6531707;-63.585073
X-APPLE-STRUCTURED-LOCATION;VALUE=URI;X-ADDRESS=The Bus Stop Theatre 2203 Gottingen Street Halifax Nova Scotia B3K3B5 Canada;X-APPLE-RADIUS=500;X-TITLE=2203 Gottingen Street:geo:-63.585073,44.6531707
END:VEVENT
BEGIN:VEVENT
DTSTART;TZID=America/Halifax:20180607T210000
DTEND;TZID=America/Halifax:20180607T223000
DTSTAMP:20260423T175558
CREATED:20180604T142628Z
LAST-MODIFIED:20180604T142628Z
UID:4767-1528405200-1528410600@busstoptheatre.coop
SUMMARY:Lindsay McIntyre - Screening and Expanded Cinema Performance
DESCRIPTION:her silent life. + analogue film performance || Lindsay McIntyre\nExpanded Cinema || Canada || 2012-2018 || 50 MIN\nThursday June 7 || 9 PM || Bus Stop Theatre || $5 \nher silent life.\nThree generations of women are revealed in this intuitive journey into one family’s past. Crafting together analogue film techniques with personal interview\, director Lindsay McIntyre creates an impressionistic exploration of her mixed Inuit heritage and the controversies surrounding her ancestry. (ImagineNATIVE) \nThe screening of her silent life will be followed by a 16mm film performance. A Q&A with Lindsay will follow the performance. \nWhile Lindsay has been in Halifax\, she has been mentoring two local artists\, Rena Thomas and Melissa Mckay. They will present the work they have been creating under Lindsay’s guidance at this event. \nI’ll Meet You There by Melissa Mackay\nA meditation on death and its effect on those still living. Made using analog materials and subjected to processes of degradation mirroring that of the body as it ages\, dies\, and decays. \nWaning into by Rena Thomas\ntrace the lines of my skin with stones\nmark clay with my imprint\nwhat water holds all of me?\nhow can I do the holding?\ncarve the land with\nmoonlit memories\nof the bay \nthis\nis the tangible object\nof that long and delicate process \n*** Please join us at AFCOOP (5663 Cornwallis Street\, Suite 101) following this event for the official HIFF 2018 Party. Free\, open to passholders and the public. \nAbout Lindsay McIntyre\nLindsay McIntyre is a film artist from Edmonton of Inuit/Settler decent. Her process-based practice is largely analog and deals with themes of portraiture\, place\, form and personal histories. Working primarily with 16mm film and experimental\, handmade and documentary techniques\, she also makes her own 16mm film\, hand-coated with silver gelatin emulsion. Interested simultaneously in the apparatus of cinema\, portraiture\, representation and personal histories\, she bridges gaps in collective experience and remains dedicated to integrating theory and practice\, form and content. She was a member of The Double Negative Collective\, the recipient of the Canada Council’s Victor Martyn Lynch-Staunton Award for Excellence in Media Arts for 2013 and a REVEAL Indigenous Arts Award from the Hnatyshyn Foundation in 2017. She holds an MFA in Film Production from Concordia and a BFA in Painting and Drawing from The U of A and currently teaches Film + Screen Arts at Emily Carr University of Art and Design. Lindsay will be in Halifax in May and early June\, taking part in an artist residency through AFCOOP. \nPlease join us at AFCOOP (5663 Cornwallis Street\, Suite 101) following this event for the official HIFF 2018 Party. Free\, open to passholders and the public.
URL:https://busstoptheatre.coop/event/lindsay-mcintyre-screening-and-expanded-cinema-performance/
LOCATION:The Bus Stop Theatre\, 2203 Gottingen Street\, Halifax\, Nova Scotia\, B3K3B5\, Canada
CATEGORIES:Film,Halifax Independent Film Festival
ATTACH;FMTTYPE=image/jpeg:https://busstoptheatre.coop/wp-content/uploads/2018/06/HIFF.jpg
GEO:44.6531707;-63.585073
X-APPLE-STRUCTURED-LOCATION;VALUE=URI;X-ADDRESS=The Bus Stop Theatre 2203 Gottingen Street Halifax Nova Scotia B3K3B5 Canada;X-APPLE-RADIUS=500;X-TITLE=2203 Gottingen Street:geo:-63.585073,44.6531707
END:VEVENT
END:VCALENDAR