BEGIN:VCALENDAR
VERSION:2.0
PRODID:-//The Bus Stop Theatre - ECPv6.14.2//NONSGML v1.0//EN
CALSCALE:GREGORIAN
METHOD:PUBLISH
X-ORIGINAL-URL:https://busstoptheatre.coop
X-WR-CALDESC:Events for The Bus Stop Theatre
REFRESH-INTERVAL;VALUE=DURATION:PT1H
X-Robots-Tag:noindex
X-PUBLISHED-TTL:PT1H
BEGIN:VTIMEZONE
TZID:America/Halifax
BEGIN:DAYLIGHT
TZOFFSETFROM:-0400
TZOFFSETTO:-0300
TZNAME:ADT
DTSTART:20220313T060000
END:DAYLIGHT
BEGIN:STANDARD
TZOFFSETFROM:-0300
TZOFFSETTO:-0400
TZNAME:AST
DTSTART:20221106T050000
END:STANDARD
END:VTIMEZONE
BEGIN:VEVENT
DTSTART;TZID=America/Halifax:20221009T193000
DTEND;TZID=America/Halifax:20221009T210000
DTSTAMP:20260424T232922
CREATED:20220927T152559Z
LAST-MODIFIED:20220927T152559Z
UID:9920-1665343800-1665349200@busstoptheatre.coop
SUMMARY:Prismatic Arts Festival: Djely Tapa
DESCRIPTION:Join Prismatic for a night of music with Djely Tapa\, opening with Sarah’s Land Acknowledgement from the Deep by Sarah Prosper! \nBorn into an illustrious lineage of griots\, Djely Tapa leaves her audience breathless with a repertoire suspended between Sahelian atmospheres\, blues\, and electro. In May 2019\, Djely Tapa was named Révélation Musique du Monde by Radio-Canada and in June 2020\,  her first album Barokan won Best World Music Album at the 2020 Junos. \nDescendante d’une lignée illustre de griots maliens\, la chanteuse Djely Tapa anime la scène avec un répertoire en suspens entre ambiances sahéliennes\, blues et électro. En mai 2019\, Djely Tapa a été nommée Révélation Radio-Canada Musique du Monde et Barokan a été nommé “meilleur album musique du monde” aux Junos 2020.
URL:https://busstoptheatre.coop/event/prismatic-arts-festival-djely-tapa/
LOCATION:The Bus Stop Theatre\, 2203 Gottingen Street\, Halifax\, Nova Scotia\, B3K3B5\, Canada
CATEGORIES:Music,Prismatic
ATTACH;FMTTYPE=image/jpeg:https://busstoptheatre.coop/wp-content/uploads/2022/09/A15B693E-E54E-419A-B6C9-0642ED1DBAD0.jpeg
ORGANIZER;CN="Prismatic Arts Festival":MAILTO:info@onelighttheatre.com
GEO:44.6531707;-63.585073
X-APPLE-STRUCTURED-LOCATION;VALUE=URI;X-ADDRESS=The Bus Stop Theatre 2203 Gottingen Street Halifax Nova Scotia B3K3B5 Canada;X-APPLE-RADIUS=500;X-TITLE=2203 Gottingen Street:geo:-63.585073,44.6531707
END:VEVENT
END:VCALENDAR