BEGIN:VCALENDAR
VERSION:2.0
PRODID:-//The Bus Stop Theatre - ECPv6.14.2//NONSGML v1.0//EN
CALSCALE:GREGORIAN
METHOD:PUBLISH
X-ORIGINAL-URL:https://busstoptheatre.coop
X-WR-CALDESC:Events for The Bus Stop Theatre
REFRESH-INTERVAL;VALUE=DURATION:PT1H
X-Robots-Tag:noindex
X-PUBLISHED-TTL:PT1H
BEGIN:VTIMEZONE
TZID:America/Halifax
BEGIN:DAYLIGHT
TZOFFSETFROM:-0400
TZOFFSETTO:-0300
TZNAME:ADT
DTSTART:20230312T060000
END:DAYLIGHT
BEGIN:STANDARD
TZOFFSETFROM:-0300
TZOFFSETTO:-0400
TZNAME:AST
DTSTART:20231105T050000
END:STANDARD
END:VTIMEZONE
BEGIN:VEVENT
DTSTART;VALUE=DATE:20230929
DTEND;VALUE=DATE:20231007
DTSTAMP:20260423T001533
CREATED:20230803T210808Z
LAST-MODIFIED:20230803T210808Z
UID:11592-1695945600-1696636799@busstoptheatre.coop
SUMMARY:Prismatic Arts Festival
DESCRIPTION:The Prismatic Arts Festival is a national\, multidisciplinary arts festival that showcases and celebrates innovative work by Indigenous artists and artists of colour from across Canada. Based in Kjipuktuk (Halifax\, Nova Scotia)\, Prismatic has been bringing audiences vibrant\, boundary-pushing new works in theatre\, dance\, music\, film\, visual arts\, media arts\, and spoken word since 2008. \nHome \n \n 
URL:https://busstoptheatre.coop/event/prismatic-arts-festival/
LOCATION:The Bus Stop Theatre\, 2203 Gottingen Street\, Halifax\, Nova Scotia\, B3K3B5\, Canada
CATEGORIES:Prismatic
ATTACH;FMTTYPE=image/png:https://busstoptheatre.coop/wp-content/uploads/2023/08/Screenshot-2023-08-03-at-6.04.08-PM.png
ORGANIZER;CN="Prismatic Arts Festival":MAILTO:info@onelighttheatre.com
GEO:44.6531707;-63.585073
X-APPLE-STRUCTURED-LOCATION;VALUE=URI;X-ADDRESS=The Bus Stop Theatre 2203 Gottingen Street Halifax Nova Scotia B3K3B5 Canada;X-APPLE-RADIUS=500;X-TITLE=2203 Gottingen Street:geo:-63.585073,44.6531707
END:VEVENT
END:VCALENDAR