BEGIN:VCALENDAR
VERSION:2.0
PRODID:-//The Bus Stop Theatre - ECPv6.14.2//NONSGML v1.0//EN
CALSCALE:GREGORIAN
METHOD:PUBLISH
X-WR-CALNAME:The Bus Stop Theatre
X-ORIGINAL-URL:https://busstoptheatre.coop
X-WR-CALDESC:Events for The Bus Stop Theatre
REFRESH-INTERVAL;VALUE=DURATION:PT1H
X-Robots-Tag:noindex
X-PUBLISHED-TTL:PT1H
BEGIN:VTIMEZONE
TZID:America/Halifax
BEGIN:DAYLIGHT
TZOFFSETFROM:-0400
TZOFFSETTO:-0300
TZNAME:ADT
DTSTART:20240310T060000
END:DAYLIGHT
BEGIN:STANDARD
TZOFFSETFROM:-0300
TZOFFSETTO:-0400
TZNAME:AST
DTSTART:20241103T050000
END:STANDARD
END:VTIMEZONE
BEGIN:VEVENT
DTSTART;VALUE=DATE:20241010
DTEND;VALUE=DATE:20241013
DTSTAMP:20260421T075102
CREATED:20240927T150040Z
LAST-MODIFIED:20240927T150040Z
UID:12807-1728518400-1728777599@busstoptheatre.coop
SUMMARY:Watch Over Me
DESCRIPTION:A story of resilience told with humour and song\, and memories of growing up in North End Halifax \nAward winning Jazz/Blues/Gospel singer Linda Carvery tells a story filled with humour\, struggles and strength\, and the experiences that made Linda who she is today. \nAfter a successful run in Guysborough during the summer of 2023\, audiences from the Halifax region now have the opportunity to experience Linda’s story. \nWatch Over Me is written and performed by Linda Carvery\, with musical accompaniment by Holly Arsenault and directed by Emmy Alcorn. The creative team includes Stephanie MacDonald (Stage Manager)\, Ryan Rafuse (Lighting Design)\, Janet MacLellan (Set and Costume Design)\, Mary-Colin Chisholm (Dramaturge). \nGeneral admission tickets are available for $25 plus taxes and fees. A number of discounted tickets are available\, for those with limited disposable income. Use code SAVE10
URL:https://busstoptheatre.coop/event/watch-over-me/
LOCATION:The Bus Stop Theatre\, 2203 Gottingen Street\, Halifax\, Nova Scotia\, B3K3B5\, Canada
CATEGORIES:Festival,Prismatic,Theatre
ORGANIZER;CN="Prismatic Arts Festival":MAILTO:info@onelighttheatre.com
GEO:44.6531707;-63.585073
X-APPLE-STRUCTURED-LOCATION;VALUE=URI;X-ADDRESS=The Bus Stop Theatre 2203 Gottingen Street Halifax Nova Scotia B3K3B5 Canada;X-APPLE-RADIUS=500;X-TITLE=2203 Gottingen Street:geo:-63.585073,44.6531707
END:VEVENT
END:VCALENDAR