BEGIN:VCALENDAR
VERSION:2.0
PRODID:-//The Bus Stop Theatre - ECPv6.14.2//NONSGML v1.0//EN
CALSCALE:GREGORIAN
METHOD:PUBLISH
X-WR-CALNAME:The Bus Stop Theatre
X-ORIGINAL-URL:https://busstoptheatre.coop
X-WR-CALDESC:Events for The Bus Stop Theatre
REFRESH-INTERVAL;VALUE=DURATION:PT1H
X-Robots-Tag:noindex
X-PUBLISHED-TTL:PT1H
BEGIN:VTIMEZONE
TZID:America/Halifax
BEGIN:DAYLIGHT
TZOFFSETFROM:-0400
TZOFFSETTO:-0300
TZNAME:ADT
DTSTART:20220313T060000
END:DAYLIGHT
BEGIN:STANDARD
TZOFFSETFROM:-0300
TZOFFSETTO:-0400
TZNAME:AST
DTSTART:20221106T050000
END:STANDARD
END:VTIMEZONE
BEGIN:VEVENT
DTSTART;TZID=America/Halifax:20221021T120000
DTEND;TZID=America/Halifax:20221021T223000
DTSTAMP:20260424T074835
CREATED:20221006T163639Z
LAST-MODIFIED:20221020T153710Z
UID:9918-1666353600-1666391400@busstoptheatre.coop
SUMMARY:Hellifax Horror Fest
DESCRIPTION:Hellifax Genre Film Festival is hosting it’s 3rd Edition this October. Horror\, thriller\, action\, sci-fi…. there’s something for everyone. \n6 Feature Films. 35 Short Films. 1 Hell of a Time! \nFor more information (including full schedule and tickets): www.hellifax.com
URL:https://busstoptheatre.coop/event/hellifax-horror-fest/2022-10-21/
LOCATION:The Bus Stop Theatre\, 2203 Gottingen Street\, Halifax\, Nova Scotia\, B3K3B5\, Canada
CATEGORIES:Film
ATTACH;FMTTYPE=image/jpeg:https://busstoptheatre.coop/wp-content/uploads/2022/10/034BE41F-62F6-4D73-BF92-8781CDA64733.jpeg
GEO:44.6531707;-63.585073
X-APPLE-STRUCTURED-LOCATION;VALUE=URI;X-ADDRESS=The Bus Stop Theatre 2203 Gottingen Street Halifax Nova Scotia B3K3B5 Canada;X-APPLE-RADIUS=500;X-TITLE=2203 Gottingen Street:geo:-63.585073,44.6531707
END:VEVENT
END:VCALENDAR