BEGIN:VCALENDAR
VERSION:2.0
PRODID:-//The Bus Stop Theatre - ECPv6.14.2//NONSGML v1.0//EN
CALSCALE:GREGORIAN
METHOD:PUBLISH
X-WR-CALNAME:The Bus Stop Theatre
X-ORIGINAL-URL:https://busstoptheatre.coop
X-WR-CALDESC:Events for The Bus Stop Theatre
REFRESH-INTERVAL;VALUE=DURATION:PT1H
X-Robots-Tag:noindex
X-PUBLISHED-TTL:PT1H
BEGIN:VTIMEZONE
TZID:America/Halifax
BEGIN:DAYLIGHT
TZOFFSETFROM:-0400
TZOFFSETTO:-0300
TZNAME:ADT
DTSTART:20220313T060000
END:DAYLIGHT
BEGIN:STANDARD
TZOFFSETFROM:-0300
TZOFFSETTO:-0400
TZNAME:AST
DTSTART:20221106T050000
END:STANDARD
END:VTIMEZONE
BEGIN:VEVENT
DTSTART;TZID=America/Halifax:20221110T190000
DTEND;TZID=America/Halifax:20221110T210000
DTSTAMP:20260423T201129
CREATED:20221024T154630Z
LAST-MODIFIED:20221031T135019Z
UID:10130-1668106800-1668114000@busstoptheatre.coop
SUMMARY:The Crevice: Season 1
DESCRIPTION:Rebecca Falvey as Ingrid with Mary Colin Chisholm as Anna. \nEPISODIC ENSEMBLE COMEDY THE CREVICE: SEASON ONE SCREENS NOVEMBER 10 & 11 AT 7pm AT THE BUS STOP THEATRE.  \nAfter the success of its first three-part installment in March 2021\, The Bus Stop Theatre Co-Op’s first in-house production The Crevice is back for a new season! To celebrate and prepare for the upcoming new episodes (in March 2023)\, The Bus Stop will be screening the Director’s Cut of The Crevice: Season One this November 10th and 11th. Come revisit all the heartwarming moments and paranoid delusions of our first season; such as the Crevice FM enacting psychological warfare on a hungover Ingrid\, Anna’s overt suggestion that her British neighbor is a non-British spy\, and Kate’s beautiful rendition of Stardust. \n\nHenri Gielis as Ben on saxophone\, with Sébastien Labelle as David\, Jacob Sampson as Stephen\, and Dan Bray as Henry. \nTickets are $20 with a $10 artist/underwaged option\, available through Side Door Access. There will also be VIP tables of 4 for $100 that include drink tickets and Crevice swag! The Bus Stop Theatre is located at 2203 Gottingen Street. Closed Captioning will be provided at Thursday night’s screening. \n“As an arts journalist in Halifax for 20 years\, you can believe me when I say that the first season of The Crevice is already legendary. It was one of the most ambitious and frankly weirdest things I’ve ever seen come out of this town…Lots of artists here have ambition but the execution often misses the mark; The Crevice was a fully realized vision. Rebecca\, Meg and their team of multidisciplinary artists managed to pull off a technically savvy and resoundingly entertaining hybrid show that was deeply committed to its aesthetic and approach. It remains not just a top highlight of my pandemic entertainment\, but of any endeavour I’ve ever seen here.”  – Tara Thorne
URL:https://busstoptheatre.coop/event/the-crevice-season-1/2022-11-10/
LOCATION:The Bus Stop Theatre\, 2203 Gottingen Street\, Halifax\, Nova Scotia\, B3K3B5\, Canada
CATEGORIES:Film
ATTACH;FMTTYPE=image/png:https://busstoptheatre.coop/wp-content/uploads/2022/10/Screen-Shot-2022-07-06-at-10.50.41-AM.png
GEO:44.6531707;-63.585073
X-APPLE-STRUCTURED-LOCATION;VALUE=URI;X-ADDRESS=The Bus Stop Theatre 2203 Gottingen Street Halifax Nova Scotia B3K3B5 Canada;X-APPLE-RADIUS=500;X-TITLE=2203 Gottingen Street:geo:-63.585073,44.6531707
END:VEVENT
BEGIN:VEVENT
DTSTART;TZID=America/Halifax:20221117T190000
DTEND;TZID=America/Halifax:20221117T203000
DTSTAMP:20260423T201129
CREATED:20221102T124314Z
LAST-MODIFIED:20221102T124314Z
UID:10199-1668711600-1668717000@busstoptheatre.coop
SUMMARY:CLIFF: Canadian Labour International Film Festival with Mayworks
DESCRIPTION:Mayworks Kjipuktuk/Halifax Festival of Working People in the Arts is proud to partner once again with the Canadian Labour International Film Festival for a satellite screening of films from their 16th annual festival. The screening takes place November 17\, 2022\, at the Bus Stop Theatre Co-op. \nThis year we are screening If There is No Struggle (United States) by Jared Katriane\, See Us Come Together (Philippines) by Alyssa Suico\, What Will I Show You? (Canada) by Elie-John Joseph\, Opera Trans*formed (Canada) by Leah Borts-Kuperman & Maria Sarrouh\, The Unmaking of Medical Inadmissibility (Canada) by Laura Bisaillon\, & Kellys (Spain) by Javier Fesser. The screening lasts 62 minutes. \nAdmission by donation. \nTHE FILMS: \nIf There is No Struggle (United States) by Jared Katriane\nA young woman discovers the working class history of her neighbourhood through the lens of a 1965 Canon Scoopic 16mm camera and historical figures via Boston’s public art. She begins an important conversation that needs to continue in the labour movement given the overwhelming right wing ideology and misinformation being spread targeting working class folks.\nThe film title comes from an 1857 Frederick Douglass speech: “If there is no struggle\, there is no progress. Those who profess to favor freedom\, and yet depreciate agitation\, are men who want crops without plowing up the ground. They want rain without thunder and lightning. They want the ocean without the awful roar of its many waters. This struggle may be a moral one; or it may be a physical one; or it may be both moral and physical; but it must be a struggle. Power concedes nothing without a demand. It never did and it never will.” \nSee Us Come Together (Philippines) by Alyssa Suico\nSee Us Come Together is an amateur documentary following the members of the Optodev Workers Union\, tracing their story of forming their union before and during the COVID-19 pandemic.\nWhen factories were forced to close operations due to the COVID-19 pandemic in 2020\, an ophthalmic lens workers’ union ensured mechanisms to protect their workers\, with the ultimate goal of changing the culture of labour in their factory. The documentary brings to focus what is essential to keep a country running in times of crisis. While the pandemic turned the spotlight on essential and frontline workers\, what was essential to the workers of Optodev was their union.\nSubtitled in ENGLISH \nWhat Will I Show You? (Canada) by Elie-John Joseph\nIn the tradition of direct cinema\, What Will I Show You is an intimate documentary in which a grandfather and his grandson discuss the past and future of Innu culture. An important\, first-person film telling the stories of Innu and their culture\, their work\, and the immediate impacts of environmental degradation on their lands.\nThemes of Indigenous learning\, work and way of life. From the Innu nation and residing in the Tiohtià:ke territory since 2006\, Elie-John Joseph has been passionate about cinema since a young age. Self-taught\, he has been practising film photography for several years. \nOpera Trans*formed (Canada) by Leah Borts-Kuperman & Maria Sarrouh\n“If I wasn’t an opera singer\, would I be a trans man?” asks Teiya Kasahara\, a gender non-binary singer\, partway through the film. It’s a dilemma facing gender non-binary and trans singers working in a field whose roles are rigidly defined along gender lines: sopranos and mezzos are cast as women (so-called “trouser roles” aside); tenors and basses as men.\nTeiya Kasahara (they/them) leads a new generation of trans* opera performers\, activists and self-proclaimed “shit-disturbers” making their voices heard–whether the classical music world likes it or not. \nThe Unmaking of Medical Inadmissibility (Canada) by Laura Bisaillon\nHave you ever considered the amount of work it takes to immigrate to Canada? Applying to immigrate is a form of labour: it requires time\, effort\, intention\, skill and money. This film about immigration application work tells the stories of Martha\, Winnie and Stella. As prospective immigrants to Canada\, they are tagged as being “abnormal” (to use the state’s term) through the immigration medical examination and therefore face higher barriers and discrimination during the immigration process.\nThemes include the criminalization of HIV\, and a critical look at the idea of “good immigrants.” \nKellys (Spain) by Javier Fesser\nIn this high quality short\, we glimpse a private conversation between two long-time hotel workers and close friends. But there are always things that are hidden\, even from your best friend.\nSubtitled in ENGLISH
URL:https://busstoptheatre.coop/event/cliff-canadian-labour-international-film-festival-with-mayworks/
LOCATION:The Bus Stop Theatre\, 2203 Gottingen Street\, Halifax\, Nova Scotia\, B3K3B5\, Canada
CATEGORIES:Film
ATTACH;FMTTYPE=image/jpeg:https://busstoptheatre.coop/wp-content/uploads/2022/11/Cliff.jpg
GEO:44.6531707;-63.585073
X-APPLE-STRUCTURED-LOCATION;VALUE=URI;X-ADDRESS=The Bus Stop Theatre 2203 Gottingen Street Halifax Nova Scotia B3K3B5 Canada;X-APPLE-RADIUS=500;X-TITLE=2203 Gottingen Street:geo:-63.585073,44.6531707
END:VEVENT
END:VCALENDAR