BEGIN:VCALENDAR
VERSION:2.0
PRODID:-//The Bus Stop Theatre - ECPv6.14.2//NONSGML v1.0//EN
CALSCALE:GREGORIAN
METHOD:PUBLISH
X-WR-CALNAME:The Bus Stop Theatre
X-ORIGINAL-URL:https://busstoptheatre.coop
X-WR-CALDESC:Events for The Bus Stop Theatre
REFRESH-INTERVAL;VALUE=DURATION:PT1H
X-Robots-Tag:noindex
X-PUBLISHED-TTL:PT1H
BEGIN:VTIMEZONE
TZID:America/Halifax
BEGIN:DAYLIGHT
TZOFFSETFROM:-0400
TZOFFSETTO:-0300
TZNAME:ADT
DTSTART:20230312T060000
END:DAYLIGHT
BEGIN:STANDARD
TZOFFSETFROM:-0300
TZOFFSETTO:-0400
TZNAME:AST
DTSTART:20231105T050000
END:STANDARD
END:VTIMEZONE
BEGIN:VEVENT
DTSTART;TZID=America/Halifax:20230518T183000
DTEND;TZID=America/Halifax:20230518T200000
DTSTAMP:20260423T060708
CREATED:20230418T155556Z
LAST-MODIFIED:20230418T155653Z
UID:11232-1684434600-1684440000@busstoptheatre.coop
SUMMARY:Mayworks presents A More Radiant Sphere
DESCRIPTION:By Sara Wylie\nPresented in partnership with Carbon Arc Cinema\n \nThursday\, May 18th @ 6:30pm \nLocation: Bus Stop Theatre Co-op (2203 Gottingen St) \nDuration: 40 mins followed by a 30 mins Q&A with filmmaker Sara Wylie moderated by MLA Gary Burrill \nTickets: $5/$10/$15 \nBUY TICKETS HERE\n \n[CC] This film will be closed captioned. \nA mid-length hybrid documentary about Joe Wallace: Canadian Communist poet\, political prisoner\, and the filmmaker’’s long lost family member. Shot on 16mm and digital\, featuring original songs by award-winning musician Fiver/Simone Schmidt. \n“Poetry is of a higher order. It sets bells ringing in the mind of the reader so that he makes his own music …” \n \nNearly lost in the annals of Canadian history\, the writings of Joe Wallace—radical believer in socialist ideals\, writer of anti-capitalist verses\, and survivor of detainment by the Canadian government—have been revived by his great-great-niece\, director Sara Wylie. \nSearching through library archives\, family records\, and footage from the early decades of the Canadian settler state\, Wylie assembles the story of Wallace the poet and revolutionary. “The more I began looking for him\, the more I began to see parts of myself reflected\,” she says. His poems are spirited\, forthright and folksy; they recall a time of great political change and opportunity. \nInextricable from Wallace’s life and work is the history of Canada’s labour movement and the increasing involvement of the state in its disruption. A More Radiant Sphere captures a time and a feeling at risk of being erased by Canadian myth\, when the possibility of a world beyond capitalism surged forth into poetry. (Written by Sarah Bakke) \nThe film will be followed by a Q&A with filmmaker Sara Wylie moderated by Gary Burril\, MLA for Halifax Chebucto \n \nFilm Credits: \nDirected\, produced and written by Sara Wylie\nFeaturing Bruce Wallace \nMusic by Simone Schmidt\nWith Nick Dourado on piano\nNathan Doucet on percussion\nJohn Showman on fiddle \nCinematography by Suz Friesen and Sara Wylie\nSound recording by Kellen Jackson and Sara Wylie\nSound mix/edit by Michelle Hwu and Tim Atkins\nColour by Sam Gilling
URL:https://busstoptheatre.coop/event/11232/
LOCATION:The Bus Stop Theatre\, 2203 Gottingen Street\, Halifax\, Nova Scotia\, B3K3B5\, Canada
CATEGORIES:Festival,Film,Mayworks Halifax
ATTACH;FMTTYPE=image/png:https://busstoptheatre.coop/wp-content/uploads/2023/04/AMRS-poster.2png.png
GEO:44.6531707;-63.585073
X-APPLE-STRUCTURED-LOCATION;VALUE=URI;X-ADDRESS=The Bus Stop Theatre 2203 Gottingen Street Halifax Nova Scotia B3K3B5 Canada;X-APPLE-RADIUS=500;X-TITLE=2203 Gottingen Street:geo:-63.585073,44.6531707
END:VEVENT
END:VCALENDAR