BEGIN:VCALENDAR
VERSION:2.0
PRODID:-//The Bus Stop Theatre - ECPv6.14.2//NONSGML v1.0//EN
CALSCALE:GREGORIAN
METHOD:PUBLISH
X-ORIGINAL-URL:https://busstoptheatre.coop
X-WR-CALDESC:Events for The Bus Stop Theatre
REFRESH-INTERVAL;VALUE=DURATION:PT1H
X-Robots-Tag:noindex
X-PUBLISHED-TTL:PT1H
BEGIN:VTIMEZONE
TZID:America/Halifax
BEGIN:DAYLIGHT
TZOFFSETFROM:-0400
TZOFFSETTO:-0300
TZNAME:ADT
DTSTART:20240310T060000
END:DAYLIGHT
BEGIN:STANDARD
TZOFFSETFROM:-0300
TZOFFSETTO:-0400
TZNAME:AST
DTSTART:20241103T050000
END:STANDARD
END:VTIMEZONE
BEGIN:VEVENT
DTSTART;TZID=America/Halifax:20240919T193000
DTEND;TZID=America/Halifax:20240919T220000
DTSTAMP:20260421T112235
CREATED:20240905T153048Z
LAST-MODIFIED:20240905T154729Z
UID:12763-1726774200-1726783200@busstoptheatre.coop
SUMMARY:Deep Cuts Presents: 2 Women Present 3 Women in Memory of 1 Woman
DESCRIPTION:Deep Cuts presents: 2 women present 3 Women in memory of 1 woman – a Shelley Duvall memorial screening of 3 Women by Robert Altman \nJoin curator Lara Lewis and guest co-host Drue Robyn in a tribute screening of Robert Altman’s surreal 1977 classic 3 Women starring Sissy Spacek\, Shelley Duvall\, and at least one other woman. \nSee the film Roger Ebert called “a funny\, satirical\, and sometimes sad study of the community and its people” that turns into “masked sexual horror.” \nShelley Duvall (1949-2024) won the 1977 Cannes Film Festival Award for Best Actress for her work in 3 Women. She was perhaps best known for her role in The Shining and Popeye\, but also for her work with Altman\, as well as for producing and presenting television aimed at young audiences later in her career\, especially Faerie Tale Theatre (1982-87). Hounded by the media and theories about her mental health in her later years\, Duvall died of complications from diabetes in July of this year.
URL:https://busstoptheatre.coop/event/deep-cuts-presents-2-women-present-3-women-in-memory-of-1-woman/
LOCATION:The Bus Stop Theatre\, 2203 Gottingen Street\, Halifax\, Nova Scotia\, B3K3B5\, Canada
CATEGORIES:Film
ORGANIZER;CN="Deep Cuts":MAILTO:watchdeepcuts@gmail.com
GEO:44.6531707;-63.585073
X-APPLE-STRUCTURED-LOCATION;VALUE=URI;X-ADDRESS=The Bus Stop Theatre 2203 Gottingen Street Halifax Nova Scotia B3K3B5 Canada;X-APPLE-RADIUS=500;X-TITLE=2203 Gottingen Street:geo:-63.585073,44.6531707
END:VEVENT
BEGIN:VEVENT
DTSTART;TZID=America/Halifax:20240923T183000
DTEND;TZID=America/Halifax:20240923T203000
DTSTAMP:20260421T112235
CREATED:20240912T214442Z
LAST-MODIFIED:20240912T214442Z
UID:12794-1727116200-1727123400@busstoptheatre.coop
SUMMARY:ReBoot Rewind
DESCRIPTION:Welcome to the premiere screening for the first two episodes of ReBoot ReWind! A documentary series that will take you on a journey back to the 90’s to experience how ReBoot was made\, the groundbreaking successes it had\, and the impact it left behind. From the persistent\, passionate co-creators\, mind-boggling technology\, impressive problem solving and everything in between\, this is your chance to learn about the show that paved the road to the animation we know and love today.\n  \nReBoot is a special show\, made\, cared for and delivered by incredible people. As ReBoot’s 30th anniversary approaches this September\, please join us as we deliver our most sincere love letter to the fans and everyone who made it exceptional. \n  \nTimeline of events: \nIntroduction and thank you from the filmmakers \nMeet the Crew \nEpisode 1 “Money for Something” \nEpisode 2 “Sign Me Up” \nSneak Preview of D1 Footage \nDirectors: Raquel Lin and Jacob Weldon \nRuntime: 120 mins
URL:https://busstoptheatre.coop/event/reboot-rewind/
LOCATION:The Bus Stop Theatre\, 2203 Gottingen Street\, Halifax\, Nova Scotia\, B3K3B5\, Canada
CATEGORIES:Film
GEO:44.6531707;-63.585073
X-APPLE-STRUCTURED-LOCATION;VALUE=URI;X-ADDRESS=The Bus Stop Theatre 2203 Gottingen Street Halifax Nova Scotia B3K3B5 Canada;X-APPLE-RADIUS=500;X-TITLE=2203 Gottingen Street:geo:-63.585073,44.6531707
END:VEVENT
END:VCALENDAR