BEGIN:VCALENDAR
VERSION:2.0
PRODID:-//The Bus Stop Theatre - ECPv6.14.2//NONSGML v1.0//EN
CALSCALE:GREGORIAN
METHOD:PUBLISH
X-ORIGINAL-URL:https://busstoptheatre.coop
X-WR-CALDESC:Events for The Bus Stop Theatre
REFRESH-INTERVAL;VALUE=DURATION:PT1H
X-Robots-Tag:noindex
X-PUBLISHED-TTL:PT1H
BEGIN:VTIMEZONE
TZID:America/Halifax
BEGIN:DAYLIGHT
TZOFFSETFROM:-0400
TZOFFSETTO:-0300
TZNAME:ADT
DTSTART:20250309T060000
END:DAYLIGHT
BEGIN:STANDARD
TZOFFSETFROM:-0300
TZOFFSETTO:-0400
TZNAME:AST
DTSTART:20251102T050000
END:STANDARD
END:VTIMEZONE
BEGIN:VEVENT
DTSTART;TZID=America/Halifax:20250326T190000
DTEND;TZID=America/Halifax:20250326T203000
DTSTAMP:20260420T192218
CREATED:20250323T113248Z
LAST-MODIFIED:20250324T155532Z
UID:13288-1743015600-1743021000@busstoptheatre.coop
SUMMARY:Return to the Falls
DESCRIPTION:Join us for this special screening of Return to the Falls\, a one hour docudrama that tells the life story of Elder Betty Ross. \nAs a girl from Pimicikamak Cree Nation (also known as Cross Lake First Nation)\, she held the sacred teachings of her father like a torch to survive the Indian residential school system. In this film\, you will experience Betty’s journey. Cinematic reenactments bring to life unimaginable hardships and euphoric moments of freedom\, interwoven with present day footage of Betty as she returns to the falls of her childhood for the first time in more than 70 years. \nFollowing the film\, Elder Betty will engage in a Q&A with the audience.
URL:https://busstoptheatre.coop/event/return-to-the-falls/
LOCATION:The Bus Stop Theatre\, 2203 Gottingen Street\, Halifax\, Nova Scotia\, B3K3B5\, Canada
CATEGORIES:Film
GEO:44.6531707;-63.585073
X-APPLE-STRUCTURED-LOCATION;VALUE=URI;X-ADDRESS=The Bus Stop Theatre 2203 Gottingen Street Halifax Nova Scotia B3K3B5 Canada;X-APPLE-RADIUS=500;X-TITLE=2203 Gottingen Street:geo:-63.585073,44.6531707
END:VEVENT
END:VCALENDAR