BEGIN:VCALENDAR
VERSION:2.0
PRODID:-//The Bus Stop Theatre - ECPv6.14.2//NONSGML v1.0//EN
CALSCALE:GREGORIAN
METHOD:PUBLISH
X-WR-CALNAME:The Bus Stop Theatre
X-ORIGINAL-URL:https://busstoptheatre.coop
X-WR-CALDESC:Events for The Bus Stop Theatre
REFRESH-INTERVAL;VALUE=DURATION:PT1H
X-Robots-Tag:noindex
X-PUBLISHED-TTL:PT1H
BEGIN:VTIMEZONE
TZID:America/Halifax
BEGIN:DAYLIGHT
TZOFFSETFROM:-0400
TZOFFSETTO:-0300
TZNAME:ADT
DTSTART:20260308T060000
END:DAYLIGHT
BEGIN:STANDARD
TZOFFSETFROM:-0300
TZOFFSETTO:-0400
TZNAME:AST
DTSTART:20261101T050000
END:STANDARD
END:VTIMEZONE
BEGIN:VEVENT
DTSTART;TZID=America/Halifax:20260524T190000
DTEND;TZID=America/Halifax:20260524T213000
DTSTAMP:20260424T224942
CREATED:20260424T151914Z
LAST-MODIFIED:20260424T151914Z
UID:14243-1779649200-1779658200@busstoptheatre.coop
SUMMARY:CJ The X Lecture: Mommy\, Why Is The Computer Talking
DESCRIPTION:Anyone else notice the screens are staring back at us? Guys…? \nA comedy-philosophy lecture on how tech culture infected the entire world\, and how to recover our trust from the rubble. \nCJ The X is an artist and philosopher based in Toronto\, creating videos\, making music\, and performing live lectures to sold out audiences around the world. Their breathless interdisciplinary approach makes them one of the most unique cultural voices in the internet age\, blending irreverent humour\, sharp intellectualism\, and earnest spirituality. They speak passionately on an eclectic array of subjects interwoven with pop culture and memes\, skewering internet culture\, reimagining our relationship to religion\, and challenging cultural norms. \n\n6:30pm – Doors\n7:00pm – Lecture\n8:15pm – Intermission\n8:30pm – Q&A\n9:15pm – Bar\, Mingle\, Merch
URL:https://busstoptheatre.coop/event/cj-the-x-lecture-mommy-why-is-the-computer-talking/
LOCATION:The Bus Stop Theatre\, 2203 Gottingen Street\, Halifax\, Nova Scotia\, B3K3B5\, Canada
CATEGORIES:Lecture
ATTACH;FMTTYPE=image/jpeg:https://busstoptheatre.coop/wp-content/uploads/2026/04/CJ-The-X-Wide-scaled.jpg
GEO:44.6531707;-63.585073
X-APPLE-STRUCTURED-LOCATION;VALUE=URI;X-ADDRESS=The Bus Stop Theatre 2203 Gottingen Street Halifax Nova Scotia B3K3B5 Canada;X-APPLE-RADIUS=500;X-TITLE=2203 Gottingen Street:geo:-63.585073,44.6531707
END:VEVENT
END:VCALENDAR