BEGIN:VCALENDAR
VERSION:2.0
PRODID:-//The Bus Stop Theatre - ECPv6.14.2//NONSGML v1.0//EN
CALSCALE:GREGORIAN
METHOD:PUBLISH
X-WR-CALNAME:The Bus Stop Theatre
X-ORIGINAL-URL:https://busstoptheatre.coop
X-WR-CALDESC:Events for The Bus Stop Theatre
REFRESH-INTERVAL;VALUE=DURATION:PT1H
X-Robots-Tag:noindex
X-PUBLISHED-TTL:PT1H
BEGIN:VTIMEZONE
TZID:America/Halifax
BEGIN:DAYLIGHT
TZOFFSETFROM:-0400
TZOFFSETTO:-0300
TZNAME:ADT
DTSTART:20240310T060000
END:DAYLIGHT
BEGIN:STANDARD
TZOFFSETFROM:-0300
TZOFFSETTO:-0400
TZNAME:AST
DTSTART:20241103T050000
END:STANDARD
END:VTIMEZONE
BEGIN:VEVENT
DTSTART;TZID=America/Halifax:20240115T183000
DTEND;TZID=America/Halifax:20240115T210000
DTSTAMP:20260422T144209
CREATED:20240110T142906Z
LAST-MODIFIED:20240110T143058Z
UID:11949-1705343400-1705352400@busstoptheatre.coop
SUMMARY:Stories in Nova Scotia Workshop
DESCRIPTION:Six More Days Til the ‘Shop!\nWith a Price Drop! \n$60 for the two days\, Jan. 15th and 16th\n6:30-9PM \n\nWHERE: the Bus Stop The Bus Stop Theatre Co-op \n\n \nMy partner and I started SINS to help build and connect the writing and performing communities here in Halifax / Nova Scotia.\nSo\, being that we have enough registered to cover our costs\, we want to lower our price for this two day storytelling workshop.\nSTORYTELLING SHOWS are an IDEAL way to promote WHO YOU ARE\, and a wonderful way to develop your work as a writer and performer. You won’t want to miss this experience.\nFew Spots are left. \n\nRegister at tellyoursins@gmail.com \n\nHello Nova Scotian Music\, Theatre and Film Communities!\n\n\n\n\n \nKatrina Phillip here wishing you all a very Happy New Year\, and hope you had the most wonderful winter holidays!\nMy partner\, Chris Jackel and I will be hosting a STORYTELLING WORKSHOP:\n \n\n\n \nThis workshop is ideal for:\nPerformers who want more exposure\, more experience.\nWriters who would like to get more exposure\, more experience.\nWriters who are interested in performing their own material.\nPerformers who are interested writing their own material.\n*ANYONE who loves to tell stories.*\n\n \nWHEN: Monday\, January 15th and Tuesday\, January 16th from 6:30 – 9PM \nWHERE: The Bus Stop Community Room (15th) The Bus Stop Theatre (16th)\nWHY: To spread the word about our Storytelling Shows and to recruit more storytellers!\nHOW MUCH: $85.00   $60\n \nFind out exactly what Stories In Nova Scotia (SINS) is— What we’re looking for in submissions and what the process is like. \nLearn how to go about writing a story and experience what it would be like to perform it on stage. \n \n \nPlease register by emailing us directly at tellyoursins@gmail.com\nFor more info visit us at www.storiesinnovascotia.org and listen to our interview on CBC’s Mainstreet with Jeff Douglas\nhttps://www.instagram.com/storiesinnovascotia/ on Instagram\nhttps://www.facebook.com/storiesinnovascotia on Facebook\n \nMeet the creators of S (tories)  I (n)  N (ova) S (cotia)—\n\n\n\n\n \n\nChris Jackel has been telling stories his whole life\, some of which are even true. A writer\, editor and co-creator of Stories in Nova Scotia\, Chris appreciates concision — especially in bios.\n\n\nKatrina Phillip is an actor\, dancer\, and director/choreographer who has performed on and off Broadway. She has performed\, directed and taught in NYC for over fifteen years. She studied acting with Rob McCaskill in New York and Sal Romeo in L.A.\, and taught acting for youth and adults across the U.S. and Ireland. Here in Halifax Katrina currently teaches OPEN level Conditioning and Theater dance classes at House of Eights Dance and Halifax Dance\, along with acting classes at The Bus Stop Theatre. For more information on Katrina visit @katrinaphillipdance.\n \nPhotos (in order) by Stoo Metz Photography\, Steven Rich\, and James MacLean
URL:https://busstoptheatre.coop/event/11949/
LOCATION:The Bus Stop Theatre\, 2203 Gottingen Street\, Halifax\, Nova Scotia\, B3K3B5\, Canada
CATEGORIES:Workshop
GEO:44.6531707;-63.585073
X-APPLE-STRUCTURED-LOCATION;VALUE=URI;X-ADDRESS=The Bus Stop Theatre 2203 Gottingen Street Halifax Nova Scotia B3K3B5 Canada;X-APPLE-RADIUS=500;X-TITLE=2203 Gottingen Street:geo:-63.585073,44.6531707
END:VEVENT
BEGIN:VEVENT
DTSTART;TZID=America/Halifax:20240116T063000
DTEND;TZID=America/Halifax:20240116T210000
DTSTAMP:20260422T144209
CREATED:20240103T180408Z
LAST-MODIFIED:20240110T143016Z
UID:11930-1705386600-1705438800@busstoptheatre.coop
SUMMARY:Stories in Nova Scotia Workshop Presentation
DESCRIPTION:
URL:https://busstoptheatre.coop/event/storytelling-workshop-presentation/
LOCATION:The Bus Stop Theatre\, 2203 Gottingen Street\, Halifax\, Nova Scotia\, B3K3B5\, Canada
CATEGORIES:Theatre,Workshop
GEO:44.6531707;-63.585073
X-APPLE-STRUCTURED-LOCATION;VALUE=URI;X-ADDRESS=The Bus Stop Theatre 2203 Gottingen Street Halifax Nova Scotia B3K3B5 Canada;X-APPLE-RADIUS=500;X-TITLE=2203 Gottingen Street:geo:-63.585073,44.6531707
END:VEVENT
END:VCALENDAR