BEGIN:VCALENDAR
VERSION:2.0
PRODID:-//The Bus Stop Theatre - ECPv6.14.2//NONSGML v1.0//EN
CALSCALE:GREGORIAN
METHOD:PUBLISH
X-WR-CALNAME:The Bus Stop Theatre
X-ORIGINAL-URL:https://busstoptheatre.coop
X-WR-CALDESC:Events for The Bus Stop Theatre
REFRESH-INTERVAL;VALUE=DURATION:PT1H
X-Robots-Tag:noindex
X-PUBLISHED-TTL:PT1H
BEGIN:VTIMEZONE
TZID:America/Halifax
BEGIN:DAYLIGHT
TZOFFSETFROM:-0400
TZOFFSETTO:-0300
TZNAME:ADT
DTSTART:20260308T060000
END:DAYLIGHT
BEGIN:STANDARD
TZOFFSETFROM:-0300
TZOFFSETTO:-0400
TZNAME:AST
DTSTART:20261101T050000
END:STANDARD
END:VTIMEZONE
BEGIN:VEVENT
DTSTART;TZID=America/Halifax:20260126T063000
DTEND;TZID=America/Halifax:20260126T213000
DTSTAMP:20260420T093706
CREATED:20260105T171928Z
LAST-MODIFIED:20260121T150435Z
UID:13847-1769409000-1769463000@busstoptheatre.coop
SUMMARY:ACTING with KATRINA - Winter / Spring 2026
DESCRIPTION:OPEN LEVELS ACTING – \nMondays\, Jan. 26th – February 23rd\n6:30 – 9:30PM\n12 slots are available.\n\n\nSCENE STUDY – \n\nTuesdays\, Jan. 27th – March 3rd\n6:30 – 9:30PM\n\n12 slots are available.\n\n\nPERFORMANCE / SHOWCASE COURSE – \n\nWednesdays\, Jan. 28th through March 27th \n6:30 – 9:30PM\n\n12 slots are available.\n\n\nDROP- IN ACTING CLASSES – \n\nMondays\, March 2nd – 23rd\n6:30PM – 9:30PM\n\n15 slots are available.\n \nBIO: Katrina has performed\, directed\, and taught in New York City for over fifteen years\, and lately you may have recognized her in a few Neptune Theatre productions. \nKatrina studied acting from Rob McCaskill in New York and Sal Romeo in L.A.\, along with several others and has taught acting for youth and adults across the U.S. and Ireland. Katrina believes every actor is different\, every project is different\, and the more tools you know\, the better you are able to approach the work and do your very best with it. \nLet’s explore and let’s play. For more info visit www.katrinaphillip.net/acting-classes or email Katrina directly at katrinaphillip@mac.com
URL:https://busstoptheatre.coop/event/acting-with-katrina-winter-spring-2026/2026-01-26/
LOCATION:The Bus Stop Theatre Community Room\, 2203 Gottingen\, Halifax
CATEGORIES:Workshop
ATTACH;FMTTYPE=image/jpeg:https://busstoptheatre.coop/wp-content/uploads/2026/01/KATRINA-WEB-1577-2.jpeg
GEO:44.6532534;-63.5849615
X-APPLE-STRUCTURED-LOCATION;VALUE=URI;X-ADDRESS=The Bus Stop Theatre Community Room 2203 Gottingen Halifax;X-APPLE-RADIUS=500;X-TITLE=2203 Gottingen:geo:-63.5849615,44.6532534
END:VEVENT
BEGIN:VEVENT
DTSTART;TZID=America/Halifax:20260127T063000
DTEND;TZID=America/Halifax:20260127T213000
DTSTAMP:20260420T093706
CREATED:20260105T171928Z
LAST-MODIFIED:20260121T150435Z
UID:13850-1769495400-1769549400@busstoptheatre.coop
SUMMARY:ACTING with KATRINA - Winter / Spring 2026
DESCRIPTION:OPEN LEVELS ACTING – \nMondays\, Jan. 26th – February 23rd\n6:30 – 9:30PM\n12 slots are available.\n\n\nSCENE STUDY – \n\nTuesdays\, Jan. 27th – March 3rd\n6:30 – 9:30PM\n\n12 slots are available.\n\n\nPERFORMANCE / SHOWCASE COURSE – \n\nWednesdays\, Jan. 28th through March 27th \n6:30 – 9:30PM\n\n12 slots are available.\n\n\nDROP- IN ACTING CLASSES – \n\nMondays\, March 2nd – 23rd\n6:30PM – 9:30PM\n\n15 slots are available.\n \nBIO: Katrina has performed\, directed\, and taught in New York City for over fifteen years\, and lately you may have recognized her in a few Neptune Theatre productions. \nKatrina studied acting from Rob McCaskill in New York and Sal Romeo in L.A.\, along with several others and has taught acting for youth and adults across the U.S. and Ireland. Katrina believes every actor is different\, every project is different\, and the more tools you know\, the better you are able to approach the work and do your very best with it. \nLet’s explore and let’s play. For more info visit www.katrinaphillip.net/acting-classes or email Katrina directly at katrinaphillip@mac.com
URL:https://busstoptheatre.coop/event/acting-with-katrina-winter-spring-2026/2026-01-27/
LOCATION:The Bus Stop Theatre Community Room\, 2203 Gottingen\, Halifax
CATEGORIES:Workshop
ATTACH;FMTTYPE=image/jpeg:https://busstoptheatre.coop/wp-content/uploads/2026/01/KATRINA-WEB-1577-2.jpeg
GEO:44.6532534;-63.5849615
X-APPLE-STRUCTURED-LOCATION;VALUE=URI;X-ADDRESS=The Bus Stop Theatre Community Room 2203 Gottingen Halifax;X-APPLE-RADIUS=500;X-TITLE=2203 Gottingen:geo:-63.5849615,44.6532534
END:VEVENT
BEGIN:VEVENT
DTSTART;TZID=America/Halifax:20260128T063000
DTEND;TZID=America/Halifax:20260128T213000
DTSTAMP:20260420T093706
CREATED:20260105T171928Z
LAST-MODIFIED:20260121T150435Z
UID:13851-1769581800-1769635800@busstoptheatre.coop
SUMMARY:ACTING with KATRINA - Winter / Spring 2026
DESCRIPTION:OPEN LEVELS ACTING – \nMondays\, Jan. 26th – February 23rd\n6:30 – 9:30PM\n12 slots are available.\n\n\nSCENE STUDY – \n\nTuesdays\, Jan. 27th – March 3rd\n6:30 – 9:30PM\n\n12 slots are available.\n\n\nPERFORMANCE / SHOWCASE COURSE – \n\nWednesdays\, Jan. 28th through March 27th \n6:30 – 9:30PM\n\n12 slots are available.\n\n\nDROP- IN ACTING CLASSES – \n\nMondays\, March 2nd – 23rd\n6:30PM – 9:30PM\n\n15 slots are available.\n \nBIO: Katrina has performed\, directed\, and taught in New York City for over fifteen years\, and lately you may have recognized her in a few Neptune Theatre productions. \nKatrina studied acting from Rob McCaskill in New York and Sal Romeo in L.A.\, along with several others and has taught acting for youth and adults across the U.S. and Ireland. Katrina believes every actor is different\, every project is different\, and the more tools you know\, the better you are able to approach the work and do your very best with it. \nLet’s explore and let’s play. For more info visit www.katrinaphillip.net/acting-classes or email Katrina directly at katrinaphillip@mac.com
URL:https://busstoptheatre.coop/event/acting-with-katrina-winter-spring-2026/2026-01-28/
LOCATION:The Bus Stop Theatre Community Room\, 2203 Gottingen\, Halifax
CATEGORIES:Workshop
ATTACH;FMTTYPE=image/jpeg:https://busstoptheatre.coop/wp-content/uploads/2026/01/KATRINA-WEB-1577-2.jpeg
GEO:44.6532534;-63.5849615
X-APPLE-STRUCTURED-LOCATION;VALUE=URI;X-ADDRESS=The Bus Stop Theatre Community Room 2203 Gottingen Halifax;X-APPLE-RADIUS=500;X-TITLE=2203 Gottingen:geo:-63.5849615,44.6532534
END:VEVENT
END:VCALENDAR