BEGIN:VCALENDAR
VERSION:2.0
PRODID:-//The Bus Stop Theatre - ECPv6.14.2//NONSGML v1.0//EN
CALSCALE:GREGORIAN
METHOD:PUBLISH
X-WR-CALNAME:The Bus Stop Theatre
X-ORIGINAL-URL:https://busstoptheatre.coop
X-WR-CALDESC:Events for The Bus Stop Theatre
REFRESH-INTERVAL;VALUE=DURATION:PT1H
X-Robots-Tag:noindex
X-PUBLISHED-TTL:PT1H
BEGIN:VTIMEZONE
TZID:America/Halifax
BEGIN:DAYLIGHT
TZOFFSETFROM:-0400
TZOFFSETTO:-0300
TZNAME:ADT
DTSTART:20190310T060000
END:DAYLIGHT
BEGIN:STANDARD
TZOFFSETFROM:-0300
TZOFFSETTO:-0400
TZNAME:AST
DTSTART:20191103T050000
END:STANDARD
END:VTIMEZONE
BEGIN:VEVENT
DTSTART;TZID=America/Halifax:20190201T193000
DTEND;TZID=America/Halifax:20190201T220000
DTSTAMP:20260425T121046
CREATED:20190130T142225Z
LAST-MODIFIED:20190130T142225Z
UID:5480-1549049400-1549058400@busstoptheatre.coop
SUMMARY:Same Boat: The Red 1999 Ford Taurus Station Wagon
DESCRIPTION:!!! HALIFAX SKETCH COMEDY SHOW !!! \nWe at Same Boat think nothing says first show of 2019 like a shiny Red 1999 Ford Taurus Station Wagon. It’s got great gas mileage\, a tan interior\, and room enough for all your friends!! \nWhat does it have to do with the actual content of our show tho?……..\nYou’ll have to come n see!!! \n(We promise that it has nothing to do with us feeling uninspired about designing a poster for February) \nNEW SHOW FORMAT\, NEW SKETCHES\, NEW GUESTS\, NEW HIT N RUN LAWSUIT? \nFriday February 1st\, come on out to the Bus Stop Theatre (2203 Gottingen Street) for a night of Improv and Sketch Comedy by same boat (Erik Garf & Brody Wilkinson-Martin) \nSpecial guests:\nColin McGuire\nEmma Ross\nEdie Reaney\nVince Casey \nLightz n soundz by the fabulous Zach Greenham \n7:30pm / 5$ at ze door
URL:https://busstoptheatre.coop/event/same-boat-the-red-1999-ford-taurus-station-wagon/
LOCATION:The Bus Stop Theatre\, 2203 Gottingen Street\, Halifax\, Nova Scotia\, B3K3B5\, Canada
CATEGORIES:Comedy & Improv
ATTACH;FMTTYPE=image/jpeg:https://busstoptheatre.coop/wp-content/uploads/2019/01/50846319_772598439764061_2096908479649284096_o.jpg
GEO:44.6531707;-63.585073
X-APPLE-STRUCTURED-LOCATION;VALUE=URI;X-ADDRESS=The Bus Stop Theatre 2203 Gottingen Street Halifax Nova Scotia B3K3B5 Canada;X-APPLE-RADIUS=500;X-TITLE=2203 Gottingen Street:geo:-63.585073,44.6531707
END:VEVENT
BEGIN:VEVENT
DTSTART;TZID=America/Halifax:20190202T120000
DTEND;TZID=America/Halifax:20190202T140000
DTSTAMP:20260425T121046
CREATED:20190130T142522Z
LAST-MODIFIED:20190130T142522Z
UID:5483-1549108800-1549116000@busstoptheatre.coop
SUMMARY:Indigenous Rights March
DESCRIPTION:Marching from Dartmouth (at the Bus Terminal) to Halifax via MacDonald Bridge\, with speaking engagement to follow at Bus Stop Theatre.\n—\nThis past month\, the RCMP has openly violated Indigenous rights by enforcing a provincial temporary injunction with their violent raid of the Wet’suwet’en Access Point on Gidumt’en territory. Since then\, Coastal Gas Link has bulldozed Unist’ot’en trap lines and have destroyed infrastructure on Gidumt’en territory\, blatantly violating the terms of even their own permits. \nMeanwhile\, Coastal Gas Link faces unanimous opposition from the hereditary chiefs of Wet’suwet’en Nation. The BC court granted the injunction before the defendants had even presented their arguments against it\, revealing a low bar for violating indigenous rights in favour of corporate agendas. \nAccording to Dr. Karla Tait and Anne Spice\, “The injunction application shows blatant disregard for Anuk Nu’at’en (Wet’suwet’en law) which pre-dates Canadian and provincial law\, for the feast system of governance that upholds Anuk Nu’at’en\, and for Aboriginal title. Its enforcement would be illegal under both Canadian law and Anuk Nu’at’en. The dispute over the pipeline is\, at heart\, a struggle over the meaning of Aboriginal title and the rights of Indigenous peoples to determine the use of their unceded\, unsurrendered ancestral territories.” \nThis is an emblematic case because the Wet’suwet’en system of clan and houses with Hereditary Chiefs has already been recognized in the Supreme Court of Canada as “the fundamental premise of both the Gitksan and the Wet’suwet’en peoples.” \nAccording to West Coast Environmental Law\, “more than two decades after the Delgamuukwv decision affirmed Aboriginal title\, the Crown’s continued pattern of making decisions in the absence of Indigenous consent – without resolving the underlying title and governance issues – undermines the constitutional foundations that are meant to define Canada.” \nHere in unceded Mi’kma’ki\, we denounce the disregard for the traditional and intact governance of the Wet’suwet’en people. We stand with the Wet’suwet’en and all traditional people protecting the land and water for future generations.
URL:https://busstoptheatre.coop/event/indigenous-rights-march/
LOCATION:The Bus Stop Theatre\, 2203 Gottingen Street\, Halifax\, Nova Scotia\, B3K3B5\, Canada
CATEGORIES:Community Events
ATTACH;FMTTYPE=image/jpeg:https://busstoptheatre.coop/wp-content/uploads/2019/01/50597979_1467021460098781_5204496109203881984_o.jpg
GEO:44.6531707;-63.585073
X-APPLE-STRUCTURED-LOCATION;VALUE=URI;X-ADDRESS=The Bus Stop Theatre 2203 Gottingen Street Halifax Nova Scotia B3K3B5 Canada;X-APPLE-RADIUS=500;X-TITLE=2203 Gottingen Street:geo:-63.585073,44.6531707
END:VEVENT
BEGIN:VEVENT
DTSTART;TZID=America/Halifax:20190208T190000
DTEND;TZID=America/Halifax:20190208T210000
DTSTAMP:20260425T121046
CREATED:20190130T143031Z
LAST-MODIFIED:20190130T143031Z
UID:5486-1549652400-1549659600@busstoptheatre.coop
SUMMARY:HCC Birthday Party and Bike Awards
DESCRIPTION:Join the Halifax Cycling Coalition for our annual birthday party and bike awards where we celebrate all the hard work that has been done this past year! There will be pizza and good times provided! \nThe Bike awards are an annual event that recognizes outstanding community leaders\, businesses\, bike heroes and groups that have had an impact this year in making Halifax a better place to ride a bicycle. Prizes will be donated from I Heart Bikes. We will also be selling raffle tickets for the Electra Brand Townie Commute bike donated from Halifax Cycles to be drawn for at a later date. \nThe categories for the 2019 Bike Awards include:\n– Best cycling event\n– Active transportation advocate of the year (non-politician)\n– Most bicycle-friendly politician of the year\n– Bicycle hero\n– Bicycle-friendly business\n– Most bicycle-friendly employer or landlord\n– Bike family of the year\n– Best bike picture \nVote now at https://goo.gl/forms/78NSbhdkvDVvhNNj1 \nAnd don’t forget February 8th is International Winter Bike to Work Day! https://winterbiketoworkday.org
URL:https://busstoptheatre.coop/event/hcc-birthday-party-and-bike-awards/
LOCATION:The Bus Stop Theatre\, 2203 Gottingen Street\, Halifax\, Nova Scotia\, B3K3B5\, Canada
CATEGORIES:Community Events
ATTACH;FMTTYPE=image/jpeg:https://busstoptheatre.coop/wp-content/uploads/2019/01/50018993_2136608449730822_4440179362888679424_n.jpg
ORGANIZER;CN="Halifax Cycling Coalition":MAILTO:contact@cyclehalifax.ca
GEO:44.6531707;-63.585073
X-APPLE-STRUCTURED-LOCATION;VALUE=URI;X-ADDRESS=The Bus Stop Theatre 2203 Gottingen Street Halifax Nova Scotia B3K3B5 Canada;X-APPLE-RADIUS=500;X-TITLE=2203 Gottingen Street:geo:-63.585073,44.6531707
END:VEVENT
BEGIN:VEVENT
DTSTART;TZID=America/Halifax:20190209T200000
DTEND;TZID=America/Halifax:20190209T220000
DTSTAMP:20260425T121046
CREATED:20190130T143421Z
LAST-MODIFIED:20190130T143421Z
UID:5490-1549742400-1549749600@busstoptheatre.coop
SUMMARY:Contact: Movement & Sound
DESCRIPTION:Saturday\, February 9th\, 8pm\nBus Stop Theatre\n$20 or PWYC \nDancers: Sara Coffin and Julia Carr (Vancouver)\nMusicians: Norm Adams and Brandon Auger \nOpening set by Andrew Jackson (solo trombone) \nThis quartet first performed in Halifax in 2017 at Kinetic Studio. There was an instant fusing of sound and movement that couldn’t ignored! These four are equal improvisers and their performances are free\, connected\, and focused. Sara and Julia are contact improvisers\, experts in the exploration of the body in relationship to others using the fundamentals of sharing weight\, touch\, and movement awareness. It’s really listening through physical awareness. Norm and Brandon have performed and worked together as Strata for 3 years\, and both make musical structures through maximum listening and interweaving of minute melodies and textures.
URL:https://busstoptheatre.coop/event/contact-movement-sound/
LOCATION:The Bus Stop Theatre\, 2203 Gottingen Street\, Halifax\, Nova Scotia\, B3K3B5\, Canada
CATEGORIES:Dance,Music
ATTACH;FMTTYPE=image/jpeg:https://busstoptheatre.coop/wp-content/uploads/2019/01/50072460_2085209301586283_8081744024198709248_o.jpg
GEO:44.6531707;-63.585073
X-APPLE-STRUCTURED-LOCATION;VALUE=URI;X-ADDRESS=The Bus Stop Theatre 2203 Gottingen Street Halifax Nova Scotia B3K3B5 Canada;X-APPLE-RADIUS=500;X-TITLE=2203 Gottingen Street:geo:-63.585073,44.6531707
END:VEVENT
BEGIN:VEVENT
DTSTART;TZID=America/Halifax:20190210T203000
DTEND;TZID=America/Halifax:20190210T233000
DTSTAMP:20260425T121046
CREATED:20190201T221059Z
LAST-MODIFIED:20190201T221059Z
UID:5505-1549830600-1549841400@busstoptheatre.coop
SUMMARY:In My Shoes Drag & Fashion Show
DESCRIPTION:It’s that time again! Time to get your glitter on! Support your local unicorn tribe! \nAfter being diagnosed with PTSD\, Kaidain Ivy has poured her heart and sole into one of a kind pieces of clothing\, shoes\, and accessories to help express and heal from past trauma and sexual abuse. These designs each create a little window into her soul while brining joy to the wearer and beauty to the audience. Be prepared for a night of local talent extravaganza!
URL:https://busstoptheatre.coop/event/in-my-shoes-drag-fashion-show/
LOCATION:The Bus Stop Theatre\, 2203 Gottingen Street\, Halifax\, Nova Scotia\, B3K3B5\, Canada
CATEGORIES:Drag,Fashion Show
ATTACH;FMTTYPE=image/jpeg:https://busstoptheatre.coop/wp-content/uploads/2019/02/51533576_2030994050269473_6321280910033420288_o.jpg
GEO:44.6531707;-63.585073
X-APPLE-STRUCTURED-LOCATION;VALUE=URI;X-ADDRESS=The Bus Stop Theatre 2203 Gottingen Street Halifax Nova Scotia B3K3B5 Canada;X-APPLE-RADIUS=500;X-TITLE=2203 Gottingen Street:geo:-63.585073,44.6531707
END:VEVENT
BEGIN:VEVENT
DTSTART;TZID=America/Halifax:20190211T193000
DTEND;TZID=America/Halifax:20190211T223000
DTSTAMP:20260425T121046
CREATED:20190130T143650Z
LAST-MODIFIED:20190130T143650Z
UID:5494-1549913400-1549924200@busstoptheatre.coop
SUMMARY:Hello City: Valentine's Day Special
DESCRIPTION:Save the date! Hello City is ready to be romanced!\nYour favourite monthly improv show is back and feeling the love. Join us as we escape the February chill by getting nice and warm in the Bus Stop Theatre as we live\, laugh\, and love the night away! \nft the cast\nHenricus Gielis\nPeter Sarty\nBeth Dunn\nStepheny Hunter\nColin McGuire\nGil Anderson\nLiam Fair \nother guests TBA \nMONDAY\, FEBRUARY 11TH\n7:30PM\nPAY A BILL ($5\,$10\,$20) \nHELLO CITY is a monthly improv show that takes place at the Bus Stop Theatre. Recently voted silver for The Coast’s Best Comedy Night and won best ensemble at the 2018 Halifax Fringe for their show “The Book Club”.
URL:https://busstoptheatre.coop/event/hello-city-valentines-day-special/
LOCATION:The Bus Stop Theatre\, 2203 Gottingen Street\, Halifax\, Nova Scotia\, B3K3B5\, Canada
CATEGORIES:Comedy & Improv
ATTACH;FMTTYPE=image/jpeg:https://busstoptheatre.coop/wp-content/uploads/2019/01/51335629_2247200648934125_65989947709980672_n.jpg
GEO:44.6531707;-63.585073
X-APPLE-STRUCTURED-LOCATION;VALUE=URI;X-ADDRESS=The Bus Stop Theatre 2203 Gottingen Street Halifax Nova Scotia B3K3B5 Canada;X-APPLE-RADIUS=500;X-TITLE=2203 Gottingen Street:geo:-63.585073,44.6531707
END:VEVENT
BEGIN:VEVENT
DTSTART;TZID=America/Halifax:20190215T183000
DTEND;TZID=America/Halifax:20190215T230000
DTSTAMP:20260425T121046
CREATED:20190201T221517Z
LAST-MODIFIED:20190201T221517Z
UID:5509-1550255400-1550271600@busstoptheatre.coop
SUMMARY:Don't Stop My Rock
DESCRIPTION:“Don’t Stop My Rock\,” The first of a series of Jams that aims to raise money for a final big Jam at the end of the year. With a 1v1 breaking competition paired with an all ages after party its the perfect Friday night. \nTakes place at the Bus Stop theatre address 2203 Gottingen Street.\nDoors open at 6:30 Battle Starts at 7.\n10$ to watch. 5$ to Battle. \nJudges:\nBboy Gen New (F.L.&.S.H.)\nBboy Rival (Koala Corps)\nBboy D Blais (Hangmen) \nBattle and After Party DJ\nStu-Bakka aka Disco Stu. \nPrize: 100$
URL:https://busstoptheatre.coop/event/dont-stop-my-rock/
LOCATION:The Bus Stop Theatre\, 2203 Gottingen Street\, Halifax\, Nova Scotia\, B3K3B5\, Canada
CATEGORIES:Dance
ATTACH;FMTTYPE=image/jpeg:https://busstoptheatre.coop/wp-content/uploads/2019/02/50675809_583748485383854_754270993903517696_n.jpg
GEO:44.6531707;-63.585073
X-APPLE-STRUCTURED-LOCATION;VALUE=URI;X-ADDRESS=The Bus Stop Theatre 2203 Gottingen Street Halifax Nova Scotia B3K3B5 Canada;X-APPLE-RADIUS=500;X-TITLE=2203 Gottingen Street:geo:-63.585073,44.6531707
END:VEVENT
BEGIN:VEVENT
DTSTART;TZID=America/Halifax:20190222T190000
DTEND;TZID=America/Halifax:20190222T220000
DTSTAMP:20260425T121046
CREATED:20190130T144509Z
LAST-MODIFIED:20190219T233300Z
UID:5497-1550862000-1550872800@busstoptheatre.coop
SUMMARY:Spectacle d'humour - Stef Paquette et Michel Thériault
DESCRIPTION:Stef Paquette : « Trop vieux pour être drôle » avec Michel Thériault en 1ère partie \nVendredi 22 février 2019 / Friday\, February 22nd\, 2019 \n7:30pm \nBus Stop Theatre \nAdmission: 15$ \nTickets : https://www.ccgh.ca/soireehumour \n\nStef Paquette sillonne les planches de la scène musicale depuis plus de 15 ans. Celui-ci ne recherchait que l’amour pour ses chansons et sa voix. Malheureusement pour Stef\, la majorité des publics semble simplement vouloir le complimenter pour son humour. Frustré\, celui-ci veut reprendre la route\, sans musiciens et sans guitare pour prouver qu’il n’est pas drôle pantoute. \nMichel Thériault\, artiste connu partout comme le « chanteur pop moutarde ». Reconnu pour sa plume acerbe et son humour grinçant\, Michel Thériault explore et n’hésite pas à marier son style « chansonnier » à des arrangements modernes ou technos. En spectacle\, Michel Thériault est le champion de l’improvisation et de la dérision. Celui que l’on qualifie parfois de chanteur humoriste verse à l’occasion dans la chanson grivoise et la foule est aux oiseaux! \n19h : ouverture des portes\n19h30-20h15 : Michel Thériault\n20h15-21h : Stef Paquette \nhttps://www.radarts.ca/artiste/stef-paquette\nhttps://www.radarts.ca/artiste/michel-th-riault
URL:https://busstoptheatre.coop/event/spectacle-dhumour-stef-paquette-et-michel-theriault/
LOCATION:The Bus Stop Theatre\, 2203 Gottingen Street\, Halifax\, Nova Scotia\, B3K3B5\, Canada
CATEGORIES:Comedy & Improv,Francophone
ATTACH;FMTTYPE=image/jpeg:https://busstoptheatre.coop/wp-content/uploads/2019/01/50728495_2051346834950523_8839365126952845312_n.jpg
GEO:44.6531707;-63.585073
X-APPLE-STRUCTURED-LOCATION;VALUE=URI;X-ADDRESS=The Bus Stop Theatre 2203 Gottingen Street Halifax Nova Scotia B3K3B5 Canada;X-APPLE-RADIUS=500;X-TITLE=2203 Gottingen Street:geo:-63.585073,44.6531707
END:VEVENT
BEGIN:VEVENT
DTSTART;TZID=America/Halifax:20190223T180000
DTEND;TZID=America/Halifax:20190223T200000
DTSTAMP:20260425T121046
CREATED:20190102T163435Z
LAST-MODIFIED:20190109T005944Z
UID:5448-1550944800-1550952000@busstoptheatre.coop
SUMMARY:Khari Wendell McCelland 'We Now Recognize'
DESCRIPTION:Thursday\, February 21\n6pm\nThe Bus Stop Theatre \nFollowing the great success of Freedom Singer – which in 2017 and 2018 toured to 15 cities across Canada – Project: Humanity is once again teaming up with JUNO nominated singer-songwriter Khari Wendell McClelland who has created a dazzling new suite of songs in a brand new show WE NOW RECOGNIZE\, a timely concert that explores the power of apologies\, the nature of community and the redemptive potential of music. We Now Recognize will tour 5 Canadian cities in celebration of Black History Month 2019. \nWhat is the value of an apology? What makes an authentic apology? Khari is creating a musical storytelling performance that weaves a path toward deeper and more heartfelt relationships amongst the varied peoples and communities of Canada and – in his distinct way – brings us together around music and questions of justice.
URL:https://busstoptheatre.coop/event/khari-wendell-mccelland-we-now-recognize/
LOCATION:The Bus Stop Theatre\, 2203 Gottingen Street\, Halifax\, Nova Scotia\, B3K3B5\, Canada
CATEGORIES:Music
ATTACH;FMTTYPE=image/jpeg:https://busstoptheatre.coop/wp-content/uploads/2019/01/48376119_1946659492091613_7284124784370122752_o.jpg
ORGANIZER;CN="Project Humanity":MAILTO:info@projecthumanity.ca
GEO:44.6531707;-63.585073
X-APPLE-STRUCTURED-LOCATION;VALUE=URI;X-ADDRESS=The Bus Stop Theatre 2203 Gottingen Street Halifax Nova Scotia B3K3B5 Canada;X-APPLE-RADIUS=500;X-TITLE=2203 Gottingen Street:geo:-63.585073,44.6531707
END:VEVENT
BEGIN:VEVENT
DTSTART;TZID=America/Halifax:20190227T183000
DTEND;TZID=America/Halifax:20190227T203000
DTSTAMP:20260425T121046
CREATED:20190227T132834Z
LAST-MODIFIED:20190227T132834Z
UID:5555-1551292200-1551299400@busstoptheatre.coop
SUMMARY:We Need To Talk About This: Halifax
DESCRIPTION:This Magazine is launching a new national talk series! Join us on February 27th at 6:30 p.m. at The Bus Stop Theatre Co-op (2203 Gottingen Street) for the third event in our new We Need to Talk About This series. \nWe Need to Talk About This: Diversity in media\nThe Big Question: “What can we do to make Canada’s media more diverse” \nFeaturing Arielle Twist\, Sandra C. Hannebohm\, Trina Roache and Haleigh Atwood \nAdmission is $10.00 ($5.00 for students) and includes a copy of This Magazine. You can also purchase our super event ticket which includes admission\, plus a one-year subscription to This Magazine (what a bargain!). Buy your tickets online now or at the door. \nWatch for other We Need to Talk About This events in  Vancouver\, Calgary and Winnipeg. Each city will feature a different topic\, as well as a diverse line-up of speakers. \nFor more information and to purchase tickets\, visit this.org/weneedtotalkaboutthis \nThank you to Ontario Creates and the Department of Canadian Heritage for their support of this project. \nMeet the speakers: \nArielle Twist has work published with Them\, Canadian Art\, The Fiddlehead\, PRISM International\, This Magazine\,and CBC. Her debut collection of poetry ‘Disintegrate/Dissociate’ is forthcoming March 2019 with Arsenal Pulp Press. \nTrina Roache brings 18 years of experience to APTN Investigates as an award-winning journalist. A member of the Glooscap First Nation in unceded Mi’kmaq territory\, Trina has covered Indigenous issues from politics to land protection\, treaty rights\, and more. Trina’s favourite place is behind the camera\, and is honoured when the people living the story trust her to tell it. \nHaleigh Atwood is the editorial assistant for Lion’s Roar magazine\, America’s leading Buddhist publication. In her final year at the University of King’s College\, she wrote an in-depth feature on how LGBTQ journalists navigate the workplace. From the perspective of a queer journalist\, Haleigh thinks a lot about the landscape of Canadian media and how it can be more diverse. \nSandra C. Hannebohm has been writing about politics and race for five years. Together with fellow journalist Tunde Balogun\, she started an independent media company that used community-based investigative journalism to produce a documentary on issues facing black Nova Scotians. She reports on a range of topics from housing to health-care\, to racism in the workplace\, and the rise of Korean pop music. In 2016 she wrote and hosted podcasts on media and racism in the legislature.
URL:https://busstoptheatre.coop/event/we-need-to-talk-about-this-halifax/
LOCATION:The Bus Stop Theatre\, 2203 Gottingen Street\, Halifax\, Nova Scotia\, B3K3B5\, Canada
CATEGORIES:Community Events
ATTACH;FMTTYPE=image/jpeg:https://busstoptheatre.coop/wp-content/uploads/2019/02/52611720_10157213384663578_3817339187196067840_o.jpg
GEO:44.6531707;-63.585073
X-APPLE-STRUCTURED-LOCATION;VALUE=URI;X-ADDRESS=The Bus Stop Theatre 2203 Gottingen Street Halifax Nova Scotia B3K3B5 Canada;X-APPLE-RADIUS=500;X-TITLE=2203 Gottingen Street:geo:-63.585073,44.6531707
END:VEVENT
BEGIN:VEVENT
DTSTART;TZID=America/Halifax:20190228T190000
DTEND;TZID=America/Halifax:20190228T210000
DTSTAMP:20260425T121046
CREATED:20190201T140451Z
LAST-MODIFIED:20190206T145949Z
UID:5501-1551380400-1551387600@busstoptheatre.coop
SUMMARY:HipHopED – S.T.E.M. flow (Dropping Science through music)
DESCRIPTION:Celebrating African Heritage History Month! \nStudents\, 13yrs to 18yrs\, will meet with mentors to talk about and discuss the possibilities of pursuing careers in the Science\, Technology\, Engineering\, Applied Arts and Math fields. Students will engage in writing workshops with local Hiphop artists\, write and perform songs about their chosen subject for an audience of their peers\, teachers and families.  \nWatch it all unfold as students Rap Battle their way to win awards for best lyrics\, most hype and audience choice! \nThis event will bring attention to transforming teaching and learning & engagement in the sciences. 
URL:https://busstoptheatre.coop/event/hiphoped-s-t-e-m-flow-dropping-science-through-music/
LOCATION:The Bus Stop Theatre\, 2203 Gottingen Street\, Halifax\, Nova Scotia\, B3K3B5\, Canada
CATEGORIES:Community Events,Meetings & Workshops,Music
ATTACH;FMTTYPE=image/jpeg:https://busstoptheatre.coop/wp-content/uploads/2019/02/HipHopED-STEM-Flow-Dropping-Science-thru-Music-ud-poster-1.jpg
GEO:44.6531707;-63.585073
X-APPLE-STRUCTURED-LOCATION;VALUE=URI;X-ADDRESS=The Bus Stop Theatre 2203 Gottingen Street Halifax Nova Scotia B3K3B5 Canada;X-APPLE-RADIUS=500;X-TITLE=2203 Gottingen Street:geo:-63.585073,44.6531707
END:VEVENT
END:VCALENDAR