BEGIN:VCALENDAR
VERSION:2.0
PRODID:-//The Bus Stop Theatre - ECPv6.14.2//NONSGML v1.0//EN
CALSCALE:GREGORIAN
METHOD:PUBLISH
X-ORIGINAL-URL:https://busstoptheatre.coop
X-WR-CALDESC:Events for The Bus Stop Theatre
REFRESH-INTERVAL;VALUE=DURATION:PT1H
X-Robots-Tag:noindex
X-PUBLISHED-TTL:PT1H
BEGIN:VTIMEZONE
TZID:America/Halifax
BEGIN:DAYLIGHT
TZOFFSETFROM:-0400
TZOFFSETTO:-0300
TZNAME:ADT
DTSTART:20190310T060000
END:DAYLIGHT
BEGIN:STANDARD
TZOFFSETFROM:-0300
TZOFFSETTO:-0400
TZNAME:AST
DTSTART:20191103T050000
END:STANDARD
END:VTIMEZONE
BEGIN:VEVENT
DTSTART;TZID=America/Halifax:20190706T200000
DTEND;TZID=America/Halifax:20190706T233000
DTSTAMP:20260424T225043
CREATED:20190705T175601Z
LAST-MODIFIED:20190705T175601Z
UID:5832-1562443200-1562455800@busstoptheatre.coop
SUMMARY:Elektrik Boogaloo's Bus Stop Bash
DESCRIPTION:Halifax’s premier party band\, Elektrik Boogaloo is back – better than ever – bringing you the hottest dance party of the summer! Come on out to The Bus Stop Theatre Co-op on Saturday July 6th to dance your pants off with all your favourite artists old and new. From Bruno Mars to Fleetwood Mac\, Stevie Wonder to Spice Girls and everything in between! With special guest Mattel’s starting the show at 8pm\, it’s sure to be a non-stop party\, with drink specials at the bar running all night long. AND all profits from the night will be donated directly BACK to the Bus Stop Theatre!!\nThis is one summer party you definitely don’t want to miss\, so get your tickets before they’re gone!\n————-\nFormed in 2013\, Elektrik Boogaloo is a Halifax-based party band comprised of Lead Singer Becca Guilderson\, Colin Boyd on Sax Keyboard & Vocals\, Nick Leslie on Guitar\, Alex Mills on Bass\, and Matthew Schofield on Drums. \nThe group plays upbeat and energetic covers of a huge range of funk\, pop and rock artists\, spanning from the 70’s to today’s best dance hits.\n————-\nAll profits from the evening will be donated back to the Bus Stop Theatre\, our favourite amazing performance arts venue in North End Halifax\, currently in the middle of a campaign to save their space and keep themselves open! 2019 is a critical year for the Bus Stop\, as they face the potential closure of their space. \nTickets are $10 Cash at the door or in advance through Ticket Halifax:Tickets
URL:https://busstoptheatre.coop/event/elektrik-boogaloos-bus-stop-bash/
LOCATION:The Bus Stop Theatre\, 2203 Gottingen Street\, Halifax\, Nova Scotia\, B3K3B5\, Canada
CATEGORIES:Music
ATTACH;FMTTYPE=image/jpeg:https://busstoptheatre.coop/wp-content/uploads/2019/07/Electrik.jpg
GEO:44.6531707;-63.585073
X-APPLE-STRUCTURED-LOCATION;VALUE=URI;X-ADDRESS=The Bus Stop Theatre 2203 Gottingen Street Halifax Nova Scotia B3K3B5 Canada;X-APPLE-RADIUS=500;X-TITLE=2203 Gottingen Street:geo:-63.585073,44.6531707
END:VEVENT
BEGIN:VEVENT
DTSTART;TZID=America/Halifax:20190710T130000
DTEND;TZID=America/Halifax:20190710T150000
DTSTAMP:20260424T225043
CREATED:20190705T180411Z
LAST-MODIFIED:20190705T180411Z
UID:5841-1562763600-1562770800@busstoptheatre.coop
SUMMARY:Khyber for Children Club Presents: Bus Stop Music Jam!
DESCRIPTION:The Khyber for Children (KFC) Club is so excited to present a music workshop full of fun\, sounds\, performance and play! Drop-by or stay the whole afternoon between 1-3PM at the Bus Stop Theatre (2203 Gottingen St). \n♩ $10 or pay-what-you-can\, please know $0 is still welcomed! ♩ \nPeople of all ages are free to attend\, however\, the music activities are all geared towards those ages 12 and under. All children must be accompanied by an adult! \n♫ ♬ ♭ ♯ In the theatre\, there will be interactive stations for experimentation and creation of music! Expect to find some kind of rhythm\, performance exercises\, explore a cave-like fort of electronic sound making and even design\, craft and come away with your own personal instrument. Juice boxes and light kid-friendly/allergen-free snacks will be available. \nOutside of the theatre\, we will have a sidewalk snack sale featuring both savoury and sweet treats\, sidewalk chalk and bubbles. ♯ ♭ ♬ ♫ \nACCESS NOTES:\nThe Bus Stop Theatre is located at 2203 Gottingen St. with ground-level entry right off of the street. The entire space in use for this event is all ground-level\, with no stairs or steps. There are 3 non-gendered private washrooms. This event is open to all-ages\, with children required to bring their adults! We are accepting $10/PWYC donations at the door\, but folks are not required to leave a donation and may come and participate for free. \nFor additional physical access information contact info@thebusstoptheatre.org and for more about the Khyber and this event contact info@khyber.ca.
URL:https://busstoptheatre.coop/event/khyber-for-children-club-presents-bus-stop-music-jam/
LOCATION:The Bus Stop Theatre\, 2203 Gottingen Street\, Halifax\, Nova Scotia\, B3K3B5\, Canada
CATEGORIES:Children's Theatre,Music
ATTACH;FMTTYPE=image/jpeg:https://busstoptheatre.coop/wp-content/uploads/2019/07/Khyber.jpg
GEO:44.6531707;-63.585073
X-APPLE-STRUCTURED-LOCATION;VALUE=URI;X-ADDRESS=The Bus Stop Theatre 2203 Gottingen Street Halifax Nova Scotia B3K3B5 Canada;X-APPLE-RADIUS=500;X-TITLE=2203 Gottingen Street:geo:-63.585073,44.6531707
END:VEVENT
BEGIN:VEVENT
DTSTART;TZID=America/Halifax:20190710T220000
DTEND;TZID=America/Halifax:20190711T020000
DTSTAMP:20260424T225043
CREATED:20190705T180136Z
LAST-MODIFIED:20190705T180136Z
UID:5836-1562796000-1562810400@busstoptheatre.coop
SUMMARY:No Limit Hell ft. LIZBrain & Doug/Eddy/Junk Entity/DJ Fadzwa/DJ Jafar
DESCRIPTION:NO LIMIT HELL \nFeat: \nLIZBrain & DOUG\nhttps://soundcloud.com/lizbrainxdoug\nTrash talk body rock bip bop \nEDDY\nHard tech drives the rocket\, double drums are the take-off\nNew Music 2016 LOL\nhttps://www.thecoast.ca/halifax/eddy/Content?oid=5441760 \nJunk Entity\nhttps://soundcloud.com/user-598500493 \nDJ Fadzwa\nhttps://www.facebook.com/kunyangwe18/ \nDJ Jafar \n$10/PWYC No one turned away for lack of funds! \nWe wish to make this space a welcoming\, fun and caring space for patrons\, performers\, artists\, employees and volunteers alike. If at anytime you are made to feel unsafe\, see or have something to bring to our attention\, please let an employee or volunteer know. Any concern brought to our attention\, either at or outside of an event will be taken seriously. \nText/call Nathan at 902.717.8454 or;\nEmail at nathanckdoucet@gmail.com \nCare for yourself and others.\nParticipating in events is a privilege.\nWe have the right to ask you to leave this space. \nThese are our anti-violence and pro-survivor policies in place\, and will not tolerate discrimination or violent acts. This includes but is not limited to: racism\, white supremacy\, sexism\, heterosexism/homophobia\, cissexism/transphophia\, queerphobia\, sizeism\, ableist and ageist comments\, sexualized and all acts of violence and harassment. Care for yourself and others. We reserve the right to intervene and/or remove ANY patron or person in the space who is creating or contributing to an unsafe environment. \nThe Bus Stop operates a licensed bar and does not allow outside liquor\, drugs or drug use in the space. We ask that if you choose to consume alcoholic beverages that you do so in a responsible manner.\nCare for yourself and others. \nACCESS NOTES:\nThe Bus Stop Theatre is located at 2203 Gottingen St. with ground-level entry right off of the street. The entire space in use for this event is all ground-level\, with no stairs or steps. There are 3 non-gendered private washrooms. This event is open to all-ages\, with children required to bring their adults! We are accepting $10/PWYC donations at the door\, but folks are not required to leave a donation and may come and participate for free. \nFor additional physical access information contact info@thebusstoptheatre.org and for more about the Khyber and this event contact info@khyber.ca.
URL:https://busstoptheatre.coop/event/no-limit-hell-ft-lizbrain-doug-eddy-junk-entity-dj-fadzwa-dj-jafar/
LOCATION:The Bus Stop Theatre\, 2203 Gottingen Street\, Halifax\, Nova Scotia\, B3K3B5\, Canada
CATEGORIES:Music
ATTACH;FMTTYPE=image/jpeg:https://busstoptheatre.coop/wp-content/uploads/2019/07/No-hell.jpg
GEO:44.6531707;-63.585073
X-APPLE-STRUCTURED-LOCATION;VALUE=URI;X-ADDRESS=The Bus Stop Theatre 2203 Gottingen Street Halifax Nova Scotia B3K3B5 Canada;X-APPLE-RADIUS=500;X-TITLE=2203 Gottingen Street:geo:-63.585073,44.6531707
END:VEVENT
BEGIN:VEVENT
DTSTART;TZID=America/Halifax:20190713T100000
DTEND;TZID=America/Halifax:20190713T130000
DTSTAMP:20260424T225043
CREATED:20190705T180740Z
LAST-MODIFIED:20190705T180740Z
UID:5844-1563012000-1563022800@busstoptheatre.coop
SUMMARY:Pride Flag Give Away
DESCRIPTION:Within the queer community there are various minorities and identities that have created their own symbols of Pride that are not being equally represented in public spaces. LGBTQQIP2SAA+ (Lesbian\, Gay\, Bisexual\, Trans\, Queer\, Questioning\, Intersex\, Pansexual\, Two-Spirit\, Asexual\, Allies and more) flags created by artist Arjun Lal will be available for free or by donation. This project was created by Lal with support from the Halifax Stanfield International Airport. Lal is expected to graduate with a Bachelors of Fine Arts from NSCAD University in 2019 and is planning to continue making work about queer culture.
URL:https://busstoptheatre.coop/event/pride-flag-give-away/
LOCATION:The Bus Stop Theatre\, 2203 Gottingen Street\, Halifax\, Nova Scotia\, B3K3B5\, Canada
CATEGORIES:Community Events
ATTACH;FMTTYPE=image/png:https://busstoptheatre.coop/wp-content/uploads/2019/07/Pride.png
GEO:44.6531707;-63.585073
X-APPLE-STRUCTURED-LOCATION;VALUE=URI;X-ADDRESS=The Bus Stop Theatre 2203 Gottingen Street Halifax Nova Scotia B3K3B5 Canada;X-APPLE-RADIUS=500;X-TITLE=2203 Gottingen Street:geo:-63.585073,44.6531707
END:VEVENT
BEGIN:VEVENT
DTSTART;TZID=America/Halifax:20190717T190000
DTEND;TZID=America/Halifax:20190717T210000
DTSTAMP:20260424T225043
CREATED:20190705T181257Z
LAST-MODIFIED:20190705T181441Z
UID:5847-1563390000-1563397200@busstoptheatre.coop
SUMMARY:A Return to Recitation: Reviving the Art of Reading Aloud
DESCRIPTION:A Return to Recitation: Reviving the Art of Reading Aloud\, a Fundraiser for the New Pants Project’s August Production of How the Light Lies (On You)\, Based on the Art and Life of Modernist Painter and Poet Florine Stettheimer. \nAn evening of exclamations\, exultations\, inspirations\, joyful adherence to punctuation and some nice poems. Halifax’s most enthusiastic poetry lovers perform their favourite pieces of poetry. Executants include: Richie Wilcox\, Stewart Legere\, Michael Lake\, Karen Gross\, Colleen MacIsaac\, Lara Lewis\, Zoë Sherwin\, Julia Schultz\, Anna Shepard\, Edie Reaney Chunn\, Amy Muir\, and more! \nJoin us for the reception after the reading where you may purchase prescription poetry to cure all your ailments: lovesickness\, heartsickness\, having seen a caterpillar\, loving rocks and feeling lonely\, loving rocks and not feeling lonely\, being frightened of ghosts\, being frightened of toast\, and a tendency to look forlornly at the water.  \nBuy Tickets Online
URL:https://busstoptheatre.coop/event/a-return-to-recitation-reviving-the-art-of-reading-aloud/
LOCATION:The Bus Stop Theatre\, 2203 Gottingen Street\, Halifax\, Nova Scotia\, B3K3B5\, Canada
CATEGORIES:Spoken Word,Theatre
ATTACH;FMTTYPE=image/jpeg:https://busstoptheatre.coop/wp-content/uploads/2019/07/Recit.jpg
GEO:44.6531707;-63.585073
X-APPLE-STRUCTURED-LOCATION;VALUE=URI;X-ADDRESS=The Bus Stop Theatre 2203 Gottingen Street Halifax Nova Scotia B3K3B5 Canada;X-APPLE-RADIUS=500;X-TITLE=2203 Gottingen Street:geo:-63.585073,44.6531707
END:VEVENT
BEGIN:VEVENT
DTSTART;TZID=America/Halifax:20190719T200000
DTEND;TZID=America/Halifax:20190719T220000
DTSTAMP:20260424T225043
CREATED:20190705T182214Z
LAST-MODIFIED:20190705T182214Z
UID:5851-1563566400-1563573600@busstoptheatre.coop
SUMMARY:Blue Lobster Burlesque presents Queerlesque!
DESCRIPTION:Do you love comedy? Do you love drama? Do you love non-gendered body parts being sensually exposed? Then you’re going to love this burlesque show celebrating all things 2SLGTBQ+ presented by Blue Lobster Burlesque at The Bus Stop Theatre Co-op! Hosted by Rhett Slutler and Kiki Licious\, prepare for the raunch\, giggles and pure sexual expression they bring to the mic. This show is so important to us\, we want to acknowledge\, honour and give space for the incredible art that queer and trans bodies continuously bring to the stage in Halifax. Come watch us get (mostly) naked and kick off Pride week! \nRegular tickets: $15\nVIP tickets (guaranteed premium seating PLUS a special goody bag!) $25 \nFeaturing from Blue Lobster Burlesque:\nMiss Magenta\nThe Lady Corbeau\nBonita Chinchilla\nVienna LaPlume\nAnita DeMuff\nRobert Sparkarelli \nGuest Performers:\nLexxi Elixir\nPeachy Keen\nRoy L. Payne\nMx. Discrete \nBuy Tickets Online
URL:https://busstoptheatre.coop/event/blue-lobster-burlesque-presents-queerlesque/
LOCATION:The Bus Stop Theatre\, 2203 Gottingen Street\, Halifax\, Nova Scotia\, B3K3B5\, Canada
CATEGORIES:Dance
ATTACH;FMTTYPE=image/jpeg:https://busstoptheatre.coop/wp-content/uploads/2019/07/blue.jpg
GEO:44.6531707;-63.585073
X-APPLE-STRUCTURED-LOCATION;VALUE=URI;X-ADDRESS=The Bus Stop Theatre 2203 Gottingen Street Halifax Nova Scotia B3K3B5 Canada;X-APPLE-RADIUS=500;X-TITLE=2203 Gottingen Street:geo:-63.585073,44.6531707
END:VEVENT
BEGIN:VEVENT
DTSTART;TZID=America/Halifax:20190725T180000
DTEND;TZID=America/Halifax:20190725T210000
DTSTAMP:20260424T225043
CREATED:20190705T182621Z
LAST-MODIFIED:20190705T182621Z
UID:5856-1564077600-1564088400@busstoptheatre.coop
SUMMARY:Rising Youth OBC Showcase
DESCRIPTION:Original Based Concerts has received a Rising Youth/ Taking it Global Grant to put on a Youth Showcase for Musicians aged 15-30. Join us on July 25th from 6-9pm to enjoy six live performances from some of the best up and coming youth artists in Halifax. This is a representational showcase featuring artists from a variety of backgrounds\, genres and style. Come enjoy music and good food! All ages! \nTo learn more about Rising Youth Grants Visit: https://risingyouth.ca/
URL:https://busstoptheatre.coop/event/rising-youth-obc-showcase/
LOCATION:The Bus Stop Theatre\, 2203 Gottingen Street\, Halifax\, Nova Scotia\, B3K3B5\, Canada
CATEGORIES:Music
ATTACH;FMTTYPE=image/png:https://busstoptheatre.coop/wp-content/uploads/2019/07/BUS-STOP-NEWLETTER.png
GEO:44.6531707;-63.585073
X-APPLE-STRUCTURED-LOCATION;VALUE=URI;X-ADDRESS=The Bus Stop Theatre 2203 Gottingen Street Halifax Nova Scotia B3K3B5 Canada;X-APPLE-RADIUS=500;X-TITLE=2203 Gottingen Street:geo:-63.585073,44.6531707
END:VEVENT
BEGIN:VEVENT
DTSTART;TZID=America/Halifax:20190726T200000
DTEND;TZID=America/Halifax:20190726T220000
DTSTAMP:20260424T225043
CREATED:20190705T184130Z
LAST-MODIFIED:20190705T184130Z
UID:5860-1564171200-1564178400@busstoptheatre.coop
SUMMARY:Opera Backwards: A Very Queer Show
DESCRIPTION:In the tradition of “Broadway Backwards”\, the annual NYC show where musical theatre numbers are given an LGBT twist\, HSOF presents its fifth annual salute to Halifax Pride: “Opera Backwards”. Yeah\, opera is pretty much super queer already\, but you’ll be amazed at what we come up with! Come and experience gay and lesbian stories told through the great arias and duets of opera and operetta\, sung by the participants in the fifteenth annual Halifax Summer Opera Festival. Thank to Halifax Pride and Bus Stop Theatre for their support of this show! \nTickets $20 each — This event always sells out\, so we do recommend buying your tickets in advance. Any extra tickets will be sold at the door. \nBuy Tickets Online
URL:https://busstoptheatre.coop/event/opera-backwards-a-very-queer-show-3/
LOCATION:The Bus Stop Theatre\, 2203 Gottingen Street\, Halifax\, Nova Scotia\, B3K3B5\, Canada
CATEGORIES:Halifax Summer Opera Festival,Opera
ATTACH;FMTTYPE=image/jpeg:https://busstoptheatre.coop/wp-content/uploads/2019/07/opera-2.jpg
ORGANIZER;CN="Halifax Summer Opera Festival":MAILTO:admin@halifaxsummeroperafestival.com
GEO:44.6531707;-63.585073
X-APPLE-STRUCTURED-LOCATION;VALUE=URI;X-ADDRESS=The Bus Stop Theatre 2203 Gottingen Street Halifax Nova Scotia B3K3B5 Canada;X-APPLE-RADIUS=500;X-TITLE=2203 Gottingen Street:geo:-63.585073,44.6531707
END:VEVENT
BEGIN:VEVENT
DTSTART;TZID=America/Halifax:20190727T190000
DTEND;TZID=America/Halifax:20190727T220000
DTSTAMP:20260424T225043
CREATED:20190705T184627Z
LAST-MODIFIED:20190705T184627Z
UID:5864-1564254000-1564264800@busstoptheatre.coop
SUMMARY:Into Vogue: Pride Ball
DESCRIPTION:Ballroom is a culture of competition which originated in New York where BIPOC 2SLGBTQ+ youth and adults were able to congregate and have a safe space to compete for trophies and cash prizes. Have you ever seen Paris is Burning or Pose? Have you ever wanted to walk the runway? Serve a look?  Or Vogue the house down? \n\n\nWe welcome you to the INTO VOGUE: Pride Ball – come and make Halifax BURN! Snatch the trophies and prizes; make our judges and audience fall to their knees gagging! Featuring Special Guest: Twysted Miyake-Mugler
URL:https://busstoptheatre.coop/event/into-vogue-pride-ball/
LOCATION:The Bus Stop Theatre\, 2203 Gottingen Street\, Halifax\, Nova Scotia\, B3K3B5\, Canada
CATEGORIES:Dance,Halifax Pride
ATTACH;FMTTYPE=image/jpeg:https://busstoptheatre.coop/wp-content/uploads/2019/07/ball.jpg
GEO:44.6531707;-63.585073
X-APPLE-STRUCTURED-LOCATION;VALUE=URI;X-ADDRESS=The Bus Stop Theatre 2203 Gottingen Street Halifax Nova Scotia B3K3B5 Canada;X-APPLE-RADIUS=500;X-TITLE=2203 Gottingen Street:geo:-63.585073,44.6531707
END:VEVENT
BEGIN:VEVENT
DTSTART;TZID=America/Halifax:20190728T193000
DTEND;TZID=America/Halifax:20190728T220000
DTSTAMP:20260424T225043
CREATED:20190719T143505Z
LAST-MODIFIED:20190719T143505Z
UID:5883-1564342200-1564351200@busstoptheatre.coop
SUMMARY:Hello City: Summer Sweethearts Ft. Tee Johnny
DESCRIPTION:After a long journey to the other side of Canada\, Hello City Sweethearts Peter Sarty and Stepheny Hunter are back home\, and we want to celebrate. (Oh\, also it will be Liam’s birthday but that’s neither here nor there.) \nThis month we will be having stories told by the amazing Tee Johnny. \nTyler (Tee) is a weirdo who has done a lot of stuff. He has been a flight attendant\, he has worked at a zoo\, he has been a youth worker\, and he has even been a pirate. Besides all that\, he is a facilitator\, an improviser\, host & producer of podcast Quirky and or Queer\, a community worker\, and a photographer. He is queer AF\, lives with his equally as weird and fabulous mother\, and he has a deep love for Halifax and Atlantic Canada. He joins Hello City on July 28th to talk about the weird\, the wonderful\, and the power of whimsy. \nPay a Bill $5/$10/$20\ndoors at 7pm show at 730pm \nHello city are grateful to live\, play and perform in Mi’kma’ki\, the unceded and ancestral territory of the Mi’kmaq people.
URL:https://busstoptheatre.coop/event/hello-city-summer-sweethearts-ft-tee-johnny/
LOCATION:The Bus Stop Theatre\, 2203 Gottingen Street\, Halifax\, Nova Scotia\, B3K3B5\, Canada
CATEGORIES:Comedy & Improv
ATTACH;FMTTYPE=image/jpeg:https://busstoptheatre.coop/wp-content/uploads/2019/07/Hello.jpg
GEO:44.6531707;-63.585073
X-APPLE-STRUCTURED-LOCATION;VALUE=URI;X-ADDRESS=The Bus Stop Theatre 2203 Gottingen Street Halifax Nova Scotia B3K3B5 Canada;X-APPLE-RADIUS=500;X-TITLE=2203 Gottingen Street:geo:-63.585073,44.6531707
END:VEVENT
END:VCALENDAR