BEGIN:VCALENDAR
VERSION:2.0
PRODID:-//The Bus Stop Theatre - ECPv6.14.2//NONSGML v1.0//EN
CALSCALE:GREGORIAN
METHOD:PUBLISH
X-WR-CALNAME:The Bus Stop Theatre
X-ORIGINAL-URL:https://busstoptheatre.coop
X-WR-CALDESC:Events for The Bus Stop Theatre
REFRESH-INTERVAL;VALUE=DURATION:PT1H
X-Robots-Tag:noindex
X-PUBLISHED-TTL:PT1H
BEGIN:VTIMEZONE
TZID:America/Halifax
BEGIN:DAYLIGHT
TZOFFSETFROM:-0400
TZOFFSETTO:-0300
TZNAME:ADT
DTSTART:20190310T060000
END:DAYLIGHT
BEGIN:STANDARD
TZOFFSETFROM:-0300
TZOFFSETTO:-0400
TZNAME:AST
DTSTART:20191103T050000
END:STANDARD
END:VTIMEZONE
BEGIN:VEVENT
DTSTART;TZID=America/Halifax:20190829T080000
DTEND;TZID=America/Halifax:20190908T170000
DTSTAMP:20260424T224958
CREATED:20190801T194254Z
LAST-MODIFIED:20190801T194254Z
UID:5917-1567065600-1567962000@busstoptheatre.coop
SUMMARY:Halifax Fringe 2019
DESCRIPTION:The Halifax Fringe Festival in cahoots with Neptune Theatre is excited to announce tickets for the 2019 festival are now online and available for purchase!\n\nWe are once again partnering with TicketHalifax to bring online ticket sales to our festival. Tickets for all 65 shows in the festival are available to be purchased online as of August 1st.\n\nwait\, did you say 65 shows?\n\nThat’s right! 2019 is our busiest year ever! We have more shows than ever before — that means more local legends\, more tours-de-force on tour\, and more new creations being created! 2019 brings us back to Neptune Theatre for the first time in 5 years — that means bigger stages and more shows in a smaller distance than ever before. Check out the full line-up here!\n\nHalifax Fringe wouldn’t be possible without the support of our community\, especially our volunteers. This year we’ve been nominated for Best Festival and Best Place to Volunteer at the Best of Halifax (what better time to volunteer with us??) so get out there and VOTE! But that’s not the only way to help us out — this year\, we’ve introduced Tip The Fringe!\, an easy way to donate to the festival while you’re buying yourself tickets. Because we return 100% of the box office to our artists\, we rely on donations and grants to keep bringing you the best Halifax and the world has to offer. What are you waiting for? Start planning your Fringe Binge today at Ticket Halifax.
URL:https://busstoptheatre.coop/event/halifax-fringe-2019/
LOCATION:The Bus Stop Theatre\, 2203 Gottingen Street\, Halifax\, Nova Scotia\, B3K3B5\, Canada
CATEGORIES:Halifax Fringe
ATTACH;FMTTYPE=image/png:https://busstoptheatre.coop/wp-content/uploads/2019/08/fringe.png
GEO:44.6531707;-63.585073
X-APPLE-STRUCTURED-LOCATION;VALUE=URI;X-ADDRESS=The Bus Stop Theatre 2203 Gottingen Street Halifax Nova Scotia B3K3B5 Canada;X-APPLE-RADIUS=500;X-TITLE=2203 Gottingen Street:geo:-63.585073,44.6531707
END:VEVENT
BEGIN:VEVENT
DTSTART;TZID=America/Halifax:20190913T190000
DTEND;TZID=America/Halifax:20190913T220000
DTSTAMP:20260424T224958
CREATED:20190905T154103Z
LAST-MODIFIED:20190905T154103Z
UID:5948-1568401200-1568412000@busstoptheatre.coop
SUMMARY:Breeze and Wilson at the Bus Stop Theatre Co-op
DESCRIPTION:Join UK based duo\, Breeze & Wilson at The Bus Stop Theatre in Halifax\, NS. \nHosted by The Bus Stop Theatre\, and booked by Side Door. \nTickets available online through Side Door: ☝️ \nDetails:\nFriday September 13\, 2019\nTickets: $20 (tax & fees included)\nDoors: 7:00 PM\nShow: 8:00 PM\nEstimated end: 10:00 PM \n*Please note: This venue IS accessible\, with accessible washrooms. \nIf you have any questions\, concerns\, or comments about ticketing\, accessibility\, event details\, show safety or anything else regarding your Side Door experience\, please do not hesitate to contact us at support@sidedooraccess.com \nMore about this event: \nUK based Duo performing own songs with some familiar covers too. Guitars\, dobro\, tight harmony vocals\, love\, sadness and humour with four CDs currently available . \nBuy Tickets Online
URL:https://busstoptheatre.coop/event/breeze-and-wilson-at-the-bus-stop-theatre-co-op/
LOCATION:The Bus Stop Theatre\, 2203 Gottingen Street\, Halifax\, Nova Scotia\, B3K3B5\, Canada
CATEGORIES:Music
ATTACH;FMTTYPE=image/jpeg:https://busstoptheatre.coop/wp-content/uploads/2019/09/Breeze.jpg
GEO:44.6531707;-63.585073
X-APPLE-STRUCTURED-LOCATION;VALUE=URI;X-ADDRESS=The Bus Stop Theatre 2203 Gottingen Street Halifax Nova Scotia B3K3B5 Canada;X-APPLE-RADIUS=500;X-TITLE=2203 Gottingen Street:geo:-63.585073,44.6531707
END:VEVENT
BEGIN:VEVENT
DTSTART;TZID=America/Halifax:20190917T193000
DTEND;TZID=America/Halifax:20190917T223000
DTSTAMP:20260424T224958
CREATED:20190905T154714Z
LAST-MODIFIED:20190905T154714Z
UID:5951-1568748600-1568759400@busstoptheatre.coop
SUMMARY:Erwan Keravec and Hamid Drake In Concert
DESCRIPTION:We are very happy to announce our first concert of 2019/20: Erwan Keravec is a French bagpiper who is taking what we know as Scottish Highland pipes to new terrain. Hamid Drake is just about the best known American improvising percussionist. They’ll be flying straight to Halifax from a performance at The Guelph Jazz Festival and we can’t wait to hear their show! What a great opportunity to hear instrumental innovation and great music from two musical leaders! \nThis special concert will begin with a set by Halifax-based saxophonist and improviser Andrew MacKelvie. \n7:30pm\, Tuesday\, September 17\, 2019\nThe Bus Stop Theatre\n2203 Gottingen Street\, Halifax\n$20 or pay what you can
URL:https://busstoptheatre.coop/event/erwan-keravec-and-hamid-drake-in-concert/
LOCATION:The Bus Stop Theatre\, 2203 Gottingen Street\, Halifax\, Nova Scotia\, B3K3B5\, Canada
CATEGORIES:Music
ATTACH;FMTTYPE=image/jpeg:https://busstoptheatre.coop/wp-content/uploads/2019/09/suddenly.jpg
GEO:44.6531707;-63.585073
X-APPLE-STRUCTURED-LOCATION;VALUE=URI;X-ADDRESS=The Bus Stop Theatre 2203 Gottingen Street Halifax Nova Scotia B3K3B5 Canada;X-APPLE-RADIUS=500;X-TITLE=2203 Gottingen Street:geo:-63.585073,44.6531707
END:VEVENT
BEGIN:VEVENT
DTSTART;TZID=America/Halifax:20190920T200000
DTEND;TZID=America/Halifax:20190920T230000
DTSTAMP:20260424T224958
CREATED:20190916T192227Z
LAST-MODIFIED:20190916T193057Z
UID:5968-1569009600-1569020400@busstoptheatre.coop
SUMMARY:Frandz: The One Where It's Someone's Birthday
DESCRIPTION:!! THE GANG IS BACK HALIFAX !! \nTHAT’S RIGHT!! This isn’t Netflix\, and we’ve made you wait an ENTIRE MONTH to see the second episode of FRANDZ!! \nTRUST US\, THE WAIT MAKES IT ALLLLLL THE MORE SATISFYING!! \nDidn’t make it to the first show?! Booo\, but also\, we get it!\nARE YOU WORRIED? DON’T WORRY!! This is a SITCOM so things don’t really matter\, and plot holes are for the FANS! \nBUT THE CHARACTERS ARE THE SAME!!\nAND SO ARE THE GUT LAUGHS\, THEY’RE A FUCKING GUARANTEE!! \nALSO\, as always\, we’ll be testing out a NEW-to-us Long Form Format in the first half! WOOOT WOOOOOOOT! \nTHE CAST:\n– AMY MIELKE\n– LIAM FAIR\n– GIL ANDERSON\n– RYAN FLOYD\n– MARIN CAREY\n– BRODY WILKINSON-MARTIN\n– JULIA SCHULTZ\n– ERIK GARF \nPLZ COME OUT AND WITNESS WHAT NBC IS CALLING: “THE BEST THING WE’VE SEEN SINCE THE ACTUAL FRIENDS” \nPS. IT’S AMY’S BIRTHDAY!! ♥ \nDA DEETZ –\nDOORS 7:45pm – SHOW 8:00pm\nPAY A BILL 5$\, 10$\, 20$ \nBuy Tickets Online
URL:https://busstoptheatre.coop/event/frandz-the-one-where-its-someones-birthday/
LOCATION:The Bus Stop Theatre\, 2203 Gottingen Street\, Halifax\, Nova Scotia\, B3K3B5\, Canada
CATEGORIES:Comedy & Improv
ATTACH;FMTTYPE=image/jpeg:https://busstoptheatre.coop/wp-content/uploads/2019/09/Frandz.jpg
GEO:44.6531707;-63.585073
X-APPLE-STRUCTURED-LOCATION;VALUE=URI;X-ADDRESS=The Bus Stop Theatre 2203 Gottingen Street Halifax Nova Scotia B3K3B5 Canada;X-APPLE-RADIUS=500;X-TITLE=2203 Gottingen Street:geo:-63.585073,44.6531707
END:VEVENT
BEGIN:VEVENT
DTSTART;TZID=America/Halifax:20190925T200000
DTEND;TZID=America/Halifax:20190925T230000
DTSTAMP:20260424T224958
CREATED:20190916T193006Z
LAST-MODIFIED:20190916T193110Z
UID:5971-1569441600-1569452400@busstoptheatre.coop
SUMMARY:Hello City Presents: Lord Of Fogtown Finale
DESCRIPTION:Are Father John Misty and Lars still alive? Will Billi find her missing Ratty? Are Steve and Sturgeon OFFICIALLY dating? Will Randall get over his daddy issues? Is Kara the new mayor and will she choose Randall or the possibly dead Father John Misty to be her new husband? \nQuestions left unanswered because of some HURRICANE… but soon… some answers may be revealed… \nWEDNESDAY\, SEPTEMBER 25TH – The Finale to… \n~ LORDS OF FOGTOWN ~ \nWinner for “Outstanding Comedy” and “Outstanding Performance in a Supporting Role” (The whole cast!) at the 2019 Halifax Fringe Festival \nFogtown is a mysterious harbourside port city filled with a cast of characters that explores what it means to live in such a weird and wacky place. Each show is different\, but the characters remain the same…. \nTHE BUS STOP THEATRE\n8:00PM\nPAY A BILL / tickets online\n$10 / at the door \nBuy Tickets Online \nFEATURING\nGil Anderson\nLiam Fair\nHenricus Gielis\nStepheny Hunter\nColin McGuire\nShahin Sanjari\nPeter Sarty \nThe Bus Stop theatre is a wheelchair accessible building.\nIt is located in Miꞌkmaꞌki\, the ancestral and unceded territory of the Mi’kmaq People. Hello City recognizes that we benefit from being on this land and are grateful that we are able to grow\, learn\, and play here.
URL:https://busstoptheatre.coop/event/hello-city-presents-lord-of-fogtown-finale/
LOCATION:The Bus Stop Theatre\, 2203 Gottingen Street\, Halifax\, Nova Scotia\, B3K3B5\, Canada
CATEGORIES:Comedy & Improv
ATTACH;FMTTYPE=image/jpeg:https://busstoptheatre.coop/wp-content/uploads/2019/09/hello.jpg
GEO:44.6531707;-63.585073
X-APPLE-STRUCTURED-LOCATION;VALUE=URI;X-ADDRESS=The Bus Stop Theatre 2203 Gottingen Street Halifax Nova Scotia B3K3B5 Canada;X-APPLE-RADIUS=500;X-TITLE=2203 Gottingen Street:geo:-63.585073,44.6531707
END:VEVENT
BEGIN:VEVENT
DTSTART;TZID=America/Halifax:20190928T200000
DTEND;TZID=America/Halifax:20190928T230000
DTSTAMP:20260424T224958
CREATED:20190916T200654Z
LAST-MODIFIED:20190916T200654Z
UID:5977-1569700800-1569711600@busstoptheatre.coop
SUMMARY:Nathan Macintosh Live at the Bus Stop Theatre
DESCRIPTION:You may have watched him perform on The Tonight Show with Jimmy Fallon\, The Late Show with Stephen Colbert\, Conan\, Just For Laughs\, or countless other festivals and shows\, but now you can catch him live in Halifax! For one night only\, Nathan Macintosh will be bringing his high-energy comedy style to The Bus Stop Theatre Saturday\, September 28th. Tickets are $15 in advance\, $20 at the door. Don’t miss out on this fantastic show! \nCheck out Nathan on The Tonight Show! Nathan on The Tonight Show \nBuy Tickets Online
URL:https://busstoptheatre.coop/event/nathan-macintosh-live-at-the-bus-stop-theatre/
LOCATION:The Bus Stop Theatre\, 2203 Gottingen Street\, Halifax\, Nova Scotia\, B3K3B5\, Canada
CATEGORIES:Comedy & Improv
ATTACH;FMTTYPE=image/jpeg:https://busstoptheatre.coop/wp-content/uploads/2019/09/nathan.jpg
GEO:44.6531707;-63.585073
X-APPLE-STRUCTURED-LOCATION;VALUE=URI;X-ADDRESS=The Bus Stop Theatre 2203 Gottingen Street Halifax Nova Scotia B3K3B5 Canada;X-APPLE-RADIUS=500;X-TITLE=2203 Gottingen Street:geo:-63.585073,44.6531707
END:VEVENT
BEGIN:VEVENT
DTSTART;TZID=America/Halifax:20190930T200000
DTEND;TZID=America/Halifax:20190930T220000
DTSTAMP:20260424T224958
CREATED:20190905T160057Z
LAST-MODIFIED:20190905T160057Z
UID:5957-1569873600-1569880800@busstoptheatre.coop
SUMMARY:Ilya Akselrod Kosher Standup: From Israel with Love
DESCRIPTION:Израильский стендап комик\, сценарист и теле-радио ведущий. \nИлья в прошлом ведущий утреннего шоу на 9-ом израильском телеканале\, а ныне креативный продюсер канала ILAND и ведущий утреннего шоу на радио КАН-РЭКА. Сольные стендап концерты Ильи\, регулярно проходят по городам Израиля и за рубежом. Илья также выступает и проводит частные мероприятия. \nИлья становился дважды финалист шоу COMEDY БАТТЛ на канале ТНТ и трехкратный победитель шоу “Рассмеши Комика” на канале 1+1 . \nИлья со-основатель и ведущий израильского официального представительства Comedy Club в Израиле. \nBuy Tickets Online
URL:https://busstoptheatre.coop/event/ilya-akselrod-kosher-standup-from-israel-with-love/
LOCATION:The Bus Stop Theatre\, 2203 Gottingen Street\, Halifax\, Nova Scotia\, B3K3B5\, Canada
CATEGORIES:Comedy & Improv
ATTACH;FMTTYPE=image/jpeg:https://busstoptheatre.coop/wp-content/uploads/2019/09/with-love.jpg
GEO:44.6531707;-63.585073
X-APPLE-STRUCTURED-LOCATION;VALUE=URI;X-ADDRESS=The Bus Stop Theatre 2203 Gottingen Street Halifax Nova Scotia B3K3B5 Canada;X-APPLE-RADIUS=500;X-TITLE=2203 Gottingen Street:geo:-63.585073,44.6531707
END:VEVENT
END:VCALENDAR