BEGIN:VCALENDAR
VERSION:2.0
PRODID:-//The Bus Stop Theatre - ECPv6.14.2//NONSGML v1.0//EN
CALSCALE:GREGORIAN
METHOD:PUBLISH
X-ORIGINAL-URL:https://busstoptheatre.coop
X-WR-CALDESC:Events for The Bus Stop Theatre
REFRESH-INTERVAL;VALUE=DURATION:PT1H
X-Robots-Tag:noindex
X-PUBLISHED-TTL:PT1H
BEGIN:VTIMEZONE
TZID:America/Halifax
BEGIN:DAYLIGHT
TZOFFSETFROM:-0400
TZOFFSETTO:-0300
TZNAME:ADT
DTSTART:20200308T060000
END:DAYLIGHT
BEGIN:STANDARD
TZOFFSETFROM:-0300
TZOFFSETTO:-0400
TZNAME:AST
DTSTART:20201101T050000
END:STANDARD
END:VTIMEZONE
BEGIN:VEVENT
DTSTART;TZID=America/Halifax:20200103T210000
DTEND;TZID=America/Halifax:20200103T220000
DTSTAMP:20260424T010148
CREATED:20200103T154901Z
LAST-MODIFIED:20200103T154901Z
UID:6337-1578085200-1578088800@busstoptheatre.coop
SUMMARY:LND Live!
DESCRIPTION:LDN LIVE is LDN records first ever show with the debut of our first album release!\nperformance from all LDN Artist\, we will be bringing the energy for the crowd.\ncome out and start your 2020 of with a great time!
URL:https://busstoptheatre.coop/event/lnd-live/
LOCATION:The Bus Stop Theatre\, 2203 Gottingen Street\, Halifax\, Nova Scotia\, B3K3B5\, Canada
CATEGORIES:Music
ATTACH;FMTTYPE=image/jpeg:https://busstoptheatre.coop/wp-content/uploads/2020/01/IMG_8583.jpeg
GEO:44.6531707;-63.585073
X-APPLE-STRUCTURED-LOCATION;VALUE=URI;X-ADDRESS=The Bus Stop Theatre 2203 Gottingen Street Halifax Nova Scotia B3K3B5 Canada;X-APPLE-RADIUS=500;X-TITLE=2203 Gottingen Street:geo:-63.585073,44.6531707
END:VEVENT
BEGIN:VEVENT
DTSTART;TZID=America/Halifax:20200109T193000
DTEND;TZID=America/Halifax:20200109T223000
DTSTAMP:20260424T010148
CREATED:20200106T193455Z
LAST-MODIFIED:20200106T193825Z
UID:6351-1578598200-1578609000@busstoptheatre.coop
SUMMARY:Same Boat: Stir Fry - Two Can Dine Edition
DESCRIPTION:STIR FRY: TWO CAN DINE EDITION / JAN. 9th \nSame Boat is back for 2020 but this time they’re cutting coupons\, tryin’ to get that bargain\, and hosting a new take on Halifax’s wildest night of comedy: STIR FRY – TWO CAN DINE EDITION!! \nWHAT’S MAKES THE TWO CAN DINE EDITION SPECIAL?! Well\, unlike a normal STIR FRY where we have four groups of 6-8 improvisers\, TWO CAN DINE features 10 duo sets – each 10 mins long – for even more tasty creations!! \nALL PROCEEDS OF THE SHOW GO TO THE BUS STOP THEATRE CO-OP \nDOORS: 7:15pm / SHOW: 7:30pm\nPAY A BILL $5\, $10\, $20\, etc\,. \nBuy Tickets Online
URL:https://busstoptheatre.coop/event/same-boat-stir-fry-two-can-dine-edition/
LOCATION:The Bus Stop Theatre\, 2203 Gottingen Street\, Halifax\, Nova Scotia\, B3K3B5\, Canada
CATEGORIES:Comedy & Improv
ATTACH;FMTTYPE=image/jpeg:https://busstoptheatre.coop/wp-content/uploads/2020/01/81294278_500262640604949_5530212659267371008_n.jpg
GEO:44.6531707;-63.585073
X-APPLE-STRUCTURED-LOCATION;VALUE=URI;X-ADDRESS=The Bus Stop Theatre 2203 Gottingen Street Halifax Nova Scotia B3K3B5 Canada;X-APPLE-RADIUS=500;X-TITLE=2203 Gottingen Street:geo:-63.585073,44.6531707
END:VEVENT
BEGIN:VEVENT
DTSTART;TZID=America/Halifax:20200111T193000
DTEND;TZID=America/Halifax:20200112T220000
DTSTAMP:20260424T010148
CREATED:20200106T200048Z
LAST-MODIFIED:20200106T200048Z
UID:6361-1578771000-1578866400@busstoptheatre.coop
SUMMARY:Les Mangeurs D'ail / The Garlic Eaters
DESCRIPTION:Le Théâtre DesAssimilés (T.DA) et le Conseil communautaire du Grand-Havre – CCGHa le plaisir de présenter Les Mangeurs d’Ail\, la première pièce de trois de leur nouveau projet Premier Acte ! \nPremier Acte est un projet de cultivation théâtrale où le T.DA assiste à trois metteurs en scène amateur de mettre sur pied leur première pièce. Au cours des derniers mois\, nos metteurs en scène ont fait leur propre casting\, ont suivi des formations de régie du plateau\, de jeu\, et de mise en scène\, afin qu’ils puissent vous donner le meilleur show que possible avec toute une équipe franco-bilingue de comédiens et designers locaux. \nAdditionnellement\, veuillez noter que toutes les pièces seront surtitrées en anglais afin que nos ami.e.s anglophone.s puisse.ent venir\, comprendre\, et s’amuser aussi ! \nSynopsis.\nUne femme et un homme sont interrompus lors d’une transaction immobilière par un passant croyant les prendre en plein coït. Leurs vies se partagent leurs haleines\, leurs souvenirs\, leurs recettes\, leurs craintes si tout cela peut même être pris au sérieux\, comme les chasseurs de lions\, chasseurs du roi des animaux. Ils se lisent des instants de réalité arrivés par la poste et se racontent des histoires pour\, quelque part\, se quitter tout aussi simplement. \nMetteur en scène et auteur du texte : Thibault Jacquot-Paratte\nMetteur en scène adjoint et régie : Zac J. Comeau \nSurtitres : Thibault Jacquot-Paratte \nComédiens :\nFemme Lily Swim\nHomme 1 Olivier Blais\nHomme 2 Florian Guéret \nDécor : À confirmer\nCostume : Taylor Cotie-Mullenger\nLumières et sons : Alexandre Pirottin \nOù : Bus Stop Theatre Coop\n2203 Gottingen St\, Halifax\, NÉ B3K 3B5 \nQuand :\n11 janvier 19h30\n12 janvier (Premier spectacle) 14h et (deuxième spectacle) 19h30 \nCombien :\nÉtudiant 10.00\nGénéral 15.00\nGénéral (spécial) 25.00 pour deux billets généraux \nBuy Tickets Online \nCe projet est réalisée en partie par le gouvernement du Canada\, le Conseil communautaire du Grand-Havre – CCGH\, FéCANE\, Support 4 Culture\, Canadian Parents for French Nova Scotia\, Français pour l’Avenir\, et Assante Hydrostone l’équipe de Robert-Yves Mazerolle (CFP\, CIM). \nNote.\nToutes les trois pièces de théâtre sont de genre et style drastiquement différent les uns les autres. Les pièces ont toutes été choisies par les metteurs en scène personnellement\, et ne reflètent pas nécessairement les idées et valeurs du T.DA. Donnant le plus de libertés créatives que possible. \n[English] \nThe Théâtre DesAssimilés (T.DA) and the Conseil Communautaire du Grand-Havre is pleased to present The Garlic Eaters\, the first play of three of their new project Premier Acte ! \nPremier Acte is a theatrical cultivation project where the T.DA assists three amateur directors to put on their first play. Over the past few months\, our directors have done their own casting\, trained in stage management\, acting\, and directing\, so they can give you the best show possible with a full team of local franco-bilingual actors and designers. \nIn addition\, please note that all pieces will be surtitled in English so that our English-speaking friends can come\, understand\, and have fun too! \nSynopsis.\nA woman and a man are interrupted during a real estate transaction by a passer-by who thinks he is taking them in the middle of love-making. Their lives are shared their breaths\, their memories\, their recipes\, their fears if any of this can be taken seriously\, as the lion hunters… hunters of the king of animals. They read each other moments of reality that came in the mail and tell each other stories in order to leave each other just as simply as they arrived. \nDirector and author of the text: Thibault Jacquot-Paratte\nAssistant Director and Stage Manager: Zac J. Comeau \nSurtitles: Thibault Jacquot-Paratte \nActors:\nWoman Lily Swim\nMan 1 Olivier Blais\nMan 2 Florian Guéret \nSet: To be confirmed\nCostume: Taylor Cotie-Mullenger\nLights and sounds: Alexandre Pirottin \nWhere: Bus Stop Theatre Coop\n2203 Gottingen St\, Halifax\, NS B3K 3B5 \nWhen:\nJanuary 11th 7:30 pm\nJanuary 12th (First show) 2pm and (second show) 7:30pm \nCost online:\nStudent – 10.00\nGeneral – 15.00\nGeneral (special) 25.00 for two general tickets \nCost at door:\nStudent 15.00\nGeneral 20.00 \nThis project is being carried out in part by the Government of Canada\, the Conseil Communautaire du Grand-Havre\, FéCANE\, Support 4 Culture\, Canadian Parents for French – Nova Scotia\, Français pour l’Avenir\, and Assante Hydrostone – Robert-Yves Mazerolle’s team (CFP\, CIM). \nNote.\nAll three pieces are of a drastically different genre and style. The plays have all been chosen by the directors personally\, and do not necessarily reflect the ideas and values of the T.DA. Giving as many creative freedoms as possible.
URL:https://busstoptheatre.coop/event/les-mangeurs-dail-the-garlic-eaters/
LOCATION:The Bus Stop Theatre\, 2203 Gottingen Street\, Halifax\, Nova Scotia\, B3K3B5\, Canada
CATEGORIES:Theatre
ATTACH;FMTTYPE=image/png:https://busstoptheatre.coop/wp-content/uploads/2020/01/Mangeurs-dail-POSTER-8x12.png
GEO:44.6531707;-63.585073
X-APPLE-STRUCTURED-LOCATION;VALUE=URI;X-ADDRESS=The Bus Stop Theatre 2203 Gottingen Street Halifax Nova Scotia B3K3B5 Canada;X-APPLE-RADIUS=500;X-TITLE=2203 Gottingen Street:geo:-63.585073,44.6531707
END:VEVENT
BEGIN:VEVENT
DTSTART;TZID=America/Halifax:20200117T193000
DTEND;TZID=America/Halifax:20200117T223000
DTSTAMP:20260424T010148
CREATED:20200106T193901Z
LAST-MODIFIED:20200106T193901Z
UID:6354-1579289400-1579300200@busstoptheatre.coop
SUMMARY:Same Boat: A Comedy Show
DESCRIPTION:SAME BOAT: A COMEDY SHOW / JAN. 17th \nHAPPY NEW YEAR!! The Same Boat sketch crew is back and reeeady to go with some hawt hawt hawt new sketches! What can you expect? Material wise\, not sure\, but your gut will hurt!! That’s a promise. \n(lil treat/ inside scoop) We’re also attempting a totally new sketch segment during the show\, sooooooo that’s EXCITING!! Its 2020 babay\, come out for our first show of the year! \nDOORS: 7:30pm / SHOW: 8:00pm\nPAY A BILL $5\, $10\, $20\, etc\,. \nAs always free admission if you bring a pizza 9inch or larger.
URL:https://busstoptheatre.coop/event/same-boat-a-comedy-show-5/
LOCATION:The Bus Stop Theatre\, 2203 Gottingen Street\, Halifax\, Nova Scotia\, B3K3B5\, Canada
CATEGORIES:Comedy & Improv
ATTACH;FMTTYPE=image/jpeg:https://busstoptheatre.coop/wp-content/uploads/2020/01/Same-Boat-Sketch-v2.jpg
GEO:44.6531707;-63.585073
X-APPLE-STRUCTURED-LOCATION;VALUE=URI;X-ADDRESS=The Bus Stop Theatre 2203 Gottingen Street Halifax Nova Scotia B3K3B5 Canada;X-APPLE-RADIUS=500;X-TITLE=2203 Gottingen Street:geo:-63.585073,44.6531707
END:VEVENT
BEGIN:VEVENT
DTSTART;TZID=America/Halifax:20200118T210000
DTEND;TZID=America/Halifax:20200118T233000
DTSTAMP:20260424T010148
CREATED:20191217T172702Z
LAST-MODIFIED:20191217T172702Z
UID:6324-1579381200-1579390200@busstoptheatre.coop
SUMMARY:Roaring 20's Variety Show
DESCRIPTION:Fabulous Fringe and Fearless Frolicking\, a random show of fierceness to bring in the New Year! In an Accessible venue!!!! \nJoin Tishina La Tush and her unbelievable cast with a variety show that is sure to make you gag! \nThere will be drag\, magic\, poetry\,art\, dance\, and comedy! \nDoors and bar open at 9:00\nShow starts at 9:30 \nTickets will be available as of Wednesday December 18th from Tishina La Tush at tishinalatush@gmail.com or can be purchased at Venus Envy (1598 Barrington St. Halifax) \n$15 Advanced ticket price or $20 at the door \nThis is a 19+ event \nPhoto credit: Jonathan Bobryk Images
URL:https://busstoptheatre.coop/event/roaring-20s-variety-show/
LOCATION:The Bus Stop Theatre\, 2203 Gottingen Street\, Halifax\, Nova Scotia\, B3K3B5\, Canada
CATEGORIES:Comedy & Improv,Dance,Drag,Magic
ATTACH;FMTTYPE=image/jpeg:https://busstoptheatre.coop/wp-content/uploads/2019/12/20s.jpg
GEO:44.6531707;-63.585073
X-APPLE-STRUCTURED-LOCATION;VALUE=URI;X-ADDRESS=The Bus Stop Theatre 2203 Gottingen Street Halifax Nova Scotia B3K3B5 Canada;X-APPLE-RADIUS=500;X-TITLE=2203 Gottingen Street:geo:-63.585073,44.6531707
END:VEVENT
BEGIN:VEVENT
DTSTART;TZID=America/Halifax:20200119T180000
DTEND;TZID=America/Halifax:20200119T220000
DTSTAMP:20260424T010148
CREATED:20200110T164322Z
LAST-MODIFIED:20200110T164322Z
UID:6387-1579456800-1579471200@busstoptheatre.coop
SUMMARY:The Ground Up Halifax: The 1st Annual Tree Planting Film Festival
DESCRIPTION:A film festival for and about tree planting! Featuring original films and some classics\, with live entertainment! \nWe are moving the film festival east! Vancouver and Victoria were so great we wanted to do it again. We are in Halifax at the Bus Stop Theatre. Doors open at 5 PM\, programming starts at 6 PM. Come join us and bring your friends! \nFilm\, music\, comedy and dance! Come celebrate the art of planting trees\, our industry\, forestry innovation\, and the act of capturing carbon! \nWe will be showing a variety of raw originals and classic planting films\, existing shorts\, and yet to be seen documentary trailers that all provide insight into the honour of planting trees\, sustainable forestry innovations and the act of capturing carbon. \nWhen: Sun\, 19 January 2020\, Doors open at 5:00pm\, Films Start at 6:00 PM  \nBuy Tickets Online \nVisit our website for more details.
URL:https://busstoptheatre.coop/event/the-ground-up-halifax-the-1st-annual-tree-planting-film-festival/
LOCATION:The Bus Stop Theatre\, 2203 Gottingen Street\, Halifax\, Nova Scotia\, B3K3B5\, Canada
CATEGORIES:Community Events,Film
ATTACH;FMTTYPE=image/jpeg:https://busstoptheatre.coop/wp-content/uploads/2020/01/00515dd7-b30b-45a5-9f4c-f2e22c172551.jpg
GEO:44.6531707;-63.585073
X-APPLE-STRUCTURED-LOCATION;VALUE=URI;X-ADDRESS=The Bus Stop Theatre 2203 Gottingen Street Halifax Nova Scotia B3K3B5 Canada;X-APPLE-RADIUS=500;X-TITLE=2203 Gottingen Street:geo:-63.585073,44.6531707
END:VEVENT
BEGIN:VEVENT
DTSTART;TZID=America/Halifax:20200122T193000
DTEND;TZID=America/Halifax:20200122T223000
DTSTAMP:20260424T010148
CREATED:20200110T164919Z
LAST-MODIFIED:20200110T164919Z
UID:6390-1579721400-1579732200@busstoptheatre.coop
SUMMARY:Hello City: First Show of the Decade
DESCRIPTION:IT’S A NEW DECADE! 2020 BABY! FIRST HELLO CITY IS GOING DOWN! with special guest CANADIAN COMEDY ICON CATHY JONES!! Come shake off those winter blues with laughs and fun cool hang times 🤙 \nHello City is a monthly improv show inspired by stories from a local Haligonian. Voted Silver for Best Comedy Night 2018 + 2019 in the Coast! \nWHERE? The Bus Stop Theatre\nWHEN? Wednesday\, January 22nd – doors at 7PM show at 7:30PM\nHOW MUCH? Pay A Bill ($5\,$10\,$20) \nBuy Tickets Online \nThe Bus Stop theatre is a wheelchair accessible building. The Bus Stop Theatre is located in Mi’kma’ki\, the ancestral and unceded territory of the Mi’kmaq people. Hello City acknowledges that we benefit from being on this land and are grateful to get to live and play here.
URL:https://busstoptheatre.coop/event/hello-city-first-show-of-the-decade/
LOCATION:The Bus Stop Theatre\, 2203 Gottingen Street\, Halifax\, Nova Scotia\, B3K3B5\, Canada
CATEGORIES:Comedy & Improv
ATTACH;FMTTYPE=image/jpeg:https://busstoptheatre.coop/wp-content/uploads/2020/01/hello-city.jpg
GEO:44.6531707;-63.585073
X-APPLE-STRUCTURED-LOCATION;VALUE=URI;X-ADDRESS=The Bus Stop Theatre 2203 Gottingen Street Halifax Nova Scotia B3K3B5 Canada;X-APPLE-RADIUS=500;X-TITLE=2203 Gottingen Street:geo:-63.585073,44.6531707
END:VEVENT
BEGIN:VEVENT
DTSTART;TZID=America/Halifax:20200123T203000
DTEND;TZID=America/Halifax:20200123T230000
DTSTAMP:20260424T010148
CREATED:20200106T200446Z
LAST-MODIFIED:20200115T185033Z
UID:6366-1579811400-1579820400@busstoptheatre.coop
SUMMARY:DATE CHANGE!! Comedy Night with Hughie Batherson
DESCRIPTION:Come out and laugh those holiday bills away for a good cause. \nKyle Schmeisser and his buddies are playing in the Hockey Heroes Weekend\, and to help fund-raise money\, we’ve organized a comedy night with Hughie Batherson. A hockey player himself\, Hughie is volunteering his time for this show and all funds raised will go directly to the Heart & Stroke Foundation. \nThursday Jan 23\nThe Bus Stop Theatre in Halifax\nCome for drinks at 7:30 and the comedy show starts at 8:30 pm\n$30 per person \nTo register and pay\, make a donation of $30 per person ($60 per couple) to our team site on the Heart & Stroke website. Our team name is the Miracle Workers. This will add you to the comedy show event list.\nhttp://support.heartandstroke.ca/site/TR?team_id=74227&pg=team&fr_id=7453&s_locale=en_CA&et=6LUEmIKukIRXj72doqq3kg&s_tafId=107166 \nCOMEDIAN\nHughie Batherson\, on a whim\, stepped on a stage for a Juste pour rire (Just For Laughs) amateur competition and walked away the winner despite it being his first time on stage doing stand-up comedy. The next night he performed in front of a sold out crowd of 800 people at the Hubcap Comedy Festival Gala in Moncton\, NB. He was quickly invited to join the `Juste pour rire` comedians for parts of their National Tour and has performed in Saskatchewan\, Ontario\,Quebec\, New Brunswick and Nova Scotia. He does standup in both English and French . Hughie is from North Sydney\, NS. \n“Hughie has excellent stage presence and was a huge surprise at this year`s festival in Moncton“. – Francois Simard\, Vice-President\, Just for Laughs \n‘’ Hughie is a natural in the art of standup comedy. He has instant comedic presence on stage and grasps very quickly his audience. Through his personal life experiences\, he is able to take his crowd on a laugh out loud voyage! His act is not to be missed!’’ – Daniel Leblanc\, Artistic Director\, Festival acadien de Clare
URL:https://busstoptheatre.coop/event/comedy-night-with-hughie-batherson/
LOCATION:The Bus Stop Theatre\, 2203 Gottingen Street\, Halifax\, Nova Scotia\, B3K3B5\, Canada
CATEGORIES:Comedy & Improv
ATTACH;FMTTYPE=image/jpeg:https://busstoptheatre.coop/wp-content/uploads/2020/01/hughie.jpg
GEO:44.6531707;-63.585073
X-APPLE-STRUCTURED-LOCATION;VALUE=URI;X-ADDRESS=The Bus Stop Theatre 2203 Gottingen Street Halifax Nova Scotia B3K3B5 Canada;X-APPLE-RADIUS=500;X-TITLE=2203 Gottingen Street:geo:-63.585073,44.6531707
END:VEVENT
BEGIN:VEVENT
DTSTART;TZID=America/Halifax:20200125T203000
DTEND;TZID=America/Halifax:20200125T233000
DTSTAMP:20260424T010148
CREATED:20200108T200545Z
LAST-MODIFIED:20200108T200545Z
UID:6382-1579984200-1579995000@busstoptheatre.coop
SUMMARY:Angel Bat Dawid w/ Nat Chantel and New Hermitage
DESCRIPTION:We’re thrilled to be kicking off our 2020 season with a visit from Chicago’s spiritual jazz beacon Angel Bat Dawid. A most daring and caring vocalist\, clarinetist and pianist\, Angel represents the very forefront of modern jazz practices: combining melodic grooves with free-skronk\, tying new techniques to historically-rooted sounds. Her stunning debut album\, The Oracle\, landed on year-end lists from The Wire\, Pop Matters\, The Guardian\, The Washington Post\, Vice and more! Support for this show includes local experimental vocalist NAT Chantel and chamber-jazz heavies New Hermitage. \nThis show is a co-presentation with Halifax Jazz Festival \nDoors at 8pm\nPerformances at 8:30pm\nMore info: www.everyseeker.com\n* * * * * * * * * * * * * * * * \n$20 / PWYC / No one turned away for lack of funds\nAll Ages / FREE for anyone under 19 \nAccessible entrance.\nAccessible\, non-gendered washrooms. \nNo hate / violence / discrimination / oppression of any kind will be tolerated. All Welcome. Please speak with a staff member at any time if you are made to feel unsafe / unwelcome.
URL:https://busstoptheatre.coop/event/angel-bat-dawid-w-nat-chantel-and-new-hermitage/
LOCATION:The Bus Stop Theatre\, 2203 Gottingen Street\, Halifax\, Nova Scotia\, B3K3B5\, Canada
ATTACH;FMTTYPE=image/jpeg:https://busstoptheatre.coop/wp-content/uploads/2020/01/angel.jpg
GEO:44.6531707;-63.585073
X-APPLE-STRUCTURED-LOCATION;VALUE=URI;X-ADDRESS=The Bus Stop Theatre 2203 Gottingen Street Halifax Nova Scotia B3K3B5 Canada;X-APPLE-RADIUS=500;X-TITLE=2203 Gottingen Street:geo:-63.585073,44.6531707
END:VEVENT
BEGIN:VEVENT
DTSTART;TZID=America/Halifax:20200126T140000
DTEND;TZID=America/Halifax:20200126T160000
DTSTAMP:20260424T010148
CREATED:20200106T201031Z
LAST-MODIFIED:20200106T201031Z
UID:6369-1580047200-1580054400@busstoptheatre.coop
SUMMARY:Con Spirito Duo at the Bus Stop Theatre Co-op
DESCRIPTION:Join multi-genre guitar duo\, Con Spirito Duo for an all-ages\, (kids under 12 free) family friendly matinée at The Bus Stop Theatre in Halifax\, NS. \nHosted by The Bus Stop Theatre\, and booked by Side Door. \nTickets available online through Side Door: Buy Tickets Online\nCapacity: 80 \nDetails:\nSunday January 26\nTickets: $20 (tax & fees included)\nDoors: 1:00 PM\nShow: 2:00 PM\nEstimated end: 4:00 PM \n*Please note: This venue IS accessible\, with accessible washrooms. \n– – – – – – – \nCon Spirito Duo performs a delightful mix of Classical\, Ragtime\, Celtic\, Spanish\, and Pop guitar duets accessible to all audiences. As a rarified musical presentation the guitar duo of Jason Giles and Victor Fraser maintains the integrity of Concert Guitar performance. While highlighting their individual talent and collective musical synergy they engage the listener in a unique and seldom seen artful interpretation of confidence\, and experience.
URL:https://busstoptheatre.coop/event/con-spirito-duo-at-the-bus-stop-theatre-co-op/
LOCATION:The Bus Stop Theatre\, 2203 Gottingen Street\, Halifax\, Nova Scotia\, B3K3B5\, Canada
CATEGORIES:Music
ATTACH;FMTTYPE=image/jpeg:https://busstoptheatre.coop/wp-content/uploads/2020/01/con-spir.jpg
GEO:44.6531707;-63.585073
X-APPLE-STRUCTURED-LOCATION;VALUE=URI;X-ADDRESS=The Bus Stop Theatre 2203 Gottingen Street Halifax Nova Scotia B3K3B5 Canada;X-APPLE-RADIUS=500;X-TITLE=2203 Gottingen Street:geo:-63.585073,44.6531707
END:VEVENT
BEGIN:VEVENT
DTSTART;TZID=America/Halifax:20200128T190000
DTEND;TZID=America/Halifax:20200128T213000
DTSTAMP:20260424T010148
CREATED:20200106T201541Z
LAST-MODIFIED:20200106T201541Z
UID:6373-1580238000-1580247000@busstoptheatre.coop
SUMMARY:Handmade Film Screening From Coast to Coast
DESCRIPTION:The Handmade Collective in partnership with AFCOOP and MediaNet present a free screening of Handmade Films from the East and West Coasts of Canada.  Following the screening there will be a discussion with the filmmakers. \nWhen:   Tuesday\, January 28th 7:00pm – 9:30pm \nWhere:  Bus Stop Theatre\, 2203 Gottingen Street\nFree Admission!! \nDoors open at 6:30pm\, arrive early to check out the expanded handmade cinema performance in the lobby from artists s rybczyn & z crow. \nFor more information please visit us at:  www.handmadefilmscreening.ca
URL:https://busstoptheatre.coop/event/handmade-film-screening-from-coast-to-coast/
LOCATION:The Bus Stop Theatre\, 2203 Gottingen Street\, Halifax\, Nova Scotia\, B3K3B5\, Canada
CATEGORIES:Film
ATTACH;FMTTYPE=image/jpeg:https://busstoptheatre.coop/wp-content/uploads/2020/01/Handmade-Film-Screening-Web.jpg
ORGANIZER;CN="Atlantic Filmmakers Cooperative":MAILTO:programs@afcoop.ca
GEO:44.6531707;-63.585073
X-APPLE-STRUCTURED-LOCATION;VALUE=URI;X-ADDRESS=The Bus Stop Theatre 2203 Gottingen Street Halifax Nova Scotia B3K3B5 Canada;X-APPLE-RADIUS=500;X-TITLE=2203 Gottingen Street:geo:-63.585073,44.6531707
END:VEVENT
BEGIN:VEVENT
DTSTART;TZID=America/Halifax:20200131T193000
DTEND;TZID=America/Halifax:20200131T220000
DTSTAMP:20260424T010148
CREATED:20200106T194040Z
LAST-MODIFIED:20200106T194040Z
UID:6358-1580499000-1580508000@busstoptheatre.coop
SUMMARY:Frandz: An Improvised Sitcom (Series Finale)
DESCRIPTION:FRANDZ: AN IMPROVISED SITCOM (SERIES FINALE) / JAN. 31st \nWe all knew it was going to happen. Let’s not beat around the bush. NBC has finally caught word that Same Boat has been producing a funnier version of FRIENDS and they’re shutting us down. SO like many beloved shows that end too soon\, FRANDZ will be having its extra special SERIES FINALE on the 31st. Come see all the characters you love\, all the situations you live for\, and laugh with us one more time!! \nYOU CAN’T WATCH RE-RUNS OF THIS SO DON’T MISS OUT!! \nDOORS: 7:30pm / SHOW: 8:00pm \nPAY A BILL: $5\, $10\, $20\, etc.\, \nAs always free admission if you bring a pizza 9inch or larger
URL:https://busstoptheatre.coop/event/frandz-an-improvised-sitcom-series-finale/
LOCATION:The Bus Stop Theatre\, 2203 Gottingen Street\, Halifax\, Nova Scotia\, B3K3B5\, Canada
CATEGORIES:Comedy & Improv
ATTACH;FMTTYPE=image/jpeg:https://busstoptheatre.coop/wp-content/uploads/2020/01/SameBoat-Frandz-Option2.jpg
GEO:44.6531707;-63.585073
X-APPLE-STRUCTURED-LOCATION;VALUE=URI;X-ADDRESS=The Bus Stop Theatre 2203 Gottingen Street Halifax Nova Scotia B3K3B5 Canada;X-APPLE-RADIUS=500;X-TITLE=2203 Gottingen Street:geo:-63.585073,44.6531707
END:VEVENT
END:VCALENDAR