BEGIN:VCALENDAR
VERSION:2.0
PRODID:-//The Bus Stop Theatre - ECPv6.14.2//NONSGML v1.0//EN
CALSCALE:GREGORIAN
METHOD:PUBLISH
X-ORIGINAL-URL:https://busstoptheatre.coop
X-WR-CALDESC:Events for The Bus Stop Theatre
REFRESH-INTERVAL;VALUE=DURATION:PT1H
X-Robots-Tag:noindex
X-PUBLISHED-TTL:PT1H
BEGIN:VTIMEZONE
TZID:America/Halifax
BEGIN:DAYLIGHT
TZOFFSETFROM:-0400
TZOFFSETTO:-0300
TZNAME:ADT
DTSTART:20200308T060000
END:DAYLIGHT
BEGIN:STANDARD
TZOFFSETFROM:-0300
TZOFFSETTO:-0400
TZNAME:AST
DTSTART:20201101T050000
END:STANDARD
END:VTIMEZONE
BEGIN:VEVENT
DTSTART;TZID=America/Halifax:20200324T200000
DTEND;TZID=America/Halifax:20200405T163000
DTSTAMP:20260423T195729
CREATED:20200303T204654Z
LAST-MODIFIED:20200303T204713Z
UID:6536-1585080000-1586104200@busstoptheatre.coop
SUMMARY:Softly\, now: part concert. part memoir
DESCRIPTION:Softly\, now \nPart concert. Part memoir. \nThis world premiere features 2b’s artistic co-directors unplugged\, singing the soundtrack of their twenty-year friendship. \nIn Softly\, now\, Christian Barry (Old Stock: A Refugee Love Story) and Anthony Black (One Discordant Violin) tell a story about coming\, going\, love\, fear\, and the rising tide. \nFeaturing 2b’s trademark blend of humour\, headiness\, and heart\, and marking the first time the two friends have shared the stage\, this show strips away theatrics to expose two artists at the top of their game reliving the past and contending with an uncertain future. \nWarning: This show contains sea shanties. \nCo-created by Anthony Black and Christian Barry with David Gagnon Walker\nDirected by Judy Wensel \nBuy Tickets Online\n_____________________________________________\n2b wishes to acknowledge our role as settlers on this land and that this event is taking place on unceded and unsurrendered Mi’kmaq territory. Particularly for this production centred around the playwrights’ own relationships to their home\, it is especially important to remember and recognize that we are on stolen land. \nThe Bus Stop Theatre is located in K’jipuktuk\, which is covered by The Treaties of Peace and Friendship. These Treaties officially continue to be in effect\, however settlers have repeatedly violated their terms. An immediate example of such is the case of the Alton Gas project\, which you can learn more about here: https://stopaltongas.wordpress.com/ \nThe Bus Stop is also located on Gottingen Street\, which has historically been the home of Black Nova Scotians. \nWe are incredibly grateful to be able to create and present in this space.\n_____________________________________________\nAccess 2b\nWant to see Softly\, now\, but can’t afford it right now? Find details about our Access 2b program here ( https://bit.ly/32algsu )\, supported by O’Regan’s. \n2b is a member of the Culture Access Pass program for newcomers to Canada. ( https://bit.ly/3bSQhpf ) \n2b newbie\nIf you bring a friend who has never seen a 2b show to Softly\, now\, you’ll both save 20% when you use the promo code 2bNEWBIE. \nThanks and acknowledgements\n2b gratefully acknowledges support from the city of Halifax\, Nova Scotia’s Department of Communities\, Culture\, and Heritage\, Arts Nova Scotia\, the Canada Council for the Arts\, Emera\, Office Interiors\, Cox & Palmer\, and Red Door Realty\, as well as our Emerging Artist Donor\, RBC.
URL:https://busstoptheatre.coop/event/softly-now-part-concert-part-memoir/
LOCATION:The Bus Stop Theatre\, 2203 Gottingen Street\, Halifax\, Nova Scotia\, B3K3B5\, Canada
CATEGORIES:Theatre
ATTACH;FMTTYPE=image/jpeg:https://busstoptheatre.coop/wp-content/uploads/2020/03/softly.jpg
GEO:44.6531707;-63.585073
X-APPLE-STRUCTURED-LOCATION;VALUE=URI;X-ADDRESS=The Bus Stop Theatre 2203 Gottingen Street Halifax Nova Scotia B3K3B5 Canada;X-APPLE-RADIUS=500;X-TITLE=2203 Gottingen Street:geo:-63.585073,44.6531707
END:VEVENT
END:VCALENDAR