BEGIN:VCALENDAR
VERSION:2.0
PRODID:-//The Bus Stop Theatre - ECPv6.14.2//NONSGML v1.0//EN
CALSCALE:GREGORIAN
METHOD:PUBLISH
X-ORIGINAL-URL:https://busstoptheatre.coop
X-WR-CALDESC:Events for The Bus Stop Theatre
REFRESH-INTERVAL;VALUE=DURATION:PT1H
X-Robots-Tag:noindex
X-PUBLISHED-TTL:PT1H
BEGIN:VTIMEZONE
TZID:America/Halifax
BEGIN:DAYLIGHT
TZOFFSETFROM:-0400
TZOFFSETTO:-0300
TZNAME:ADT
DTSTART:20200308T060000
END:DAYLIGHT
BEGIN:STANDARD
TZOFFSETFROM:-0300
TZOFFSETTO:-0400
TZNAME:AST
DTSTART:20201101T050000
END:STANDARD
END:VTIMEZONE
BEGIN:VEVENT
DTSTART;TZID=America/Halifax:20200717T193000
DTEND;TZID=America/Halifax:20200717T210000
DTSTAMP:20260423T143010
CREATED:20200704T160531Z
LAST-MODIFIED:20200716T084423Z
UID:6870-1595014200-1595019600@busstoptheatre.coop
SUMMARY:Save The Bus Stop Theatre Co-op Celebration Concert
DESCRIPTION:We’re Buying Our Building!! Our community has helped us along every step of this road and we want to celebrate this huge accomplishment with you!! Join us on July 17th for a FREE online concert celebrating all things Bus Stop Theatre Co-op.\nFeaturing: \nT. Thomason\nGabrielle Papillon\nZulkamoon\nAndre Fenton\nHello City\nDeirdre Lee\nMariah Pelley Smith\nZamani\nAnd Stewart Legere \nConcert viewers will be entered in to win some fantastic door prizes from a number of our favorite local vendors/businesses ♥ \nWe can’t wait to celebrate with you all on July 17th and to say a huge THANK YOU for helping us get to where we are today ♥ \nWant to be featured in our concert? Send us a 30 second or less selfie video about your favorite thing or favorite memory of the Bus Stop Theatre Co-op to audrey@thebusstoptheatre.org. \nWant to help get us through the final stretch? You can still donate online or enter out 50/50 draw at: https://busstoptheatre.coop/save-the-bus-stop-theatre/\n——————————————————————————————\nSAVE THE BUS STOP THEATRE\nTHE FINAL PUSH\nSince our campaign began a year and a half ago\, we’ve been able secure $960\,000 in support from all three levels of government combined. We’ve also raised another $141\,000 from generous individual donations during that time\, taking us VERY CLOSE to our goal in saving the Bus Stop Theatre! By June 1st\, we had raised $1\,101\,000 out of our $1\,210\,000 goal! \nIn order to minimize the amount of debt we’ll need to incur to make the purchase\, we’re asking all our fans for one last show of support in helping us close the gap before the July 30th purchase date. We’ve been overwhelmed by the show of support so far. \nWe raised an additional $25\,000 in just two weeks! How close can we get to the $109\,000 needed to make the purchase debt free? Every dollar not needed on debt repayment will be directly invested into our programs and services serving the community. \nACT NOW!\nSAVE YOUR FAV LITTLE THEATRE!
URL:https://busstoptheatre.coop/event/save-the-bus-stop-theatre-co-op-celebration-concert/
LOCATION:The Bus Stop Theatre\, 2203 Gottingen Street\, Halifax\, Nova Scotia\, B3K3B5\, Canada
CATEGORIES:Community Events,Theatre
ATTACH;FMTTYPE=image/png:https://busstoptheatre.coop/wp-content/uploads/2020/07/Celbration.png
ORGANIZER;CN="The Bus Stop Theatre Coop":MAILTO:info@thebusstoptheatre.org
GEO:44.6531707;-63.585073
X-APPLE-STRUCTURED-LOCATION;VALUE=URI;X-ADDRESS=The Bus Stop Theatre 2203 Gottingen Street Halifax Nova Scotia B3K3B5 Canada;X-APPLE-RADIUS=500;X-TITLE=2203 Gottingen Street:geo:-63.585073,44.6531707
END:VEVENT
END:VCALENDAR