BEGIN:VCALENDAR
VERSION:2.0
PRODID:-//The Bus Stop Theatre - ECPv6.14.2//NONSGML v1.0//EN
CALSCALE:GREGORIAN
METHOD:PUBLISH
X-ORIGINAL-URL:https://busstoptheatre.coop
X-WR-CALDESC:Events for The Bus Stop Theatre
REFRESH-INTERVAL;VALUE=DURATION:PT1H
X-Robots-Tag:noindex
X-PUBLISHED-TTL:PT1H
BEGIN:VTIMEZONE
TZID:America/Halifax
BEGIN:DAYLIGHT
TZOFFSETFROM:-0400
TZOFFSETTO:-0300
TZNAME:ADT
DTSTART:20200308T060000
END:DAYLIGHT
BEGIN:STANDARD
TZOFFSETFROM:-0300
TZOFFSETTO:-0400
TZNAME:AST
DTSTART:20201101T050000
END:STANDARD
END:VTIMEZONE
BEGIN:VEVENT
DTSTART;TZID=America/Halifax:20201007T080000
DTEND;TZID=America/Halifax:20201007T170000
DTSTAMP:20260423T060620
CREATED:20201007T142030Z
LAST-MODIFIED:20201007T142030Z
UID:7174-1602057600-1602090000@busstoptheatre.coop
SUMMARY:10th Anniversary Emerging Lens Cultural Film Festival
DESCRIPTION:Emerging Lens is celebrating 10 years through three nights of live screenings from October 9th to 10th! \nEmerging Lens Website \nAt the Bus Stop Theatre Co-op on October 8th:\nRegister For Free \n\n\n“She is a Man\, He is a Woman” – Abes Borhan (Canada) \n“1st Kings” – Hilda Afrakoma (Canada) \n“Products (A Manhandled Toy)” – Danissh Ali (India) \n“A Home for Curiosities” – Ben Tobin (USA) \n(Retrospective)- our past films \n“Excuse me\, may I touch your skin” – Asna Adhami (Canada) \n“Evelina Upshaw” Pink Dog Productions (Canada) \n“Carry the Cross “– Jarrett Shaw (Canada) \nAudience choice award ballot (during the Q&A) \nQ & A with filmmakers
URL:https://busstoptheatre.coop/event/10th-anniversary-emerging-lens-cultural-film-festival/
LOCATION:The Bus Stop Theatre\, 2203 Gottingen Street\, Halifax\, Nova Scotia\, B3K3B5\, Canada
CATEGORIES:Film
ATTACH;FMTTYPE=image/png:https://busstoptheatre.coop/wp-content/uploads/2020/10/10th-Anniversary-jpeg2.png
GEO:44.6531707;-63.585073
X-APPLE-STRUCTURED-LOCATION;VALUE=URI;X-ADDRESS=The Bus Stop Theatre 2203 Gottingen Street Halifax Nova Scotia B3K3B5 Canada;X-APPLE-RADIUS=500;X-TITLE=2203 Gottingen Street:geo:-63.585073,44.6531707
END:VEVENT
BEGIN:VEVENT
DTSTART;TZID=America/Halifax:20201008T183000
DTEND;TZID=America/Halifax:20201008T203000
DTSTAMP:20260423T060620
CREATED:20201008T153203Z
LAST-MODIFIED:20201008T153203Z
UID:7195-1602181800-1602189000@busstoptheatre.coop
SUMMARY:Emerging Lens Cultural Film Festival
DESCRIPTION:Join us to celebrate a decade of presenting multicultural films!!!! \n“She is a Man\, He is a Woman”  – Abes Borhan (Canada) \n“1st Kings”  – Hilda Afrakoma (Canada) \n“Products (A Manhandled Toy)” – Danissh Ali   (India) \n“A Home for Curiosities”  – Ben Tobin (USA) \n  \n(Retrospective) \n“Excuse me\, may I touch your skin” – Asna Adhami (Canada) \n“Evelina Upshaw” Pink Dog Productions (Canada) \n“Carry the Cross “– Jarrett Shaw  (Canada) \n​ \nAudience choice award ballot (during the Q&A) \nQ & A with filmmakers  \n  \n Register for your free ticket
URL:https://busstoptheatre.coop/event/emerging-lens-cultural-film-festival/
LOCATION:The Bus Stop Theatre\, 2203 Gottingen Street\, Halifax\, Nova Scotia\, B3K3B5\, Canada
CATEGORIES:Film
ATTACH;FMTTYPE=image/png:https://busstoptheatre.coop/wp-content/uploads/2020/10/10th-Anniversary-jpeg2.png
GEO:44.6531707;-63.585073
X-APPLE-STRUCTURED-LOCATION;VALUE=URI;X-ADDRESS=The Bus Stop Theatre 2203 Gottingen Street Halifax Nova Scotia B3K3B5 Canada;X-APPLE-RADIUS=500;X-TITLE=2203 Gottingen Street:geo:-63.585073,44.6531707
END:VEVENT
BEGIN:VEVENT
DTSTART;TZID=America/Halifax:20201016T170000
DTEND;TZID=America/Halifax:20201016T210000
DTSTAMP:20260423T060620
CREATED:20201008T153816Z
LAST-MODIFIED:20201008T153816Z
UID:7201-1602867600-1602882000@busstoptheatre.coop
SUMMARY:Feeling Distance
DESCRIPTION:f e e l i n g d i s t a n c e\nLocated in the Bus Stop Theatre Lobby Windows \nby Liliona Quarmyne\, Mo Drescher & Daren Okafo\n\nf e e l i n g d i s t a n c e\n.vulnerability.protection. technology. \nInteractions with land\, body and technology shape and reshape our relationships to ourselves\, each other and the systems that support and oppress us. \nThis pervasive experimental performance piece explores these questions through text message and web-based platforms. From October 13-15\, “world shapers” can “opt-in” to receive prompts that will invite them to move\, sound\, feel\, play\, notice\, and respond. These responses will then be woven into the fabric of the emergent world that will be shared through a live\, multi-disciplinary COVID-safe performance on October 16th. \n\n\nIn these times\, questions of how to stay connected in work\, care and community challenge us. These questions also offer possibilities to explore feeling distance\, vulnerability\, protection\, and technology. \nAs we re-pattern and re-habit relationships\, questions arise … \n\nCan we feel each other across distance?\nDo we know the other is there if we cannot sense them in our usual ways?\nCan tech devices be extensions of our bodies?\nCan our “tech extremities” see\, feel\, speak\, listen\, taste\, connect?\nHow do they influence\, enable or contaminate our relationships?\nHow can we shape and re-shape these interactions?\n\nThis pervasive experimental performance piece explores these questions through text message and web-based platforms. From October 13-15\, “world shapers” can “opt-in” to receive prompts that will invite them to move\, sound\, feel\, play\, notice\, and respond. These responses will then be woven into the fabric of the emergent world that will be shared through a live\, multi-disciplinary covid-safe performance on October 16th.
URL:https://busstoptheatre.coop/event/feeling-distance/
LOCATION:The Bus Stop Theatre\, 2203 Gottingen Street\, Halifax\, Nova Scotia\, B3K3B5\, Canada
CATEGORIES:Nocture
ATTACH;FMTTYPE=image/png:https://busstoptheatre.coop/wp-content/uploads/2020/10/nocture.png
GEO:44.6531707;-63.585073
X-APPLE-STRUCTURED-LOCATION;VALUE=URI;X-ADDRESS=The Bus Stop Theatre 2203 Gottingen Street Halifax Nova Scotia B3K3B5 Canada;X-APPLE-RADIUS=500;X-TITLE=2203 Gottingen Street:geo:-63.585073,44.6531707
END:VEVENT
BEGIN:VEVENT
DTSTART;TZID=America/Halifax:20201028T190000
DTEND;TZID=America/Halifax:20201028T210000
DTSTAMP:20260423T060620
CREATED:20201014T190552Z
LAST-MODIFIED:20201014T190552Z
UID:7216-1603911600-1603918800@busstoptheatre.coop
SUMMARY:Con Spirito Duo: Renaissance to Ragtime
DESCRIPTION:Con Spirito Duo performs a delightful mix of Classical\, Ragtime\, Celtic\, Spanish\, and Pop guitar duets accessible to all audiences. As a rarified musical presentation the guitar duo of Jason Giles and Victor Fraser maintains the integrity of Concert Guitar performance. While highlighting their individual talent and collective musical synergy they engage the listener in a unique and seldom seen artful interpretation of confidence\, and experience. \nBuy Tickets
URL:https://busstoptheatre.coop/event/con-spirito-duo-renaissance-to-ragtime/
LOCATION:The Bus Stop Theatre\, 2203 Gottingen Street\, Halifax\, Nova Scotia\, B3K3B5\, Canada
CATEGORIES:Music
ATTACH;FMTTYPE=image/jpeg:https://busstoptheatre.coop/wp-content/uploads/2020/10/Con-Spirito.jpg
GEO:44.6531707;-63.585073
X-APPLE-STRUCTURED-LOCATION;VALUE=URI;X-ADDRESS=The Bus Stop Theatre 2203 Gottingen Street Halifax Nova Scotia B3K3B5 Canada;X-APPLE-RADIUS=500;X-TITLE=2203 Gottingen Street:geo:-63.585073,44.6531707
END:VEVENT
END:VCALENDAR