BEGIN:VCALENDAR
VERSION:2.0
PRODID:-//The Bus Stop Theatre - ECPv6.14.2//NONSGML v1.0//EN
CALSCALE:GREGORIAN
METHOD:PUBLISH
X-WR-CALNAME:The Bus Stop Theatre
X-ORIGINAL-URL:https://busstoptheatre.coop
X-WR-CALDESC:Events for The Bus Stop Theatre
REFRESH-INTERVAL;VALUE=DURATION:PT1H
X-Robots-Tag:noindex
X-PUBLISHED-TTL:PT1H
BEGIN:VTIMEZONE
TZID:America/Halifax
BEGIN:DAYLIGHT
TZOFFSETFROM:-0400
TZOFFSETTO:-0300
TZNAME:ADT
DTSTART:20240310T060000
END:DAYLIGHT
BEGIN:STANDARD
TZOFFSETFROM:-0300
TZOFFSETTO:-0400
TZNAME:AST
DTSTART:20241103T050000
END:STANDARD
END:VTIMEZONE
BEGIN:VEVENT
DTSTART;TZID=America/Halifax:20240202T193000
DTEND;TZID=America/Halifax:20240202T213000
DTSTAMP:20260420T202152
CREATED:20240118T154409Z
LAST-MODIFIED:20240118T154409Z
UID:11960-1706902200-1706909400@busstoptheatre.coop
SUMMARY:the Halifax chronicles | an improv show about nothing
DESCRIPTION:“the Halifax chronicles” sees local comedians improvising a live TV sitcom centered around the minutea of living in Canada’s biggest small town: Halifax! Fall in love with this witty cast of characters as they navigate “city” life on the East Coast. \nThis double act show will feature two fully improvised sitcom episodes including set pieces and costumes. Enjoy bar service before the show and during the commercial break. \nYou can expect to see some quirky characters\, quippy dialogue\, and questionable situations presented in the style of your favourite show about nothing. \nStarring:\nErik Garf\nJonah Campbell\nLuschka Van Aardt\nTaylor McMillen\nand special guests!
URL:https://busstoptheatre.coop/event/the-halifax-chronicles-an-improv-show-about-nothing/
LOCATION:The Bus Stop Theatre\, 2203 Gottingen Street\, Halifax\, Nova Scotia\, B3K3B5\, Canada
CATEGORIES:Comedy & Improv
GEO:44.6531707;-63.585073
X-APPLE-STRUCTURED-LOCATION;VALUE=URI;X-ADDRESS=The Bus Stop Theatre 2203 Gottingen Street Halifax Nova Scotia B3K3B5 Canada;X-APPLE-RADIUS=500;X-TITLE=2203 Gottingen Street:geo:-63.585073,44.6531707
END:VEVENT
BEGIN:VEVENT
DTSTART;TZID=America/Halifax:20240203T200000
DTEND;TZID=America/Halifax:20240203T223000
DTSTAMP:20260420T202152
CREATED:20240118T160130Z
LAST-MODIFIED:20240203T192059Z
UID:11965-1706990400-1706999400@busstoptheatre.coop
SUMMARY:Future of Funny II
DESCRIPTION:POSTPONED DUE TO WEATHER – DATE TBD \nBack by popular demand\, the Future of Funny answers the question on all of our minds these days: Who’s funnier\, artificial intelligence or humans? \nIn an evening of dystopian comedy set in the year 2069\, six of Halifax’s top stand-up comedians (Kyle Barnet\, Jordan Foisy\, Luba Magnus\, Robbie Vino\, Steve Mackie and Dan Hendricken) will perform their best stand-up comedian routines\, then hand over their set-lists to the founder of the comedy-tech startup GiGGLE\, Nick Martinello. \nThe joke lists will be used as AI prompts to generate parallel comedy routines performed by the CyBoys; half-human\, half-machine joke slingers. The audience will vote on whether human comics are obsolete and subject to “termination” in the most gruesome way possible. \nGet your tickets now\, the fate of humanity is in your hands!
URL:https://busstoptheatre.coop/event/future-of-funny-ii/
LOCATION:The Bus Stop Theatre\, 2203 Gottingen Street\, Halifax\, Nova Scotia\, B3K3B5\, Canada
CATEGORIES:Comedy & Improv
GEO:44.6531707;-63.585073
X-APPLE-STRUCTURED-LOCATION;VALUE=URI;X-ADDRESS=The Bus Stop Theatre 2203 Gottingen Street Halifax Nova Scotia B3K3B5 Canada;X-APPLE-RADIUS=500;X-TITLE=2203 Gottingen Street:geo:-63.585073,44.6531707
END:VEVENT
BEGIN:VEVENT
DTSTART;TZID=America/Halifax:20240204T180000
DTEND;TZID=America/Halifax:20240204T210000
DTSTAMP:20260420T202152
CREATED:20240125T153528Z
LAST-MODIFIED:20240301T112458Z
UID:11984-1707069600-1707080400@busstoptheatre.coop
SUMMARY:Israelism - Film Screening
DESCRIPTION:Independent Jewish Voices presents Israelism in collaboration with the Atlantic Canadian Palestinian Society\, Mayworks Kjipuktuk/Halifax and the Bus Stop Theatre Co-op.\n\nhttps://www.israelismfilm.com/ \nWhen two young American Jews raised to unconditionally love Israel witness the brutal way Israel treats Palestinians\, their lives take sharp left turns. \nThey join a movement of young American Jews battling the old guard to redefine Judaism’s relationship with Israel\, revealing a deepening generational divide over modern Jewish identity. \nAfter this screening\, you will meet some of the filmmakers and you can participate in Q & A with them. \nMasking is strongly encouraged. \n\nFor more information\, contact jjv-halifax@ijvcanada.org\,\n902-240-2782
URL:https://busstoptheatre.coop/event/israelism-film-screening/
LOCATION:The Bus Stop Theatre\, 2203 Gottingen Street\, Halifax\, Nova Scotia\, B3K3B5\, Canada
CATEGORIES:Film
GEO:44.6531707;-63.585073
X-APPLE-STRUCTURED-LOCATION;VALUE=URI;X-ADDRESS=The Bus Stop Theatre 2203 Gottingen Street Halifax Nova Scotia B3K3B5 Canada;X-APPLE-RADIUS=500;X-TITLE=2203 Gottingen Street:geo:-63.585073,44.6531707
END:VEVENT
BEGIN:VEVENT
DTSTART;TZID=America/Halifax:20240210T050000
DTEND;TZID=America/Halifax:20240210T230000
DTSTAMP:20260420T202152
CREATED:20240125T154824Z
LAST-MODIFIED:20240125T154824Z
UID:11989-1707541200-1707606000@busstoptheatre.coop
SUMMARY:Atlantic Boylesque presents: Love Sucks
DESCRIPTION:Atlantic Boylesque does Valentine’s Day differently. Designating a date to reflect on love can’t just be about dinner reservations\, over-extended credit limits\, roses imported from afar\, slavery chocolate\, and unmet expectations. We should also reflect on the dark side of love: heartbreak\, jealousy\, vengeance\, infidelity\, manipulation\, codependency\, and in-laws. So shake off those hetero-normative shackles\, give a finger to the wedding industrial complex\, and come celebrate all the ways in which Love Sucks. Early (5-7pm) and late (9-11pm) show tickets available.
URL:https://busstoptheatre.coop/event/atlantic-boylesque-presents-love-sucks/
LOCATION:The Bus Stop Theatre\, 2203 Gottingen Street\, Halifax\, Nova Scotia\, B3K3B5\, Canada
CATEGORIES:Burlesque
GEO:44.6531707;-63.585073
X-APPLE-STRUCTURED-LOCATION;VALUE=URI;X-ADDRESS=The Bus Stop Theatre 2203 Gottingen Street Halifax Nova Scotia B3K3B5 Canada;X-APPLE-RADIUS=500;X-TITLE=2203 Gottingen Street:geo:-63.585073,44.6531707
END:VEVENT
BEGIN:VEVENT
DTSTART;VALUE=DATE:20240212
DTEND;VALUE=DATE:20240216
DTSTAMP:20260420T202152
CREATED:20240125T152211Z
LAST-MODIFIED:20240202T180517Z
UID:11975-1707696000-1708041599@busstoptheatre.coop
SUMMARY:Rossum's Universal Robots
DESCRIPTION:Rossum’s Universal Robots (R.U.R.) is a 1920’s Czech Sci-Fi play written by Karel Čapek\,\nabout a factory which produces the first ever ‘Robots’\, a term first introduced to the english language by Čapek himself. In Rhys Parks & Riley Reid’s adaptation of this script\, they ask the audience what will become of a world dominated by robotic labour? And when (or if) a man-made machine becomes a living creature? Morals become grey\, and the world changes\, from the perspective of a monopolized industry. See the inevitable fate of the world\, from the comfort of Rossum’s factory.\n\nContent Warnings:\nExistential topics including: religion\, evolution\, & self-consciousness. Violence\, on-and-off-stage murder\, and firearms (gun violence)\, mental illness and death in general. Talk of body horror and the grotesque. Talk of suicide. Alcohol.\n\nSensory Warnings:\nSounds of: explosions\, gunshots (on-and-off-stage)\, loud machines\, fire\, cybernetic augmentation\, marching\, and screams. Lighting blackouts & instantaneous shifts.
URL:https://busstoptheatre.coop/event/rossums-universal-robots/
LOCATION:The Bus Stop Theatre\, 2203 Gottingen Street\, Halifax\, Nova Scotia\, B3K3B5\, Canada
CATEGORIES:Theatre
GEO:44.6531707;-63.585073
X-APPLE-STRUCTURED-LOCATION;VALUE=URI;X-ADDRESS=The Bus Stop Theatre 2203 Gottingen Street Halifax Nova Scotia B3K3B5 Canada;X-APPLE-RADIUS=500;X-TITLE=2203 Gottingen Street:geo:-63.585073,44.6531707
END:VEVENT
BEGIN:VEVENT
DTSTART;TZID=America/Halifax:20240218T193000
DTEND;TZID=America/Halifax:20240218T220000
DTSTAMP:20260420T202152
CREATED:20240201T153751Z
LAST-MODIFIED:20240301T112355Z
UID:11996-1708284600-1708293600@busstoptheatre.coop
SUMMARY:Hello City: Love Letters
DESCRIPTION:Hello City is bringing back one of our favourite February traditions: Love Letters. Watch as we improvisesilly scenes based on the love letters you write and submit to us! A show sure to warm your heart and tickle your gut! Sunday\, February 18th. 7:30pm.
URL:https://busstoptheatre.coop/event/hello-city-love-letters-2/
LOCATION:The Bus Stop Theatre\, 2203 Gottingen Street\, Halifax\, Nova Scotia\, B3K3B5\, Canada
CATEGORIES:Comedy & Improv
GEO:44.6531707;-63.585073
X-APPLE-STRUCTURED-LOCATION;VALUE=URI;X-ADDRESS=The Bus Stop Theatre 2203 Gottingen Street Halifax Nova Scotia B3K3B5 Canada;X-APPLE-RADIUS=500;X-TITLE=2203 Gottingen Street:geo:-63.585073,44.6531707
END:VEVENT
BEGIN:VEVENT
DTSTART;TZID=America/Halifax:20240222T190000
DTEND;TZID=America/Halifax:20240222T230000
DTSTAMP:20260420T202152
CREATED:20240125T152841Z
LAST-MODIFIED:20240125T152841Z
UID:11977-1708628400-1708642800@busstoptheatre.coop
SUMMARY:Rainbow Snow Ball
DESCRIPTION:
URL:https://busstoptheatre.coop/event/rainbow-snow-ball/
LOCATION:The Bus Stop Theatre\, 2203 Gottingen Street\, Halifax\, Nova Scotia\, B3K3B5\, Canada
CATEGORIES:Community Events
GEO:44.6531707;-63.585073
X-APPLE-STRUCTURED-LOCATION;VALUE=URI;X-ADDRESS=The Bus Stop Theatre 2203 Gottingen Street Halifax Nova Scotia B3K3B5 Canada;X-APPLE-RADIUS=500;X-TITLE=2203 Gottingen Street:geo:-63.585073,44.6531707
END:VEVENT
BEGIN:VEVENT
DTSTART;TZID=America/Halifax:20240224T190000
DTEND;TZID=America/Halifax:20240224T230000
DTSTAMP:20260420T202152
CREATED:20240125T153126Z
LAST-MODIFIED:20240201T154017Z
UID:11982-1708801200-1708815600@busstoptheatre.coop
SUMMARY:Crescent Moon Cabaret
DESCRIPTION:Crescent Moon Cabaret’s latest show is a contemporary vaudeville-esque variety show featuring a wide variety of local talent all in one place. From the comedic to the sultry\, from the musical to the magical; there is surely something for everyone! Artists featured include: Amanda Rose; Comedian and Host\, Kay Licious; Burlesque\, Mister O’Mazing; Magician and Boylesque\, Logan Wolfe; Boylesque with Avalon Moore; vocalist/accompanist\, Luciana Silvestra Fernandes; Dance\, Burlesque\, Cat McCluskey; Musician and vocalist\, Lacia Majora; burlesque\, Galaxy; Pole Dancer\, Miss Shapen; Stage Kitten Extraordinaire
URL:https://busstoptheatre.coop/event/crescent-moon-burlesque/
LOCATION:The Bus Stop Theatre\, 2203 Gottingen Street\, Halifax\, Nova Scotia\, B3K3B5\, Canada
CATEGORIES:Burlesque
ORGANIZER;CN="Crescent Moon Productions":MAILTO:crescentmooncabaret@gmail.com
GEO:44.6531707;-63.585073
X-APPLE-STRUCTURED-LOCATION;VALUE=URI;X-ADDRESS=The Bus Stop Theatre 2203 Gottingen Street Halifax Nova Scotia B3K3B5 Canada;X-APPLE-RADIUS=500;X-TITLE=2203 Gottingen Street:geo:-63.585073,44.6531707
END:VEVENT
END:VCALENDAR