BEGIN:VCALENDAR
VERSION:2.0
PRODID:-//The Bus Stop Theatre - ECPv6.14.2//NONSGML v1.0//EN
CALSCALE:GREGORIAN
METHOD:PUBLISH
X-WR-CALNAME:The Bus Stop Theatre
X-ORIGINAL-URL:https://busstoptheatre.coop
X-WR-CALDESC:Events for The Bus Stop Theatre
REFRESH-INTERVAL;VALUE=DURATION:PT1H
X-Robots-Tag:noindex
X-PUBLISHED-TTL:PT1H
BEGIN:VTIMEZONE
TZID:America/Halifax
BEGIN:DAYLIGHT
TZOFFSETFROM:-0400
TZOFFSETTO:-0300
TZNAME:ADT
DTSTART:20240310T060000
END:DAYLIGHT
BEGIN:STANDARD
TZOFFSETFROM:-0300
TZOFFSETTO:-0400
TZNAME:AST
DTSTART:20241103T050000
END:STANDARD
END:VTIMEZONE
BEGIN:VEVENT
DTSTART;TZID=America/Halifax:20240801T170000
DTEND;TZID=America/Halifax:20240801T200000
DTSTAMP:20260420T163835
CREATED:20240801T181106Z
LAST-MODIFIED:20240801T181106Z
UID:12707-1722531600-1722542400@busstoptheatre.coop
SUMMARY:Anika Riopel meet & greet
DESCRIPTION:Come join me\, Anika Riopel\, for my kick-off campaign to become councillor for HRM District 8 – the North End.  Drop in for a snack\, a drink and tell me what’s important to you! I’m building my campaign from the community and I’m excited to hear what you care about. For more about me and campaign stuff check out my website. \n\nWhy the Bus Stop? The Bus Stop Theatre Co-Op is a key venue in our city for fostering emerging artists\, and making sure that our arts community is accessible\, equitable and holding the stories and conversations that we need to have for a just future Having worked in the local theatre community for 5 years doing administration and production work – I wanted to host my kick-off here to highlight this space and the value that it holds for our community. \n\nYes\, I’m running for District 8 – but I would love to see all my pals from HRM too!
URL:https://busstoptheatre.coop/event/anika-riopel-meet-greet/
LOCATION:The Bus Stop Theatre\, 2203 Gottingen Street\, Halifax\, Nova Scotia\, B3K3B5\, Canada
CATEGORIES:Community Events
GEO:44.6531707;-63.585073
X-APPLE-STRUCTURED-LOCATION;VALUE=URI;X-ADDRESS=The Bus Stop Theatre 2203 Gottingen Street Halifax Nova Scotia B3K3B5 Canada;X-APPLE-RADIUS=500;X-TITLE=2203 Gottingen Street:geo:-63.585073,44.6531707
END:VEVENT
BEGIN:VEVENT
DTSTART;TZID=America/Halifax:20240809T190000
DTEND;TZID=America/Halifax:20240809T220000
DTSTAMP:20260420T163835
CREATED:20240710T151810Z
LAST-MODIFIED:20240710T151810Z
UID:12685-1723230000-1723240800@busstoptheatre.coop
SUMMARY:Hot\, Wet & Shaking
DESCRIPTION:
URL:https://busstoptheatre.coop/event/hot-wet-shaking/
LOCATION:The Bus Stop Theatre\, 2203 Gottingen Street\, Halifax\, Nova Scotia\, B3K3B5\, Canada
CATEGORIES:Book Launch
GEO:44.6531707;-63.585073
X-APPLE-STRUCTURED-LOCATION;VALUE=URI;X-ADDRESS=The Bus Stop Theatre 2203 Gottingen Street Halifax Nova Scotia B3K3B5 Canada;X-APPLE-RADIUS=500;X-TITLE=2203 Gottingen Street:geo:-63.585073,44.6531707
END:VEVENT
BEGIN:VEVENT
DTSTART;TZID=America/Halifax:20240814T193000
DTEND;TZID=America/Halifax:20240814T213000
DTSTAMP:20260420T163835
CREATED:20240801T180945Z
LAST-MODIFIED:20240801T180945Z
UID:12699-1723663800-1723671000@busstoptheatre.coop
SUMMARY:Spontaneity August Improv Showcase
DESCRIPTION:Improvised theatre. Laugh your socks off with our talented Performance Teams! (All Ages) Spontaneity Improv Company will be presenting their monthly showcase! Our group of talented improvisers will be taking the stage and improvising based on your suggestions. Get your tickets now and take part in the show by calling out our inspiration.
URL:https://busstoptheatre.coop/event/spontaneity-august-improv-showcase/
LOCATION:The Bus Stop Theatre\, 2203 Gottingen Street\, Halifax\, Nova Scotia\, B3K3B5\, Canada
CATEGORIES:Comedy & Improv
GEO:44.6531707;-63.585073
X-APPLE-STRUCTURED-LOCATION;VALUE=URI;X-ADDRESS=The Bus Stop Theatre 2203 Gottingen Street Halifax Nova Scotia B3K3B5 Canada;X-APPLE-RADIUS=500;X-TITLE=2203 Gottingen Street:geo:-63.585073,44.6531707
END:VEVENT
BEGIN:VEVENT
DTSTART;VALUE=DATE:20240816
DTEND;VALUE=DATE:20240818
DTSTAMP:20260420T163835
CREATED:20240801T182106Z
LAST-MODIFIED:20240809T191952Z
UID:12716-1723766400-1723939199@busstoptheatre.coop
SUMMARY:StART Festival Artist Showcase & Workshops
DESCRIPTION:Join us again this year for another StART Festival Showcase! This year we’ve had 12 artists work with professional mentors in their respective disciplines to create new works to showcase from 6:30pm – 9 pm on August 16th! Sign up link here. \n  \nWorkshops\, all day Saturday\, August 17th! More to come! 👀 \nHow I got my StART – Owen ‘O’Sound’ Lee\n12:00 pm – 1:30 pm \nGrant Writing 101: Meg Hubley \n1:45 pm – 3:15 pm \nStay tuned for more workshops being announced! Sign up link here🔗 \nRegistration to attend the workshops are free\, however we will be accepting donations to help fund future BSTC programming!
URL:https://busstoptheatre.coop/event/ftart-festival-artist-showcase-workshops/
LOCATION:The Bus Stop Theatre\, 2203 Gottingen Street\, Halifax\, Nova Scotia\, B3K3B5\, Canada
CATEGORIES:Community Events,Festival,Meetings & Workshops,StART Festival,Workshop
GEO:44.6531707;-63.585073
X-APPLE-STRUCTURED-LOCATION;VALUE=URI;X-ADDRESS=The Bus Stop Theatre 2203 Gottingen Street Halifax Nova Scotia B3K3B5 Canada;X-APPLE-RADIUS=500;X-TITLE=2203 Gottingen Street:geo:-63.585073,44.6531707
END:VEVENT
BEGIN:VEVENT
DTSTART;TZID=America/Halifax:20240818T190000
DTEND;TZID=America/Halifax:20240818T203000
DTSTAMP:20260420T163835
CREATED:20240722T163615Z
LAST-MODIFIED:20240722T163615Z
UID:12695-1724007600-1724013000@busstoptheatre.coop
SUMMARY:Brotherly Loathe
DESCRIPTION:A stand up comedy show featuring brothers Aaron & Alan Hopkins (and guests)! \n2 shows 7pm and 9 pm
URL:https://busstoptheatre.coop/event/brotherly-loathe/2024-08-18/
LOCATION:The Bus Stop Theatre\, 2203 Gottingen Street\, Halifax\, Nova Scotia\, B3K3B5\, Canada
CATEGORIES:Comedy & Improv
GEO:44.6531707;-63.585073
X-APPLE-STRUCTURED-LOCATION;VALUE=URI;X-ADDRESS=The Bus Stop Theatre 2203 Gottingen Street Halifax Nova Scotia B3K3B5 Canada;X-APPLE-RADIUS=500;X-TITLE=2203 Gottingen Street:geo:-63.585073,44.6531707
END:VEVENT
BEGIN:VEVENT
DTSTART;TZID=America/Halifax:20240820T183000
DTEND;TZID=America/Halifax:20240820T203000
DTSTAMP:20260420T163835
CREATED:20240820T154534Z
LAST-MODIFIED:20240820T154829Z
UID:12735-1724178600-1724185800@busstoptheatre.coop
SUMMARY:Disarmament & the Long Walk to Peace
DESCRIPTION:Nova Scotia Voice of Women for Peace applauds the strong nonviolent resistance students have shown on campuses across Canada in their urgent demands for disarmament and a ceasefire in Gaza.  We want to keep that conversation going and learn from their experiences. \n  \nTogether with Science for Peace\, the Women’s International League for Peace and Freedom\, Voice of Women for Peace is organizing  ‘ Walking Together for  Peace” that will include 20 national\, local and international participants walking from from Pugwash to Halifax in September.  The walk from Pugwash will focus on nuclear disarmament but the wider topic of social change (decolonization\, demilitarization and decarbonization) are the foundation for peace and justice. \n  \nThis action has  given us the momentum for this event at the Bus Stop Theatre as well as the momentum to discuss various ways of resistance and calling for disarmament. \n  \nGaza\, of course\, provides the urgent backdrop\, as do all the hotspots of military violence and injustice around the globe. We must challenge the ease of spending billions on war toys rather than human protection such as housing\,fair wages\, health care etc.  Youth engagement in this conversation is one of the key drivers for change. Please join us on August 20 at the Bus Stop Theater . \n  \nPanel Speakers  include: \nSara MacCallum President\, King’s College Student Union \nJoud Ghazal President\, Palestinian Student Association at DAL \nOwen Skeen Representative\,SUNSCAD NASCAD Student Union \nAlexina St. Pierre-Farrow \,Canadian Federation of Students NS \nDr. Jill Carr Harris. Ekta Parishad Voice of Women for Peace \nRajagopal PV Ekta Parishad.
URL:https://busstoptheatre.coop/event/disarmament-the-long-walk-to-peace/
LOCATION:The Bus Stop Theatre\, 2203 Gottingen Street\, Halifax\, Nova Scotia\, B3K3B5\, Canada
CATEGORIES:Community Events
GEO:44.6531707;-63.585073
X-APPLE-STRUCTURED-LOCATION;VALUE=URI;X-ADDRESS=The Bus Stop Theatre 2203 Gottingen Street Halifax Nova Scotia B3K3B5 Canada;X-APPLE-RADIUS=500;X-TITLE=2203 Gottingen Street:geo:-63.585073,44.6531707
END:VEVENT
BEGIN:VEVENT
DTSTART;TZID=America/Halifax:20240822T073000
DTEND;TZID=America/Halifax:20240822T213000
DTSTAMP:20260420T163835
CREATED:20240801T181607Z
LAST-MODIFIED:20240801T181607Z
UID:12714-1724311800-1724362200@busstoptheatre.coop
SUMMARY:The Actor's Showcase
DESCRIPTION:Featuring eleven up-and-comers in Halifax.
URL:https://busstoptheatre.coop/event/the-actors-showcase/
LOCATION:The Bus Stop Theatre\, 2203 Gottingen Street\, Halifax\, Nova Scotia\, B3K3B5\, Canada
CATEGORIES:Theatre,Workshop
GEO:44.6531707;-63.585073
X-APPLE-STRUCTURED-LOCATION;VALUE=URI;X-ADDRESS=The Bus Stop Theatre 2203 Gottingen Street Halifax Nova Scotia B3K3B5 Canada;X-APPLE-RADIUS=500;X-TITLE=2203 Gottingen Street:geo:-63.585073,44.6531707
END:VEVENT
BEGIN:VEVENT
DTSTART;TZID=America/Halifax:20240825T200000
DTEND;TZID=America/Halifax:20240825T220000
DTSTAMP:20260420T163835
CREATED:20240801T181251Z
LAST-MODIFIED:20240801T181251Z
UID:12711-1724616000-1724623200@busstoptheatre.coop
SUMMARY:Hassan Phills Live
DESCRIPTION:Hassan Phills brings his unique standup comedy show showcasing the vibrant tapestry of culture and community in Toronto to the world.
URL:https://busstoptheatre.coop/event/hassan-phills-live-2/
LOCATION:The Bus Stop Theatre\, 2203 Gottingen Street\, Halifax\, Nova Scotia\, B3K3B5\, Canada
CATEGORIES:Comedy & Improv
GEO:44.6531707;-63.585073
X-APPLE-STRUCTURED-LOCATION;VALUE=URI;X-ADDRESS=The Bus Stop Theatre 2203 Gottingen Street Halifax Nova Scotia B3K3B5 Canada;X-APPLE-RADIUS=500;X-TITLE=2203 Gottingen Street:geo:-63.585073,44.6531707
END:VEVENT
BEGIN:VEVENT
DTSTART;VALUE=DATE:20240829
DTEND;VALUE=DATE:20240909
DTSTAMP:20260420T163835
CREATED:20240814T143133Z
LAST-MODIFIED:20240814T143133Z
UID:12726-1724889600-1725839999@busstoptheatre.coop
SUMMARY:Halifax Fringe Festival
DESCRIPTION:visit www.halifaxfringe.ca for a full schedule of events \n 
URL:https://busstoptheatre.coop/event/halifax-fringe-festival-2/
LOCATION:The Bus Stop Theatre\, 2203 Gottingen Street\, Halifax\, Nova Scotia\, B3K3B5\, Canada
CATEGORIES:Halifax Fringe
GEO:44.6531707;-63.585073
X-APPLE-STRUCTURED-LOCATION;VALUE=URI;X-ADDRESS=The Bus Stop Theatre 2203 Gottingen Street Halifax Nova Scotia B3K3B5 Canada;X-APPLE-RADIUS=500;X-TITLE=2203 Gottingen Street:geo:-63.585073,44.6531707
END:VEVENT
END:VCALENDAR