BEGIN:VCALENDAR
VERSION:2.0
PRODID:-//The Bus Stop Theatre - ECPv6.14.2//NONSGML v1.0//EN
CALSCALE:GREGORIAN
METHOD:PUBLISH
X-ORIGINAL-URL:https://busstoptheatre.coop
X-WR-CALDESC:Events for The Bus Stop Theatre
REFRESH-INTERVAL;VALUE=DURATION:PT1H
X-Robots-Tag:noindex
X-PUBLISHED-TTL:PT1H
BEGIN:VTIMEZONE
TZID:America/Halifax
BEGIN:DAYLIGHT
TZOFFSETFROM:-0400
TZOFFSETTO:-0300
TZNAME:ADT
DTSTART:20240310T060000
END:DAYLIGHT
BEGIN:STANDARD
TZOFFSETFROM:-0300
TZOFFSETTO:-0400
TZNAME:AST
DTSTART:20241103T050000
END:STANDARD
END:VTIMEZONE
BEGIN:VEVENT
DTSTART;TZID=America/Halifax:20241030T180000
DTEND;TZID=America/Halifax:20241101T220000
DTSTAMP:20260421T162636
CREATED:20241002T001730Z
LAST-MODIFIED:20241002T001934Z
UID:12866-1730311200-1730498400@busstoptheatre.coop
SUMMARY:AH! FRIGHTENING - A Halloween Extravaganza!
DESCRIPTION:Celebrate the quickening of the harvest and the coming of spectral fiends at the Bus Stop Theatre Co-operative this year. Spend October 30th-November 1st haunting days watching spooky movies\, shaking that booooty to spectral jams\, and reaping a final harvest of membership talent over an evening of performances that will turn your hair white with fright!\nThe Frightening is a three day fundraiser for the Bus Stop Theatre Co-Op!\n\nDay one\, October 30: A scary movie marathon\, featuring 3 classic filmsTickets: $20 full marathon $8 per movie\n\nDay two\, Halloween Night: A costume contest and dance party with DJ TKTickets: $12/PWYC\n\nDay three\, November 1: An evening presentation of creepy performances created and performed by Co-op members (like you!).Tickets: PWYC\n\nGet your tickets here: Buy Tickets\nEach ticket gets you entered to win our fabulous door prizes from our friends and neighbours in the north end and around the city! busstoptheatre.coop for updates\, special spooky discounts\, and more!\n\nHappy Halloween!
URL:https://busstoptheatre.coop/event/ah-frightening-a-halloween-extravaganza/
LOCATION:The Bus Stop Theatre\, 2203 Gottingen Street\, Halifax\, Nova Scotia\, B3K3B5\, Canada
CATEGORIES:Community Events,Festival
ATTACH;FMTTYPE=image/png:https://busstoptheatre.coop/wp-content/uploads/2024/10/Ah-frightening-poster.png
ORGANIZER;CN="The Bus Stop Theatre Coop":MAILTO:info@thebusstoptheatre.org
GEO:44.6531707;-63.585073
X-APPLE-STRUCTURED-LOCATION;VALUE=URI;X-ADDRESS=The Bus Stop Theatre 2203 Gottingen Street Halifax Nova Scotia B3K3B5 Canada;X-APPLE-RADIUS=500;X-TITLE=2203 Gottingen Street:geo:-63.585073,44.6531707
END:VEVENT
BEGIN:VEVENT
DTSTART;TZID=America/Halifax:20241102T190000
DTEND;TZID=America/Halifax:20241102T213000
DTSTAMP:20260421T162636
CREATED:20241028T130110Z
LAST-MODIFIED:20241101T180629Z
UID:12920-1730574000-1730583000@busstoptheatre.coop
SUMMARY:ECHO - documentary screening
DESCRIPTION:Join us for an intimate evening celebrating the story of rising artist\, Skaty. In Understanding Her Background\, we take a glimpse into her musical journey\, explore her Vietnamese heritage and her life in Halifax. This 25 mins opinion documentary unveils Skaty’s resilience\, creativity\, and the cultural influences that shape her sound.
URL:https://busstoptheatre.coop/event/echo-documentary-screening/
LOCATION:The Bus Stop Theatre\, 2203 Gottingen Street\, Halifax\, Nova Scotia\, B3K3B5\, Canada
CATEGORIES:Film
GEO:44.6531707;-63.585073
X-APPLE-STRUCTURED-LOCATION;VALUE=URI;X-ADDRESS=The Bus Stop Theatre 2203 Gottingen Street Halifax Nova Scotia B3K3B5 Canada;X-APPLE-RADIUS=500;X-TITLE=2203 Gottingen Street:geo:-63.585073,44.6531707
END:VEVENT
BEGIN:VEVENT
DTSTART;TZID=America/Halifax:20241103T190000
DTEND;TZID=America/Halifax:20241103T210000
DTSTAMP:20260421T162636
CREATED:20241015T163240Z
LAST-MODIFIED:20241015T163258Z
UID:12893-1730660400-1730667600@busstoptheatre.coop
SUMMARY:All Out For Lebanon
DESCRIPTION:Join us for an all out fundraiser in support of the attacks on Lebanon! Lebanon is home to so many people around the world and to our beloved at home\, it is our job to stand up and support a battle for humanity so that all of us can live free and true. We may be far but our efforts do not go unrecognized and unappreciated. This fundraiser will include local talent from all around Nova Scotia in support of Lebanon and all proceeds will be donated to the Lebanese Red Cross.
URL:https://busstoptheatre.coop/event/all-out-for-lebanon/
LOCATION:The Bus Stop Theatre\, 2203 Gottingen Street\, Halifax\, Nova Scotia\, B3K3B5\, Canada
CATEGORIES:Burlesque,Dance,Drag,Fundraiser,Magic
GEO:44.6531707;-63.585073
X-APPLE-STRUCTURED-LOCATION;VALUE=URI;X-ADDRESS=The Bus Stop Theatre 2203 Gottingen Street Halifax Nova Scotia B3K3B5 Canada;X-APPLE-RADIUS=500;X-TITLE=2203 Gottingen Street:geo:-63.585073,44.6531707
END:VEVENT
BEGIN:VEVENT
DTSTART;TZID=America/Halifax:20241105T193000
DTEND;TZID=America/Halifax:20241105T220000
DTSTAMP:20260421T162636
CREATED:20241003T173959Z
LAST-MODIFIED:20241003T173959Z
UID:12872-1730835000-1730844000@busstoptheatre.coop
SUMMARY:Deep Cuts presents: The Last Dragon
DESCRIPTION:Feel the rhythm of the night at The Bus Stop Theatre this November! Get ready to be transported into a world of martial arts\, music\, and magic as we screen the cult classic film\, The Last Dragon\, hosted by special guest host General Khan. Immerse yourself in the 80s bizarreness and witness the ultimate battle between good and evil.
URL:https://busstoptheatre.coop/event/deep-cuts-presents-the-last-dragon/
LOCATION:The Bus Stop Theatre\, 2203 Gottingen Street\, Halifax\, Nova Scotia\, B3K3B5\, Canada
CATEGORIES:Film
ORGANIZER;CN="Deep Cuts":MAILTO:watchdeepcuts@gmail.com
GEO:44.6531707;-63.585073
X-APPLE-STRUCTURED-LOCATION;VALUE=URI;X-ADDRESS=The Bus Stop Theatre 2203 Gottingen Street Halifax Nova Scotia B3K3B5 Canada;X-APPLE-RADIUS=500;X-TITLE=2203 Gottingen Street:geo:-63.585073,44.6531707
END:VEVENT
BEGIN:VEVENT
DTSTART;VALUE=DATE:20241107
DTEND;VALUE=DATE:20241111
DTSTAMP:20260421T162636
CREATED:20241004T150116Z
LAST-MODIFIED:20241004T150116Z
UID:12885-1730937600-1731283199@busstoptheatre.coop
SUMMARY:Afterwords Literary Festival
DESCRIPTION:Live your best literary life at AfterWords\, November 2-10. The sixth annual AfterWords\nLiterary Festival brings more than 50 writers together with audiences for conversations\,\nreadings\, workshops\, and more. There are four nights of programming at The Bus Stop\nTheatre\, featuring Caroline Adderson\, Elliott Gish\, Fawn Parker\, Deepa Rajagopalan\, MG\nVassanji\, Tanya Talaga\, Charlene Carr\, Elizabeth Renzetti\, Joshua Whitehead\, Heather\nO’Neill\, Catherine Leroux\, Shashi Bhat\, Sue Murtagh\, and Lisa Moore.\nFind tickets and more information here.
URL:https://busstoptheatre.coop/event/afterwords-literary-festival/
LOCATION:The Bus Stop Theatre\, 2203 Gottingen Street\, Halifax\, Nova Scotia\, B3K3B5\, Canada
CATEGORIES:AfterWords Literary Festival,Festival
GEO:44.6531707;-63.585073
X-APPLE-STRUCTURED-LOCATION;VALUE=URI;X-ADDRESS=The Bus Stop Theatre 2203 Gottingen Street Halifax Nova Scotia B3K3B5 Canada;X-APPLE-RADIUS=500;X-TITLE=2203 Gottingen Street:geo:-63.585073,44.6531707
END:VEVENT
BEGIN:VEVENT
DTSTART;TZID=America/Halifax:20241112T193000
DTEND;TZID=America/Halifax:20241112T203000
DTSTAMP:20260421T162636
CREATED:20241111T130307Z
LAST-MODIFIED:20241111T130307Z
UID:12944-1731439800-1731443400@busstoptheatre.coop
SUMMARY:ZUPPA presents: Decompositions by Tannis Kowalchuk
DESCRIPTION:ZUPPA (in association with Farm Arts Collective & The River Clyde Pageant) presents: \nDecompositions by Tannis Kowalchuk \n~and~ \nHow to Live with Dread by Jane Wells \n60mins – no intermission \nTheatre artist and organic farmer\, Tannis Kowalchuk performs a series of fiercely personal stories\, dances\, and songs that explore decomposition as a metaphor for living a full life. Kowalchuk’s dynamic duet with a pile of compost is a brave new work of live intimate theatre. \n  \n“I want to confabulate all the sticky stuff of my time and my life\, and in birth and death\, sickness and health\, I propose decomposition as explanation.”\n\nTannis Kowalchuk digs into her life as a farmer and artist\, theatrically exploring personal stories of art\, farming\, illness\, mortality—and the beautiful mess of loving it all.\n  \nTannis is a farmer at Willow Wisp Organic Farm in Damascus\, PA where she runs the cut flower production. She is also founding artistic director of Farm Arts Collective\, an agri-cultural centre dedicated to farming\, art\, food\, and ecology. With decades of devised theatre experience\, Tannis explores art\, farming\, mortality— and the beautiful mess of it all. \n 
URL:https://busstoptheatre.coop/event/zuppa-presents-decompositions-by-tannis-kowalchuk/
LOCATION:The Bus Stop Theatre\, 2203 Gottingen Street\, Halifax\, Nova Scotia\, B3K3B5\, Canada
CATEGORIES:Theatre
GEO:44.6531707;-63.585073
X-APPLE-STRUCTURED-LOCATION;VALUE=URI;X-ADDRESS=The Bus Stop Theatre 2203 Gottingen Street Halifax Nova Scotia B3K3B5 Canada;X-APPLE-RADIUS=500;X-TITLE=2203 Gottingen Street:geo:-63.585073,44.6531707
END:VEVENT
BEGIN:VEVENT
DTSTART;TZID=America/Halifax:20241113T193000
DTEND;TZID=America/Halifax:20241113T203000
DTSTAMP:20260421T162636
CREATED:20241111T130616Z
LAST-MODIFIED:20241111T130616Z
UID:12951-1731526200-1731529800@busstoptheatre.coop
SUMMARY:ZUPPA presents: How to Live with Dread by Jane Wells
DESCRIPTION:ZUPPA (in association with Farm Arts Collective & The River Clyde Pageant) presents: \nDecompositions by Tannis Kowalchuk \n~and~ \nHow to Live with Dread by Jane Wells \n\nWEDNESDAY NOVEMBER 13th – 7:30pm\n  \nHow to Live with Dread : written and performed by Jane Wells \n60mins – no intermission \nHaving recently lost her brother Ker (co-founder with Megan Stewart of the River Clyde Pageant) Jane Wells grapples in this new work with how to find the way forward in life and in her work without him — so close was their connection as siblings and collaborators. The piece shines a gentle light on grief and one’s identity within\, and after\, loss. \nJane describes How to Live with Dread as “a show about family\, about death\, and about the work of creation… But in a fun way!” \n(With support from the Ontario Arts Council) \nJane Wells grew up in Cascumpeque\, PEI but has spent the past 20 years in Toronto working as a writer\, actor and director. In addition to her professional theatre experience\, Jane has directed many community-based performances\, working primarily with school-age children. Since 2017\, she has been leading drama workshops for children with The River Clyde Pageant in New Glasgow\, PEI\, of which she is the Co-Director.
URL:https://busstoptheatre.coop/event/zuppa-presents-how-to-live-with-dread-by-jane-wells/
LOCATION:The Bus Stop Theatre\, 2203 Gottingen Street\, Halifax\, Nova Scotia\, B3K3B5\, Canada
CATEGORIES:Theatre
GEO:44.6531707;-63.585073
X-APPLE-STRUCTURED-LOCATION;VALUE=URI;X-ADDRESS=The Bus Stop Theatre 2203 Gottingen Street Halifax Nova Scotia B3K3B5 Canada;X-APPLE-RADIUS=500;X-TITLE=2203 Gottingen Street:geo:-63.585073,44.6531707
END:VEVENT
BEGIN:VEVENT
DTSTART;TZID=America/Halifax:20241114T180000
DTEND;TZID=America/Halifax:20241114T210000
DTSTAMP:20260421T162636
CREATED:20241017T161741Z
LAST-MODIFIED:20241017T161741Z
UID:12900-1731607200-1731618000@busstoptheatre.coop
SUMMARY:Nighthawk Screening
DESCRIPTION:NIGHTHAWK: A long time ago there was a team of scientists fronted by Doctor E.D. Gast (Mattias Dyson) who wanted to achieve power. Their experiments ended up getting their project shut down but not before a dangerous chemical had left the lab. Years later\, Kyle Richmond (Cole Foran) learns of the Project C experiment and enlists the help of his friend James Sanders (Noah James) to help him track down the one responsible for this. Along the way\, Mindy Williams (Lauren Galbraith) finds herself as part of Kyle’s journey which Kyle attempts to stop in fear of her getting hurt. \nIn the beginning\, James and Kyle are a well-oiled machine until James wishes to have a life outside of their team. In response\, Kyle throws himself deeper into his mission to find Doctor Gast and his associates\, unaware of the Fallout he is causing with James and Mindy. However\, a shocking revelation made in the aftermath of a mistake will force an unlikely partnership and lead to Kyle learning the true value of having help in Vanquishing his problems. \nJoin us on November 14 as we screen Nighthawk for the second time ever. What started as an idea for a small skit of someone being trapped in a basement back in 2016 has evolved into something bigger than anybody could have predicted. Not only does Nighthawk highlight the journey that Kyle and James take as friends as they grow\, struggle and learn\, but it also highlights the journey of two directors learning the ins and outs of how to make a film. This is as much of an adventure for us as it was for the characters and we hope you can enjoy celebrating the culmination of said adventure with us. This event is free of charge with a free-will offering being collected at the event.
URL:https://busstoptheatre.coop/event/nighthawk-screening/
LOCATION:The Bus Stop Theatre\, 2203 Gottingen Street\, Halifax\, Nova Scotia\, B3K3B5\, Canada
CATEGORIES:Film
GEO:44.6531707;-63.585073
X-APPLE-STRUCTURED-LOCATION;VALUE=URI;X-ADDRESS=The Bus Stop Theatre 2203 Gottingen Street Halifax Nova Scotia B3K3B5 Canada;X-APPLE-RADIUS=500;X-TITLE=2203 Gottingen Street:geo:-63.585073,44.6531707
END:VEVENT
BEGIN:VEVENT
DTSTART;TZID=America/Halifax:20241117T180000
DTEND;TZID=America/Halifax:20241117T200000
DTSTAMP:20260421T162636
CREATED:20241015T123309Z
LAST-MODIFIED:20241015T123309Z
UID:12889-1731866400-1731873600@busstoptheatre.coop
SUMMARY:Queer Magic
DESCRIPTION:QUEER MAGIC is en evening of connection\, celebration\, sharing\, and most importantly\, a magic show! This event will feature comedy openers from HMC’s ‘queer mental health and comedy program’ and a full length show from our featured performer\, Magician Bill Wood. \nThis event aims to help build queer community and connection in Halifax among people who care about mental health\, in a fun & low-pressure social setting. \nLight refereshments will be provided and non-alcoholic beverages will be available for purchase. Registration is appreciated\, but not mandatory. \nAbout Magician Bill Wood \nBill Wood is a magician\, comedian\, actor and a delight. He has been performing magic professionally for over 25 years. You might recognize him from his work with comedy troupe Picnicface or as Frank the guidance counselor on CBC’s Mr. D. \nAs a magician he has performed in Comedy Clubs\, at Corporate events and in the finest living rooms filled with friends and family. He has toured around the maritimes as part of Atlantic Cirque and he has presented his current full evening show at the Chester PlayHouse\, Neptune Theatre\, and many other venues. \nEvent Details \nWhen: Sunday\, November 17\, 6:00pm \nWhere: The Bus Stop Theater\, 2203 Gottingen St\, Halifax\, NS B3K 3B5. \nCost: Free \nAlcohol available: No \nAccesibility info: The space is fully wheelchair accessible and has single-stall\, all-gender washrooms. There will be no strobe or flash lighting during the show. \nAbout the Circle of Support \nHMC’s Circle of Support is a resrouce sharing and supportive network of 2SLGBTQIA+ folks and their educated allies who care about suicide prevention within queer\, trans\, and 2Spirit comminities. We aim to host at least one event per month (trianing\, learning session\, social event\, etc). To learn more and to register for our mailing list\, visit our website here: https://www.healthyminds.ca/2slgbtqia-suicide-prevention. \nIf you have any questions about the event or have additional accessibility requirements\, please email elizabeth@healthyminds.ca.
URL:https://busstoptheatre.coop/event/queer-magic/
LOCATION:The Bus Stop Theatre\, 2203 Gottingen Street\, Halifax\, Nova Scotia\, B3K3B5\, Canada
CATEGORIES:Magic
ORGANIZER;CN="Healthy Minds Co-op":MAILTO:https://www.healthyminds.ca/
GEO:44.6531707;-63.585073
X-APPLE-STRUCTURED-LOCATION;VALUE=URI;X-ADDRESS=The Bus Stop Theatre 2203 Gottingen Street Halifax Nova Scotia B3K3B5 Canada;X-APPLE-RADIUS=500;X-TITLE=2203 Gottingen Street:geo:-63.585073,44.6531707
END:VEVENT
BEGIN:VEVENT
DTSTART;TZID=America/Halifax:20241118T190000
DTEND;TZID=America/Halifax:20241118T203000
DTSTAMP:20260421T162636
CREATED:20241110T141352Z
LAST-MODIFIED:20241110T141352Z
UID:12941-1731956400-1731961800@busstoptheatre.coop
SUMMARY:Pride vs. Prejudice Film Screening
DESCRIPTION:Join us for the first ever Atlantic Canadian screening of Pride vs. Prejudice: The Delwin Vriend Story! Delwin Vriend\, an Albertan teacher\, was fired from his job specifically because he was gay. This spectacular documentary follows his fight against his own government for basic human rights and dignity\, providing intriguing insight into the dramatic court decisions and judicial behaviour which caused widespread public furor during his legal battles. His eventual victory had widespread social impacts\, not just in Alberta\, or Canada\, but around the globe. By deconstructing the experience of Delwin Vriend and other LGBTQ2S+ Canadians\, this film explores not only an essential step forward for LGBT2QS+ rights in Canada\, but reminds us why continued efforts for human rights are necessary – now more than ever. \nTicket details: Tickets are available by pay-what-you-can donation. Donation will be taken at the door. Although some seats may be available on the night of the screening\, seats are limited and we ask that you confirm your attendance by email at vriendfilmmc@gmail.com.
URL:https://busstoptheatre.coop/event/pride-vs-prejudice-film-screening/
LOCATION:The Bus Stop Theatre\, 2203 Gottingen Street\, Halifax\, Nova Scotia\, B3K3B5\, Canada
CATEGORIES:Film
GEO:44.6531707;-63.585073
X-APPLE-STRUCTURED-LOCATION;VALUE=URI;X-ADDRESS=The Bus Stop Theatre 2203 Gottingen Street Halifax Nova Scotia B3K3B5 Canada;X-APPLE-RADIUS=500;X-TITLE=2203 Gottingen Street:geo:-63.585073,44.6531707
END:VEVENT
BEGIN:VEVENT
DTSTART;TZID=America/Halifax:20241119T190000
DTEND;TZID=America/Halifax:20241119T210000
DTSTAMP:20260421T162636
CREATED:20241101T184422Z
LAST-MODIFIED:20241101T184422Z
UID:12923-1732042800-1732050000@busstoptheatre.coop
SUMMARY:Canadian Labour International Film Festival
DESCRIPTION:Canadian Labour International Film Festival\nMayworks Kjipuktuk/Halifax is proud to partner once again with the Canadian Labour International Film Festival for a satellite screening of films from their 16th annual festival. \nThe screening takes place November 19\, 7:00 PM\, at the Bus Stop Theatre Co-op (2203 Gottingen St\, Halifax). \nThis year\, we will be screening The Fighter (Canada: French); Bargaining Forward (Canada: English & French); Permit Garden (Canada); Humormàtic (Spain); Counting Days (Canada: Japanese); The Canadian Dream (Canada: Spanish); Adidas Owns the Reality (US: English). \nAll films are translated as needed through subtitles in English. \nTotal run time: 95 minutes. The screening will be followed by a moderated discussion for those interested. \nAdmission is PWYC
URL:https://busstoptheatre.coop/event/canadian-labour-international-film-festival-4/
LOCATION:The Bus Stop Theatre\, 2203 Gottingen Street\, Halifax\, Nova Scotia\, B3K3B5\, Canada
CATEGORIES:Film,Mayworks Halifax
GEO:44.6531707;-63.585073
X-APPLE-STRUCTURED-LOCATION;VALUE=URI;X-ADDRESS=The Bus Stop Theatre 2203 Gottingen Street Halifax Nova Scotia B3K3B5 Canada;X-APPLE-RADIUS=500;X-TITLE=2203 Gottingen Street:geo:-63.585073,44.6531707
END:VEVENT
BEGIN:VEVENT
DTSTART;TZID=America/Halifax:20241123T193000
DTEND;TZID=America/Halifax:20241123T213000
DTSTAMP:20260421T162636
CREATED:20241113T140037Z
LAST-MODIFIED:20241113T140037Z
UID:12954-1732390200-1732397400@busstoptheatre.coop
SUMMARY:An Improv Double Feature
DESCRIPTION:Leftovers Comedy is BACK with our favourite \nNovember show: An Improv Double Feature \nEnjoy two improv shows for the price of one (deal alert!) Saturday November 23rd at The Bus Stop Theatre. \nJoin us for a night of laughter and gags as we bring you two entirely different but equally hilarious improv shows back-to-back. \nKick off the night with 1-800-IMPROV as they play a mix of new a classic improv games with help from YOU the audience! \nThen after a brief intermission we’ll let the credits roll with… “Roll Credits!”\, a brand new improv format from Leftovers Improv performers Lou\, Alex\, Jonah\, and Hannah. We’ll take your best\, weirdest\, and most tear-jerking “where are they now” epilogues and show you everything that led up to the point just before they- ROLL CREDITS! \n\nTicket info:\n$10 Student/Senior/Underwaged\n$15 General Admission
URL:https://busstoptheatre.coop/event/an-improv-double-feature/
LOCATION:The Bus Stop Theatre\, 2203 Gottingen Street\, Halifax\, Nova Scotia\, B3K3B5\, Canada
CATEGORIES:Comedy & Improv,Improv
GEO:44.6531707;-63.585073
X-APPLE-STRUCTURED-LOCATION;VALUE=URI;X-ADDRESS=The Bus Stop Theatre 2203 Gottingen Street Halifax Nova Scotia B3K3B5 Canada;X-APPLE-RADIUS=500;X-TITLE=2203 Gottingen Street:geo:-63.585073,44.6531707
END:VEVENT
BEGIN:VEVENT
DTSTART;TZID=America/Halifax:20241124T150000
DTEND;TZID=America/Halifax:20241124T170000
DTSTAMP:20260421T162636
CREATED:20241026T155144Z
LAST-MODIFIED:20241026T155144Z
UID:12907-1732460400-1732467600@busstoptheatre.coop
SUMMARY:Lunenburg Theatre Collective presents "Stealing Sam"
DESCRIPTION:On November 24th\, the Lunenburg Theatre Collective is bringing Stealing Sam\, awarded best drama at the United Solo Theatre Festival (NYC 2014)\, to the Bus Stop Theatre for one show only.\n\nStealing Sam is a play about approaching “gay middle age” with as much dignity and humor as possible\, in a culture of online dating and texting.\nSam and Jimmy have been friends for more than twenty-five years\, and they were supposed to be facing “gay middle age” together. When Sam dies\, it’s up to Jimmy to plan their final picnic. Jimmy steals Sam’s cremated remains from the funeral home and tries to give his friend the send-off he deserves.
URL:https://busstoptheatre.coop/event/lunenburg-theatre-collective-presents-stealing-sam/
LOCATION:The Bus Stop Theatre\, 2203 Gottingen Street\, Halifax\, Nova Scotia\, B3K3B5\, Canada
CATEGORIES:Theatre
GEO:44.6531707;-63.585073
X-APPLE-STRUCTURED-LOCATION;VALUE=URI;X-ADDRESS=The Bus Stop Theatre 2203 Gottingen Street Halifax Nova Scotia B3K3B5 Canada;X-APPLE-RADIUS=500;X-TITLE=2203 Gottingen Street:geo:-63.585073,44.6531707
END:VEVENT
BEGIN:VEVENT
DTSTART;TZID=America/Halifax:20241130T183000
DTEND;TZID=America/Halifax:20241130T210000
DTSTAMP:20260421T162636
CREATED:20241128T163653Z
LAST-MODIFIED:20241128T163653Z
UID:12976-1732991400-1733000400@busstoptheatre.coop
SUMMARY:ANSMA Town Hall
DESCRIPTION:
URL:https://busstoptheatre.coop/event/ansma-town-hall/
LOCATION:The Bus Stop Theatre\, 2203 Gottingen Street\, Halifax\, Nova Scotia\, B3K3B5\, Canada
CATEGORIES:Community Events,Music,Open Mic
GEO:44.6531707;-63.585073
X-APPLE-STRUCTURED-LOCATION;VALUE=URI;X-ADDRESS=The Bus Stop Theatre 2203 Gottingen Street Halifax Nova Scotia B3K3B5 Canada;X-APPLE-RADIUS=500;X-TITLE=2203 Gottingen Street:geo:-63.585073,44.6531707
END:VEVENT
END:VCALENDAR