BEGIN:VCALENDAR
VERSION:2.0
PRODID:-//The Bus Stop Theatre - ECPv6.14.2//NONSGML v1.0//EN
CALSCALE:GREGORIAN
METHOD:PUBLISH
X-ORIGINAL-URL:https://busstoptheatre.coop
X-WR-CALDESC:Events for The Bus Stop Theatre
REFRESH-INTERVAL;VALUE=DURATION:PT1H
X-Robots-Tag:noindex
X-PUBLISHED-TTL:PT1H
BEGIN:VTIMEZONE
TZID:America/Halifax
BEGIN:DAYLIGHT
TZOFFSETFROM:-0400
TZOFFSETTO:-0300
TZNAME:ADT
DTSTART:20240310T060000
END:DAYLIGHT
BEGIN:STANDARD
TZOFFSETFROM:-0300
TZOFFSETTO:-0400
TZNAME:AST
DTSTART:20241103T050000
END:STANDARD
END:VTIMEZONE
BEGIN:VEVENT
DTSTART;TZID=America/Halifax:20241203T193000
DTEND;TZID=America/Halifax:20241203T203000
DTSTAMP:20260421T123808
CREATED:20241107T150304Z
LAST-MODIFIED:20241129T183509Z
UID:12935-1733254200-1733257800@busstoptheatre.coop
SUMMARY:Q&A
DESCRIPTION:Following the performance of a play there is often a Q&A\, usually an awkward and revealing ritual.\nThis Q&A follows a play the audience HASN’T seen. The Q&A IS the play. \nThe real audience is invited to ask questions and play their part\, while the answers from the cast and moderator reveal a dysfunctional backstage and a bankrupt theatre company slipping into obsolescence. It’s increasingly absurd and ridiculous\, a selfie for theatre\, a send up of the self-importance\, the masks of listening\, the out-of-control egos\, and the desperate attempt to stay current (and funded). \n  \nCast includes: Joe Cobden\, Mary Fay Coady\, Ella MacDonald\, Paul Rainville & Andrew Shaver \nDate: December 3rd @7:30pm; December 4th @7:30pm \nRunning Time: 50 minutes \nTickets: Free
URL:https://busstoptheatre.coop/event/qa/2024-12-03/
LOCATION:The Bus Stop Theatre\, 2203 Gottingen Street\, Halifax\, Nova Scotia\, B3K3B5\, Canada
CATEGORIES:Theatre
GEO:44.6531707;-63.585073
X-APPLE-STRUCTURED-LOCATION;VALUE=URI;X-ADDRESS=The Bus Stop Theatre 2203 Gottingen Street Halifax Nova Scotia B3K3B5 Canada;X-APPLE-RADIUS=500;X-TITLE=2203 Gottingen Street:geo:-63.585073,44.6531707
END:VEVENT
BEGIN:VEVENT
DTSTART;TZID=America/Halifax:20241206T190000
DTEND;TZID=America/Halifax:20241206T213000
DTSTAMP:20260421T123808
CREATED:20241122T144452Z
LAST-MODIFIED:20241122T144452Z
UID:12969-1733511600-1733520600@busstoptheatre.coop
SUMMARY:Unwrapped l A Queer Holdiay Concert
DESCRIPTION:Join us for an evening of live music\, and community celebration. \nFeaturing local Queer musicians\, the concert will include mostly non-traditional music\, while celebrating the diversity of our community. From solos\, duets\, and the entire cast\, there will be a variety of performances throughout the evening. Last year we almost sold out so we encourage folks to grab their tickets in advance! \nPerformers include: Riley Reign\, Jade Bennett\, Kiana Josette\, and Natasha Sophia. We’re also excited to announce that the Halifax Queer Ensemble will be providing LIVE music during the show. \nWe’re also hosting a FREE pot-luck-style lunch the day of\, with a craft workshop. Craft ornaments will be added to our community tree which will be on display in the theatre during the show. If folks can’t attend\, the event will be live-streamed so you can enjoy it from the comfort of home. \nBoth our concert and potluck are a great way to gather as a community\, connect with new friends\, and celebrate the upcoming holidays. \n 
URL:https://busstoptheatre.coop/event/unwrapped-l-a-queer-holdiay-concert/
LOCATION:The Bus Stop Theatre\, 2203 Gottingen Street\, Halifax\, Nova Scotia\, B3K3B5\, Canada
CATEGORIES:Music
GEO:44.6531707;-63.585073
X-APPLE-STRUCTURED-LOCATION;VALUE=URI;X-ADDRESS=The Bus Stop Theatre 2203 Gottingen Street Halifax Nova Scotia B3K3B5 Canada;X-APPLE-RADIUS=500;X-TITLE=2203 Gottingen Street:geo:-63.585073,44.6531707
END:VEVENT
BEGIN:VEVENT
DTSTART;TZID=America/Halifax:20241207T150000
DTEND;TZID=America/Halifax:20241207T210000
DTSTAMP:20260421T123808
CREATED:20241114T170020Z
LAST-MODIFIED:20241114T170020Z
UID:12957-1733583600-1733605200@busstoptheatre.coop
SUMMARY:Kinky Krampus Mini-Market
DESCRIPTION:Get ready for an evening of festive fun at the Kinky Krampus Mini-Market! Join us for an eclectic mix of local vendors showcasing wicked gifts\, playful accessories\, and tantalizing toys—perfect for anyone on the naughty list!
URL:https://busstoptheatre.coop/event/kinky-krampus-mini-market/
LOCATION:The Bus Stop Theatre Community Room\, 2203 Gottingen\, Halifax
CATEGORIES:Community Events
GEO:44.6532534;-63.5849615
X-APPLE-STRUCTURED-LOCATION;VALUE=URI;X-ADDRESS=The Bus Stop Theatre Community Room 2203 Gottingen Halifax;X-APPLE-RADIUS=500;X-TITLE=2203 Gottingen:geo:-63.5849615,44.6532534
END:VEVENT
BEGIN:VEVENT
DTSTART;TZID=America/Halifax:20241213T193000
DTEND;TZID=America/Halifax:20241213T213000
DTSTAMP:20260421T123808
CREATED:20241202T174247Z
LAST-MODIFIED:20241202T174247Z
UID:12987-1734118200-1734125400@busstoptheatre.coop
SUMMARY:Spontaneity December Showcase
DESCRIPTION:<HOLIDAY THEMED>\nImprovised theatre. Laugh your socks off with our talented Performance Teams! (All Ages) Spontaneity Improv Company will be presenting their monthly showcase! Our group of talented improvisers will be taking the stage and improvising based on your suggestions. Get your tickets now and take part in the show by calling out suggestions and inspiration for our scenes.
URL:https://busstoptheatre.coop/event/spontaneity-december-showcase/
LOCATION:The Bus Stop Theatre\, 2203 Gottingen Street\, Halifax\, Nova Scotia\, B3K3B5\, Canada
CATEGORIES:Comedy & Improv
GEO:44.6531707;-63.585073
X-APPLE-STRUCTURED-LOCATION;VALUE=URI;X-ADDRESS=The Bus Stop Theatre 2203 Gottingen Street Halifax Nova Scotia B3K3B5 Canada;X-APPLE-RADIUS=500;X-TITLE=2203 Gottingen Street:geo:-63.585073,44.6531707
END:VEVENT
BEGIN:VEVENT
DTSTART;TZID=America/Halifax:20241219T190000
DTEND;TZID=America/Halifax:20241219T220000
DTSTAMP:20260421T123808
CREATED:20241119T174526Z
LAST-MODIFIED:20241201T204659Z
UID:12962-1734634800-1734645600@busstoptheatre.coop
SUMMARY:Deep Cuts Presents: Night of the Comet 40th Anniversary Screening
DESCRIPTION:Celebrate Christmas with Deep Cuts and our special guest host Drue Robyn with a screening of Night of the Comet (the first scene takes place in the Christmas season so it’s officially a Christmas movie). The action-horror-comedy described by Variety as a “successful pastiche of numerous science fiction films\, executed with an entertaining\, tongue-in-cheek flair” is screening for one night only at the Bus Stop Theatre Co-operative. \nSisters Reggie and Sam are seemingly the only survivors of a comet which\, when it passed earth\, all other humans either evaporated or turned into zombies. In this new world\, can they find ever safety? Home? Perhaps even… love? \n“one of the most amusing\, witty\, imaginative\, and thought-provoking films I’ve seen that was made with no budget and is also cheap exploitation” \n“a good-natured\, end-of-the-world B-movie” \n“creates a visually arresting B-picture in neon-primary colors”” \n“Valley Girl culture satire Night of the Comet gets lots of mileage out of its slapstick sci-fi zombie approach”
URL:https://busstoptheatre.coop/event/deep-cuts-presents-night-of-the-comet-screening/
LOCATION:The Bus Stop Theatre\, 2203 Gottingen Street\, Halifax\, Nova Scotia\, B3K3B5\, Canada
CATEGORIES:Film
ORGANIZER;CN="Deep Cuts":MAILTO:watchdeepcuts@gmail.com
GEO:44.6531707;-63.585073
X-APPLE-STRUCTURED-LOCATION;VALUE=URI;X-ADDRESS=The Bus Stop Theatre 2203 Gottingen Street Halifax Nova Scotia B3K3B5 Canada;X-APPLE-RADIUS=500;X-TITLE=2203 Gottingen Street:geo:-63.585073,44.6531707
END:VEVENT
BEGIN:VEVENT
DTSTART;TZID=America/Halifax:20241220T193000
DTEND;TZID=America/Halifax:20241220T213000
DTSTAMP:20260421T123808
CREATED:20241212T145136Z
LAST-MODIFIED:20241212T145136Z
UID:12991-1734723000-1734730200@busstoptheatre.coop
SUMMARY:Leftovers Comedy presents: Jokes ‘n’ Jingles!
DESCRIPTION:🌟Join Leftovers Comedy this Holiday Season as we bring you our annual musical show: Jokes ‘n’ Jingles!🎄 \nEnjoy a holiday snack platter of musical improv games played by our very own Alex Naus and guest comedians Becca Lane\, Jess Mac\, and Cat McClusky! Be prepared to laugh\, cry\, and resist singing along as these performers take your audience suggestions and turn them into a real holiday hootenanny. \nThen join Leftovers improvisers Jonah\, Alex\, and Lou as they improvise a brand new Holiday movie inspired by “where are they now” epilogues written by YOU the audience! Featuring the musical stylings of guest musician Adam Johnson of Halifax’s very own Dancing Queen. \nThe performance will last approximately 1h45m.
URL:https://busstoptheatre.coop/event/leftovers-comedy-presents-jokes-n-jingles/
LOCATION:The Bus Stop Theatre\, 2203 Gottingen Street\, Halifax\, Nova Scotia\, B3K3B5\, Canada
CATEGORIES:Comedy & Improv
GEO:44.6531707;-63.585073
X-APPLE-STRUCTURED-LOCATION;VALUE=URI;X-ADDRESS=The Bus Stop Theatre 2203 Gottingen Street Halifax Nova Scotia B3K3B5 Canada;X-APPLE-RADIUS=500;X-TITLE=2203 Gottingen Street:geo:-63.585073,44.6531707
END:VEVENT
BEGIN:VEVENT
DTSTART;TZID=America/Halifax:20241221T193000
DTEND;TZID=America/Halifax:20241221T213000
DTSTAMP:20260421T123808
CREATED:20241216T151034Z
LAST-MODIFIED:20241216T151034Z
UID:12994-1734809400-1734816600@busstoptheatre.coop
SUMMARY:An Autobiographical Fiction Christmas Special - presented by the Unnatural Disaster Theatre Company
DESCRIPTION:While the night may be dark\, the  The Bus Stop Theatre will be aglow with laughs\, libations\, and good cheer during this very special Autobiographical Christmas Special featuring Logan Robins & Olivier Blais!  \nWHEN?\nThe doors to the lobby and bar will open half an hour before the show at 7pm\, with the show starting at 7:30pm! The first act will run approximately 45 minutes\, followed by a 15 minute intermission (to reset the stage and refill your drinks)\, and a second act of approximately 45 minutes. \nWHERE?\nAt The Bus Stop Theatre Co-op! \nHOW DOES IT WORK?\nAutobiographical Fiction is an entirely improvised solo show created by the audience (including you)! Before each of the two acts begin the audience will have a chance to fill the stage with a wide array of costumes and props while also filling out sticky notes with festive-themed prompts\, lines\, song recommendations\, and more! This is a chance to be creative\, collaborative\, and a little silly as you unleash your inner playwright/director/set designer/sound designer/costume designer!\n*Audience participation is never mandatory. Your’e safe. We promise… \nSHOULD I BRING ANYTHING?\nAs a matter of fact… Yes (if you’d like to)!! \nWhile we will provide sticky notes and writing utensils (and some festive props/set) we would love you to bring something from home that you would like to donate this holiday season! Wether it be a winter-coat you’ve outgrown or a coffee table that has never quite worked in your living room\, we are accepting donations of any non-perishable item which will be used in the show and then cleaned\, delivered\, and donated by UDTCo. to Out of the Cold Community Association (and other charitable orginizations). \nThat’s right! You can clear some much needed space in the house right before the holidays while contributing to Autobiographical Fiction and a great cause (talk about a win/win/win\, huh?)! \nOur primary goal is to gather items to donate to Out of the Cold  (you can see a list of what they are looking for below).\nIf we collect items that they are not in need of we will donate to either: \nHabitat for Humanity https://www.habitat.org/restores/donate-goods \nByrony House https://bryonyhouse.ca/ways-to-support-us/ \nShelter Nova Scotia https://www.shelternovascotia.com/ \n*If none of the above organizations will take a certain item we will still clean it and bring it to Value Village\n**These are all incredible resources in our city you should look into supporting regardless!! \nIMPROV WORKSHOP\nIf you want a behind the scenes look at how Autobiographical Fiction works and to sharpen up your storytelling skills before Christmas Dinner- make sure to check out UDTCo’s Improv for Storytellers workshop! This workshop will be run by Logan Robins & Olivier Blais at The Bus Stop Theatre from 12pm-4pm on December 21st. The workshop is only $30 and includes admission to the show (which means if you decide to join you can use your ticket price towards it)!   It is the perfect gift for the theatre-lover in your life! All skill-levels welcome! \nYou’ve seen Autobiographical Fiction at the Fringe Festival and you want to try your hand at this wacky format? You’re an improviser looking to add a couple of things to your yes-and toolbelt? You’re an international spy with sensitive military secrets on the run from the government and you need to lay low for a few hours? We got just the thing! \nLogan Robins and Olivier Blais are hosting a special\, one time only workshop at the Bus Stop Theatre dissecting the format for their show. In this workshop\, they will lead you through helpful creative exercises\, discuss the strategies and difficulties of doing a solo improvised show and guide you through performing a small\, shortened version of the show. By the end of this workshop\, you’ll know how our brains work when we sweat on stage: which is great because a workshop ticket also gets you a ticket to the show! What a steal! \nThrough different creative exercises we will explore focus\, connectivity\, world building\, storytelling and more. Because of the limited class size we look forward to meeting each participant where they are at to help them build skills\, confidence\, and to have FUN! \nIf you have any questions or ways in which we can make this experience more accessible to you please send us an email at: unnaturaldisastertheatre@gmail.com ! \nWe can’t wait to see you soon to spread some holiday cheer. \n_________________________________________________ \nOUT OF THE COLD DONATION REQUESTS \nNon food items: \nBus Tickets \nNew Underwear & Socks \nRadios/Clock Radios \nEarphones \nWorking Cell Phones \nCharging Cords \nSingle Bed Size Sheet Sets \nPillowcases \nMedium Weight Blankets \nBath Towels \nPuzzles \nBooks \nWorking Mini-Fridges \nWinter Coats \nBoots and Shoes \nFood items: \nSnacks\nCanned Goods\nBaking Ingredients\nJuice Boxes\nBaked Goods\nFrozen Casseroles \nNew Personal Care Items: \nTweezersRazors\nHair Elastics\nHairbrushes\nShampoo/Conditioner/Body Wash\nDeodorant\nToothbrushes
URL:https://busstoptheatre.coop/event/an-autobiographical-fiction-christmas-special-presented-by-the-unnatural-disaster-theatre-company/
LOCATION:The Bus Stop Theatre\, 2203 Gottingen Street\, Halifax\, Nova Scotia\, B3K3B5\, Canada
CATEGORIES:Comedy & Improv,Fundraiser
GEO:44.6531707;-63.585073
X-APPLE-STRUCTURED-LOCATION;VALUE=URI;X-ADDRESS=The Bus Stop Theatre 2203 Gottingen Street Halifax Nova Scotia B3K3B5 Canada;X-APPLE-RADIUS=500;X-TITLE=2203 Gottingen Street:geo:-63.585073,44.6531707
END:VEVENT
END:VCALENDAR