BEGIN:VCALENDAR
VERSION:2.0
PRODID:-//The Bus Stop Theatre - ECPv6.14.2//NONSGML v1.0//EN
CALSCALE:GREGORIAN
METHOD:PUBLISH
X-WR-CALNAME:The Bus Stop Theatre
X-ORIGINAL-URL:https://busstoptheatre.coop
X-WR-CALDESC:Events for The Bus Stop Theatre
REFRESH-INTERVAL;VALUE=DURATION:PT1H
X-Robots-Tag:noindex
X-PUBLISHED-TTL:PT1H
BEGIN:VTIMEZONE
TZID:America/Halifax
BEGIN:DAYLIGHT
TZOFFSETFROM:-0400
TZOFFSETTO:-0300
TZNAME:ADT
DTSTART:20250309T060000
END:DAYLIGHT
BEGIN:STANDARD
TZOFFSETFROM:-0300
TZOFFSETTO:-0400
TZNAME:AST
DTSTART:20251102T050000
END:STANDARD
END:VTIMEZONE
BEGIN:VEVENT
DTSTART;TZID=America/Halifax:20250415T183000
DTEND;TZID=America/Halifax:20250415T210000
DTSTAMP:20260421T073950
CREATED:20250313T115626Z
LAST-MODIFIED:20250313T123210Z
UID:13253-1744741800-1744750800@busstoptheatre.coop
SUMMARY:Farmers' Markets: Global Lessons\, Local Impact
DESCRIPTION:Our food system is in crisis—but there’s hope! Join us as we explore how farmers’ markets can be leveraged as powerful tools for change.\n\n\n\n\n\n\n\n\nAbout this event\n\n\nEvent lasts 2 hours 30 minutes\n\n\n\n\n\n\nCome join us at the Bus Stop Theatre for an immersive talk by Justin Cantafio\, a 2023 Nuffield Scholar\, local food systems advocate\, and farmers’ market champion. \nCanada’s food system is in crisis—but there’s hope. Drawing from firsthand experiences managing a provincial farmers’ market cooperative and from his experiential learnings from visiting markets across Canada\, Mexico\, France\, Spain\, Portugal\, Malta\, Italy\, and Turkey\, Justin will highlight the role farmers’ markets play in building a resilient\, sustainable\, and just food system. \nFarmers’ markets are already revitalizing local economies\, empowering small-scale farmers\, and making fresh\, healthy food more accessible. But their full potential remains untapped. With the right support and policies\, these vibrant community spaces can build food sovereignty\, regional prosperity\, and environmental sustainability. \nJoin us as we explore how farmers’ markets can be leveraged as powerful tools for change\, followed by a discussion period and a social. \nPlease note \n\nThis is a free event\, but donations will be accepted for the Farmers’ Markets of Nova Scotia Nourishing Communities Food Coupon Program.\nSeats are limited to ~100 people\, so please arrive on time to secure your spot.\nThis event is sponsored by Dalhousie University’s Faculty of Agriculture.
URL:https://busstoptheatre.coop/event/13253/
LOCATION:The Bus Stop Theatre\, 2203 Gottingen Street\, Halifax\, Nova Scotia\, B3K3B5\, Canada
CATEGORIES:Community Events
GEO:44.6531707;-63.585073
X-APPLE-STRUCTURED-LOCATION;VALUE=URI;X-ADDRESS=The Bus Stop Theatre 2203 Gottingen Street Halifax Nova Scotia B3K3B5 Canada;X-APPLE-RADIUS=500;X-TITLE=2203 Gottingen Street:geo:-63.585073,44.6531707
END:VEVENT
END:VCALENDAR