BEGIN:VCALENDAR
VERSION:2.0
PRODID:-//The Bus Stop Theatre - ECPv6.14.2//NONSGML v1.0//EN
CALSCALE:GREGORIAN
METHOD:PUBLISH
X-ORIGINAL-URL:https://busstoptheatre.coop
X-WR-CALDESC:Events for The Bus Stop Theatre
REFRESH-INTERVAL;VALUE=DURATION:PT1H
X-Robots-Tag:noindex
X-PUBLISHED-TTL:PT1H
BEGIN:VTIMEZONE
TZID:America/Halifax
BEGIN:DAYLIGHT
TZOFFSETFROM:-0400
TZOFFSETTO:-0300
TZNAME:ADT
DTSTART:20260308T060000
END:DAYLIGHT
BEGIN:STANDARD
TZOFFSETFROM:-0300
TZOFFSETTO:-0400
TZNAME:AST
DTSTART:20261101T050000
END:STANDARD
END:VTIMEZONE
BEGIN:VEVENT
DTSTART;TZID=America/Halifax:20260513T193000
DTEND;TZID=America/Halifax:20260513T213000
DTSTAMP:20260423T224646
CREATED:20260423T143759Z
LAST-MODIFIED:20260423T143759Z
UID:14233-1778700600-1778707800@busstoptheatre.coop
SUMMARY:Bad Banana presents Small Crimes: An Evening of Stand-up & Improv
DESCRIPTION:Halifax’s newest comedy troupe presents Small Crimes: An Evening of Stand-up & Improv! Join Bad Banana Productions and guest performers as we tell jokes then act out scenes inspired by all of the faux-pas\, annoyances\, and bad habits that YOU wish were chargeable offenses! Come support the Bus Stop and local comedy\, and enjoy a Wednesday evening of laughs.
URL:https://busstoptheatre.coop/event/bad-banana-presents-small-crimes-an-evening-of-stand-up-improv/
LOCATION:The Bus Stop Theatre\, 2203 Gottingen Street\, Halifax\, Nova Scotia\, B3K3B5\, Canada
CATEGORIES:Comedy & Improv
ATTACH;FMTTYPE=image/jpeg:https://busstoptheatre.coop/wp-content/uploads/2026/04/BBP-poster.jpg
GEO:44.6531707;-63.585073
X-APPLE-STRUCTURED-LOCATION;VALUE=URI;X-ADDRESS=The Bus Stop Theatre 2203 Gottingen Street Halifax Nova Scotia B3K3B5 Canada;X-APPLE-RADIUS=500;X-TITLE=2203 Gottingen Street:geo:-63.585073,44.6531707
END:VEVENT
END:VCALENDAR