BEGIN:VCALENDAR
VERSION:2.0
PRODID:-//The Bus Stop Theatre - ECPv6.14.2//NONSGML v1.0//EN
CALSCALE:GREGORIAN
METHOD:PUBLISH
X-ORIGINAL-URL:https://busstoptheatre.coop
X-WR-CALDESC:Events for The Bus Stop Theatre
REFRESH-INTERVAL;VALUE=DURATION:PT1H
X-Robots-Tag:noindex
X-PUBLISHED-TTL:PT1H
BEGIN:VTIMEZONE
TZID:America/Halifax
BEGIN:DAYLIGHT
TZOFFSETFROM:-0400
TZOFFSETTO:-0300
TZNAME:ADT
DTSTART:20180311T060000
END:DAYLIGHT
BEGIN:STANDARD
TZOFFSETFROM:-0300
TZOFFSETTO:-0400
TZNAME:AST
DTSTART:20181104T050000
END:STANDARD
END:VTIMEZONE
BEGIN:VEVENT
DTSTART;TZID=America/Halifax:20180706T193000
DTEND;TZID=America/Halifax:20180707T230000
DTSTAMP:20260423T172954
CREATED:20180704T180952Z
LAST-MODIFIED:20180704T180952Z
UID:4870-1530905400-1531004400@busstoptheatre.coop
SUMMARY:Delusions of Grandeur
DESCRIPTION:The Bus Stop Theatre Playwrights Unit is back with not one but TWO evenings of short summer plays: DELUSIONS of GRANDEUR serves up two different nights of short works! \nCome envision grand schemes with us as new mini plays by Dustin Scott Harvey\, Stepheny Hunter\, Meg Hubley\, Mary-Dan Johnston\, Keelin Jack\, Colleen MacIsaac\, Ailsa Galbreath\, Michael Lake\, Rebecca Falvey\, and Kevin Hartford hit the stage\, directed and performed by a stellar and fearless team of top-notch local artists! \nTHE DETAILS:\nWhere: 2203 Gottingen Street\nWhen: 8pm July 6th and 7th (doors @ 7:30)\nTickets: PWYC UNTIL JULY 5 / $15 at the door\nNOTE: THESE THINGS TEND TO SELL OUT GET YER TICKETS NOW OR RISK BEING SAD AND FORLORN! \nALSO NOTE: EACH NIGHT HAS A DIFFERENT SET OF PLAYS! CHECK THE SCHEDULE BELOW TO MAKE SURE YOU CATCH WHAT YOU WANT OR BETTER YET COME BOTH NIGHTS! \nFRIDAY JULY 6 features plays by:\nRebecca Falvey\, Colleen MacIsaac\, Mary-Dan Johnston\, Dustin Scott Harvey\, and Meg Hubley\nFRIDAY TICKETS: http://www.tickethalifax.com/events/56267719/delusions-of-grandeur-two-evenings-of-new-plays \nSATURDAY JULY 7 features plays by:\nKeelin Jack\, Kevin Hartford\, Ailsa Galbreath\, Stepheny Hunter\, and Michael Lake\nSATURDAY TICKETS:\nhttp://www.tickethalifax.com/events/56268142/delusions-of-grandeur-two-evenings-of-new-plays
URL:https://busstoptheatre.coop/event/delusions-of-grandeur/
LOCATION:The Bus Stop Theatre\, 2203 Gottingen Street\, Halifax\, Nova Scotia\, B3K3B5\, Canada
CATEGORIES:Theatre
ATTACH;FMTTYPE=image/jpeg:https://busstoptheatre.coop/wp-content/uploads/2018/07/36261926_591949427865468_6361457953970585600_o.jpg
GEO:44.6531707;-63.585073
X-APPLE-STRUCTURED-LOCATION;VALUE=URI;X-ADDRESS=The Bus Stop Theatre 2203 Gottingen Street Halifax Nova Scotia B3K3B5 Canada;X-APPLE-RADIUS=500;X-TITLE=2203 Gottingen Street:geo:-63.585073,44.6531707
END:VEVENT
END:VCALENDAR