BEGIN:VCALENDAR
VERSION:2.0
PRODID:-//The Bus Stop Theatre - ECPv6.14.2//NONSGML v1.0//EN
CALSCALE:GREGORIAN
METHOD:PUBLISH
X-WR-CALNAME:The Bus Stop Theatre
X-ORIGINAL-URL:https://busstoptheatre.coop
X-WR-CALDESC:Events for The Bus Stop Theatre
REFRESH-INTERVAL;VALUE=DURATION:PT1H
X-Robots-Tag:noindex
X-PUBLISHED-TTL:PT1H
BEGIN:VTIMEZONE
TZID:America/Halifax
BEGIN:DAYLIGHT
TZOFFSETFROM:-0400
TZOFFSETTO:-0300
TZNAME:ADT
DTSTART:20200308T060000
END:DAYLIGHT
BEGIN:STANDARD
TZOFFSETFROM:-0300
TZOFFSETTO:-0400
TZNAME:AST
DTSTART:20201101T050000
END:STANDARD
END:VTIMEZONE
BEGIN:VEVENT
DTSTART;TZID=America/Halifax:20201008T183000
DTEND;TZID=America/Halifax:20201008T203000
DTSTAMP:20260420T203747
CREATED:20201008T153203Z
LAST-MODIFIED:20201008T153203Z
UID:7195-1602181800-1602189000@busstoptheatre.coop
SUMMARY:Emerging Lens Cultural Film Festival
DESCRIPTION:Join us to celebrate a decade of presenting multicultural films!!!! \n“She is a Man\, He is a Woman”  – Abes Borhan (Canada) \n“1st Kings”  – Hilda Afrakoma (Canada) \n“Products (A Manhandled Toy)” – Danissh Ali   (India) \n“A Home for Curiosities”  – Ben Tobin (USA) \n  \n(Retrospective) \n“Excuse me\, may I touch your skin” – Asna Adhami (Canada) \n“Evelina Upshaw” Pink Dog Productions (Canada) \n“Carry the Cross “– Jarrett Shaw  (Canada) \n​ \nAudience choice award ballot (during the Q&A) \nQ & A with filmmakers  \n  \n Register for your free ticket
URL:https://busstoptheatre.coop/event/emerging-lens-cultural-film-festival/
LOCATION:The Bus Stop Theatre\, 2203 Gottingen Street\, Halifax\, Nova Scotia\, B3K3B5\, Canada
CATEGORIES:Film
ATTACH;FMTTYPE=image/png:https://busstoptheatre.coop/wp-content/uploads/2020/10/10th-Anniversary-jpeg2.png
GEO:44.6531707;-63.585073
X-APPLE-STRUCTURED-LOCATION;VALUE=URI;X-ADDRESS=The Bus Stop Theatre 2203 Gottingen Street Halifax Nova Scotia B3K3B5 Canada;X-APPLE-RADIUS=500;X-TITLE=2203 Gottingen Street:geo:-63.585073,44.6531707
END:VEVENT
END:VCALENDAR