BEGIN:VCALENDAR
VERSION:2.0
PRODID:-//The Bus Stop Theatre - ECPv6.14.2//NONSGML v1.0//EN
CALSCALE:GREGORIAN
METHOD:PUBLISH
X-ORIGINAL-URL:https://busstoptheatre.coop
X-WR-CALDESC:Events for The Bus Stop Theatre
REFRESH-INTERVAL;VALUE=DURATION:PT1H
X-Robots-Tag:noindex
X-PUBLISHED-TTL:PT1H
BEGIN:VTIMEZONE
TZID:America/Halifax
BEGIN:DAYLIGHT
TZOFFSETFROM:-0400
TZOFFSETTO:-0300
TZNAME:ADT
DTSTART:20250309T060000
END:DAYLIGHT
BEGIN:STANDARD
TZOFFSETFROM:-0300
TZOFFSETTO:-0400
TZNAME:AST
DTSTART:20251102T050000
END:STANDARD
END:VTIMEZONE
BEGIN:VEVENT
DTSTART;TZID=America/Halifax:20251128T200000
DTEND;TZID=America/Halifax:20251128T220000
DTSTAMP:20260421T234756
CREATED:20251027T155336Z
LAST-MODIFIED:20251027T155336Z
UID:13712-1764360000-1764367200@busstoptheatre.coop
SUMMARY:Jingle Belle
DESCRIPTION:Moncton’s ‘Platinum Entertainer’ CJ Norris returns to Halifax with his latest drag cabaret featuring the iconic Mrs. Claus. Ruby\, as her fans call her\, is tired of being the unsung hero of the holidays—so she’s stepping out of Santa’s shadow and into her own light. Expect campy comedy\, chaotic audience participation\, and appearances from guest star Cat McCluskey. Jingle Belle is “Full of heart and positive energy” (LiveBait Theatre)\, offering pop hits and Christmas classics sung live\, plus a compelling story of female empowerment​. It’s a one-of-a-kind spectacle that will have audiences of all ages and genders strutting out with fierce festive cheer. \n\n\n\nTickets are on sale now at stagesofcj.com (https://www.stagesofcj.com/event-details/jinglebellehalifax)
URL:https://busstoptheatre.coop/event/jingle-belle/
LOCATION:The Bus Stop Theatre\, 2203 Gottingen Street\, Halifax\, Nova Scotia\, B3K3B5\, Canada
CATEGORIES:Drag
GEO:44.6531707;-63.585073
X-APPLE-STRUCTURED-LOCATION;VALUE=URI;X-ADDRESS=The Bus Stop Theatre 2203 Gottingen Street Halifax Nova Scotia B3K3B5 Canada;X-APPLE-RADIUS=500;X-TITLE=2203 Gottingen Street:geo:-63.585073,44.6531707
END:VEVENT
END:VCALENDAR