BEGIN:VCALENDAR
VERSION:2.0
PRODID:-//The Bus Stop Theatre - ECPv6.14.2//NONSGML v1.0//EN
CALSCALE:GREGORIAN
METHOD:PUBLISH
X-ORIGINAL-URL:https://busstoptheatre.coop
X-WR-CALDESC:Events for The Bus Stop Theatre
REFRESH-INTERVAL;VALUE=DURATION:PT1H
X-Robots-Tag:noindex
X-PUBLISHED-TTL:PT1H
BEGIN:VTIMEZONE
TZID:America/Halifax
BEGIN:DAYLIGHT
TZOFFSETFROM:-0400
TZOFFSETTO:-0300
TZNAME:ADT
DTSTART:20250309T060000
END:DAYLIGHT
BEGIN:STANDARD
TZOFFSETFROM:-0300
TZOFFSETTO:-0400
TZNAME:AST
DTSTART:20251102T050000
END:STANDARD
END:VTIMEZONE
BEGIN:VEVENT
DTSTART;TZID=America/Halifax:20251113T190000
DTEND;TZID=America/Halifax:20251113T213000
DTSTAMP:20260423T014139
CREATED:20251009T145723Z
LAST-MODIFIED:20251009T145723Z
UID:13689-1763060400-1763069400@busstoptheatre.coop
SUMMARY:Day of Pink ECHO Tour
DESCRIPTION:Echoes of Resistance. Echoes of Recognition. Echoes of Change.\nThis year\, the Day of Pink ECHO Tour travels across Canada\, bringing together powerful storytellers\, poets\, activists\, and community leaders to share the 2SLGBTQIA+ stories that once faced censorship—and still fight for space today. \nFrom courtrooms to bookstores\, family tables to federal law\, queer and trans voices have always resisted silence. This tour honours that resistance\, marking 25 years since two defining moments in Canadian queer history: \n\n\nThe Supreme Court case Little Sisters Bookstore v. Canada \n\n\nThe passing of the Modernization of Benefits and Obligations Act \n\n\nBut this tour is not just about the past—it’s about the stories still echoing now. Stories that shape who we are and where we go next. \n🎙️ What to Expect\nThe ECHO Tour is an evening of poetry\, conversation\, reflection\, and truth-telling.\nOur speakers will share stories from history and lived experience—stories that would have been censored 25 years ago\, and in many places\, still are. \nThis is not just a show. It’s a call to listen. \n\n\n\n\n\n\n\n\nTickets are free and open to all. Join us for an unforgettable night of stories\, solidarity\, and shared purpose.
URL:https://busstoptheatre.coop/event/day-of-pink-echo-tour/
LOCATION:The Bus Stop Theatre\, 2203 Gottingen Street\, Halifax\, Nova Scotia\, B3K3B5\, Canada
CATEGORIES:Community Events
GEO:44.6531707;-63.585073
X-APPLE-STRUCTURED-LOCATION;VALUE=URI;X-ADDRESS=The Bus Stop Theatre 2203 Gottingen Street Halifax Nova Scotia B3K3B5 Canada;X-APPLE-RADIUS=500;X-TITLE=2203 Gottingen Street:geo:-63.585073,44.6531707
END:VEVENT
END:VCALENDAR