BEGIN:VCALENDAR
VERSION:2.0
PRODID:-//The Bus Stop Theatre - ECPv6.14.2//NONSGML v1.0//EN
CALSCALE:GREGORIAN
METHOD:PUBLISH
X-WR-CALNAME:The Bus Stop Theatre
X-ORIGINAL-URL:https://busstoptheatre.coop
X-WR-CALDESC:Events for The Bus Stop Theatre
REFRESH-INTERVAL;VALUE=DURATION:PT1H
X-Robots-Tag:noindex
X-PUBLISHED-TTL:PT1H
BEGIN:VTIMEZONE
TZID:America/Halifax
BEGIN:DAYLIGHT
TZOFFSETFROM:-0400
TZOFFSETTO:-0300
TZNAME:ADT
DTSTART:20230312T060000
END:DAYLIGHT
BEGIN:STANDARD
TZOFFSETFROM:-0300
TZOFFSETTO:-0400
TZNAME:AST
DTSTART:20231105T050000
END:STANDARD
BEGIN:DAYLIGHT
TZOFFSETFROM:-0400
TZOFFSETTO:-0300
TZNAME:ADT
DTSTART:20240310T060000
END:DAYLIGHT
BEGIN:STANDARD
TZOFFSETFROM:-0300
TZOFFSETTO:-0400
TZNAME:AST
DTSTART:20241103T050000
END:STANDARD
BEGIN:DAYLIGHT
TZOFFSETFROM:-0400
TZOFFSETTO:-0300
TZNAME:ADT
DTSTART:20250309T060000
END:DAYLIGHT
BEGIN:STANDARD
TZOFFSETFROM:-0300
TZOFFSETTO:-0400
TZNAME:AST
DTSTART:20251102T050000
END:STANDARD
END:VTIMEZONE
BEGIN:VEVENT
DTSTART;TZID=America/Halifax:20250524T173000
DTEND;TZID=America/Halifax:20250524T193000
DTSTAMP:20260420T222852
CREATED:20250428T163045Z
LAST-MODIFIED:20250428T163045Z
UID:13384-1748107800-1748115000@busstoptheatre.coop
SUMMARY:HOT POT
DESCRIPTION:Back for its third year\, HOT POT is a joyful\, genre-blending celebration of Asian talent in the heart of Kjipuktuk/Halifax. Curated by burlesque artist Elle Lixir and hosted by the fabulous Kaidan Ivy\, this vibrant variety show brings together a simmering mix of music\, movement\, comedy\, drag\, dance\, and more — all by Asian artists across the diaspora. \nCome celebrate Asian Heritage Month with us! From heartfelt storytelling to high-energy spectacle\, HOT POT serves up something for everyone\, while making space for community\, creativity\, and cultural pride across Asia. Whether you’re coming for the laughs\, the glamour\, or the emotional punch — you’re in for a night to remember. \n🌟 Featuring performances by:\nAiya Xiaoxin\, Babia Majora\, Baby Bachu\, Bibingkita\, G-Spott\, Katanna Skin\, Lovina Poison\, Sangeeta Raju\, and more surprise guests! \n💸 Please bring cash for tips\, but we also will accept EMT transactions to Elle.Lixir.Dancer[at]gmail[dot]com\n[All tips will be split equally among the cast. Please write “Hot Pot Tips” in the note section] \nTICKET DETAILS: \n🍜✨ Tickets and more information at: www.elle-lixir.com/hotpot\nTickets (in-person) starting at $25+\nLivestream option available $10
URL:https://busstoptheatre.coop/event/hot-pot/2025-05-24/
LOCATION:The Bus Stop Theatre\, 2203 Gottingen Street\, Halifax\, Nova Scotia\, B3K3B5\, Canada
CATEGORIES:Burlesque
GEO:44.6531707;-63.585073
X-APPLE-STRUCTURED-LOCATION;VALUE=URI;X-ADDRESS=The Bus Stop Theatre 2203 Gottingen Street Halifax Nova Scotia B3K3B5 Canada;X-APPLE-RADIUS=500;X-TITLE=2203 Gottingen Street:geo:-63.585073,44.6531707
END:VEVENT
BEGIN:VEVENT
DTSTART;TZID=America/Halifax:20240928T193000
DTEND;TZID=America/Halifax:20240928T220000
DTSTAMP:20260420T222852
CREATED:20240905T162846Z
LAST-MODIFIED:20240905T162846Z
UID:12781-1727551800-1727560800@busstoptheatre.coop
SUMMARY:Anime Cabaret
DESCRIPTION:Aiya Xiaoxin and Elle Lixir have teamed up to present “Anime Cabaret” –a live show that captures everything you love about anime!\nPrepare to see a fabulous line up of nerdy\, outrageous and never-before-seen drag and burlesque performances from our talented cast. We’ll spoil your favorite anime!\nCelebrate anime fandom with us with bumpin’ anime OSTs and opportunities to win fantastic prizes. \nCome as you are or wear a cosplay for photo ops! \n\nPerformances by:\nAiya Xiaoxin\, Hannibal Lickeder\, Izzy Limpwrist\, Kinky Keyda\, The Lady Corbeau\, Mel Manhattan\, Randi E. Rogenous\, Scarlett Rose\, Velvet Orchid\, Vincent St. Grace \nDoors open at 7pm\nShow starts promptly at 7:30pm \nSponsored by: Fandom Plus and Sarah & Tom\nCo-produced by Aiya Xiaoxin and Elle Lixir
URL:https://busstoptheatre.coop/event/anime-cabaret/
LOCATION:The Bus Stop Theatre\, 2203 Gottingen Street\, Halifax\, Nova Scotia\, B3K3B5\, Canada
CATEGORIES:Burlesque,Drag
GEO:44.6531707;-63.585073
X-APPLE-STRUCTURED-LOCATION;VALUE=URI;X-ADDRESS=The Bus Stop Theatre 2203 Gottingen Street Halifax Nova Scotia B3K3B5 Canada;X-APPLE-RADIUS=500;X-TITLE=2203 Gottingen Street:geo:-63.585073,44.6531707
END:VEVENT
BEGIN:VEVENT
DTSTART;TZID=America/Halifax:20240525T180000
DTEND;TZID=America/Halifax:20240525T200000
DTSTAMP:20260420T222852
CREATED:20240425T153728Z
LAST-MODIFIED:20240425T153728Z
UID:12458-1716660000-1716667200@busstoptheatre.coop
SUMMARY:HOTPOT: An All-Asian Variety Showcase
DESCRIPTION:After a successful celebration last year\, “HOTPOT: An All-Asian Variety Showcase” is returning to the Bus Stop Theatre on Saturday\, May 25th\, 2024! We have a mix of returning and new performance artists who are excited to celebrate Asian Heritage Month. \nThere are two chances to catch the show on Saturday\, May 25th: the EARLY SHOW at 6-8pm\, and the LATE SHOW at 9-11pm \nTicket Options include: General Admission Seating\, Front Row\, and VIP Tables.\nLivestream Ticket options available as well! \nHosted by Kaidain Ivy (from “A Tone Meant For Me” Podcast) \nWith Performances by: Aiya Xiaoxin; Akira Mayari; Bibingkita; Elle Lixir; G-Spott; Jake Jockerson; Leilani LeVogue (Toronto\, ON); Tash Olives (Toronto\, ON); Simon Yap \nKittens: MissShapen and Glitzy P \nPhotographer: Ish Acquino Photography \nPlease bring cash for tips\, but we will also accept EMT donations at the event.\n[All tips will be split equally among the cast.] \n 
URL:https://busstoptheatre.coop/event/hotpot-an-all-asian-variety-showcase/2024-05-25/
LOCATION:The Bus Stop Theatre\, 2203 Gottingen Street\, Halifax\, Nova Scotia\, B3K3B5\, Canada
CATEGORIES:Burlesque,Drag
GEO:44.6531707;-63.585073
X-APPLE-STRUCTURED-LOCATION;VALUE=URI;X-ADDRESS=The Bus Stop Theatre 2203 Gottingen Street Halifax Nova Scotia B3K3B5 Canada;X-APPLE-RADIUS=500;X-TITLE=2203 Gottingen Street:geo:-63.585073,44.6531707
END:VEVENT
BEGIN:VEVENT
DTSTART;TZID=America/Halifax:20230527T180000
DTEND;TZID=America/Halifax:20230527T200000
DTSTAMP:20260420T222852
CREATED:20230501T174531Z
LAST-MODIFIED:20230501T175338Z
UID:11297-1685210400-1685217600@busstoptheatre.coop
SUMMARY:Elle Lixir presents Hot Pot: An All-Asian Variety Show
DESCRIPTION:In celebration of Asian Heritage Month\, Elle Lixir presents “HOTPOT: An All-Asian Variety Show”\, featuring an all-Asian cast and showcasing burlesque\, drag\, live music (acoustic)\, and pole dance. There are two chances to catch the show on May 27th: the early show is from 6-8pm\, and the late show is from 9-11pm. Hosted by Kaidain Ivy. Sponsored by Custom Curves. Ages 19+.  \nFor a limited time\, patrons can use the code “LUCKYTICKET” to save $5 on General Admission seats only. Limited quantity per show\, offer valid while supplies last.
URL:https://busstoptheatre.coop/event/elle-lixir-presents-hot-pot-an-all-asian-variety-show/
LOCATION:The Bus Stop Theatre\, 2203 Gottingen Street\, Halifax\, Nova Scotia\, B3K3B5\, Canada
CATEGORIES:Burlesque,Drag
ATTACH;FMTTYPE=image/png:https://busstoptheatre.coop/wp-content/uploads/2023/05/HOTPOT-TV-AD-1920x1080px.png
GEO:44.6531707;-63.585073
X-APPLE-STRUCTURED-LOCATION;VALUE=URI;X-ADDRESS=The Bus Stop Theatre 2203 Gottingen Street Halifax Nova Scotia B3K3B5 Canada;X-APPLE-RADIUS=500;X-TITLE=2203 Gottingen Street:geo:-63.585073,44.6531707
END:VEVENT
END:VCALENDAR