BEGIN:VCALENDAR
VERSION:2.0
PRODID:-//The Bus Stop Theatre - ECPv6.14.2//NONSGML v1.0//EN
CALSCALE:GREGORIAN
METHOD:PUBLISH
X-ORIGINAL-URL:https://busstoptheatre.coop
X-WR-CALDESC:Events for The Bus Stop Theatre
REFRESH-INTERVAL;VALUE=DURATION:PT1H
X-Robots-Tag:noindex
X-PUBLISHED-TTL:PT1H
BEGIN:VTIMEZONE
TZID:America/Halifax
BEGIN:DAYLIGHT
TZOFFSETFROM:-0400
TZOFFSETTO:-0300
TZNAME:ADT
DTSTART:20240310T060000
END:DAYLIGHT
BEGIN:STANDARD
TZOFFSETFROM:-0300
TZOFFSETTO:-0400
TZNAME:AST
DTSTART:20241103T050000
END:STANDARD
END:VTIMEZONE
BEGIN:VEVENT
DTSTART;TZID=America/Halifax:20240515T180000
DTEND;TZID=America/Halifax:20240515T203000
DTSTAMP:20260420T170756
CREATED:20240417T151406Z
LAST-MODIFIED:20240422T171608Z
UID:12417-1715796000-1715805000@busstoptheatre.coop
SUMMARY:Losing Sight of Shore screening
DESCRIPTION:Losing Sight of Shore is the story of four women who set out to row across the Pacific Ocean from America to Australia. Witness the awe-inspiring landscapes and heart-stopping moments of their incredible journey and be inspired by their relentless pursuit of a dream that stretches far beyond the horizon.\nCanada’s own ocean rowing team\, Free From the Harbour\, is undertaking a journey to row 3000 miles across the Atlantic Ocean in 2025 to support the Marine Animal Response Society. The team will be available after the screening to answer your questions about their Atlantic expedition and the sport of ocean rowing.\nThis is a fundraising event\, all proceeds will benefit the team to help them purchase their own ocean rowing boat!\nFollow their journey online at www.freefromtheharbour.ca.
URL:https://busstoptheatre.coop/event/losing-sight-of-shore-screening/
LOCATION:The Bus Stop Theatre\, 2203 Gottingen Street\, Halifax\, Nova Scotia\, B3K3B5\, Canada
CATEGORIES:Film
GEO:44.6531707;-63.585073
X-APPLE-STRUCTURED-LOCATION;VALUE=URI;X-ADDRESS=The Bus Stop Theatre 2203 Gottingen Street Halifax Nova Scotia B3K3B5 Canada;X-APPLE-RADIUS=500;X-TITLE=2203 Gottingen Street:geo:-63.585073,44.6531707
END:VEVENT
END:VCALENDAR