BEGIN:VCALENDAR
VERSION:2.0
PRODID:-//The Bus Stop Theatre - ECPv6.14.2//NONSGML v1.0//EN
CALSCALE:GREGORIAN
METHOD:PUBLISH
X-WR-CALNAME:The Bus Stop Theatre
X-ORIGINAL-URL:https://busstoptheatre.coop
X-WR-CALDESC:Events for The Bus Stop Theatre
REFRESH-INTERVAL;VALUE=DURATION:PT1H
X-Robots-Tag:noindex
X-PUBLISHED-TTL:PT1H
BEGIN:VTIMEZONE
TZID:America/Halifax
BEGIN:DAYLIGHT
TZOFFSETFROM:-0400
TZOFFSETTO:-0300
TZNAME:ADT
DTSTART:20180311T060000
END:DAYLIGHT
BEGIN:STANDARD
TZOFFSETFROM:-0300
TZOFFSETTO:-0400
TZNAME:AST
DTSTART:20181104T050000
END:STANDARD
BEGIN:DAYLIGHT
TZOFFSETFROM:-0400
TZOFFSETTO:-0300
TZNAME:ADT
DTSTART:20190310T060000
END:DAYLIGHT
BEGIN:STANDARD
TZOFFSETFROM:-0300
TZOFFSETTO:-0400
TZNAME:AST
DTSTART:20191103T050000
END:STANDARD
BEGIN:DAYLIGHT
TZOFFSETFROM:-0400
TZOFFSETTO:-0300
TZNAME:ADT
DTSTART:20200308T060000
END:DAYLIGHT
BEGIN:STANDARD
TZOFFSETFROM:-0300
TZOFFSETTO:-0400
TZNAME:AST
DTSTART:20201101T050000
END:STANDARD
BEGIN:DAYLIGHT
TZOFFSETFROM:-0400
TZOFFSETTO:-0300
TZNAME:ADT
DTSTART:20210314T060000
END:DAYLIGHT
BEGIN:STANDARD
TZOFFSETFROM:-0300
TZOFFSETTO:-0400
TZNAME:AST
DTSTART:20211107T050000
END:STANDARD
BEGIN:DAYLIGHT
TZOFFSETFROM:-0400
TZOFFSETTO:-0300
TZNAME:ADT
DTSTART:20220313T060000
END:DAYLIGHT
BEGIN:STANDARD
TZOFFSETFROM:-0300
TZOFFSETTO:-0400
TZNAME:AST
DTSTART:20221106T050000
END:STANDARD
END:VTIMEZONE
BEGIN:VTIMEZONE
TZID:UTC
BEGIN:STANDARD
TZOFFSETFROM:+0000
TZOFFSETTO:+0000
TZNAME:UTC
DTSTART:20170101T000000
END:STANDARD
END:VTIMEZONE
BEGIN:VEVENT
DTSTART;TZID=America/Halifax:20221208T190000
DTEND;TZID=America/Halifax:20221208T210000
DTSTAMP:20260420T202704
CREATED:20221123T163927Z
LAST-MODIFIED:20221123T163927Z
UID:10363-1670526000-1670533200@busstoptheatre.coop
SUMMARY:Matchstick Theatre and Hello City present Punch Up!
DESCRIPTION:Matchstick Theatre and Hello City team up to co-present Kat Sandler’s tragicomedy Punch Up\, playing at the Bus Stop Theatre for two weekends December 8th-11th and 15th-18th!\n————————————————\nWhat happens when the most pathetic man ever kidnaps the funniest man alive to make the saddest girl in the world laugh?\nDuncan is trying to make Brenda laugh so that she will reconsider taking her own life. There is only one problem: Duncan is not funny. The solution? He kidnaps funnyman Pat to help him write the perfect stand-up routine.\nPunch Up shows just how far we will go for a laugh\, the hilarity found within despair\, and the profound healing power of comedy.\n————————————————\nTickets are entirely Pay What You Can on a sliding scale.\n(If a $10 reduced ticket cost is still not accessible for you\, please don’t hesitate to reach out to us at matchsticktheatre@gmail.com and we can accommodate).\nSelect performances will be ASL Interpreted (to be specified in the coming weeks!)
URL:https://busstoptheatre.coop/event/matchstick-theatre-and-hello-city-present-punch-up/2022-12-08/
LOCATION:The Bus Stop Theatre\, 2203 Gottingen Street\, Halifax\, Nova Scotia\, B3K3B5\, Canada
CATEGORIES:Theatre
ATTACH;FMTTYPE=image/jpeg:https://busstoptheatre.coop/wp-content/uploads/2022/11/punch.jpg
ORGANIZER;CN="Matchstick Theatre":MAILTO:matchsticktheatre@gmail.com
GEO:44.6531707;-63.585073
X-APPLE-STRUCTURED-LOCATION;VALUE=URI;X-ADDRESS=The Bus Stop Theatre 2203 Gottingen Street Halifax Nova Scotia B3K3B5 Canada;X-APPLE-RADIUS=500;X-TITLE=2203 Gottingen Street:geo:-63.585073,44.6531707
END:VEVENT
BEGIN:VEVENT
DTSTART;TZID=America/Halifax:20210922T193000
DTEND;TZID=America/Halifax:20210922T210000
DTSTAMP:20260420T202704
CREATED:20210908T150655Z
LAST-MODIFIED:20210908T150747Z
UID:8589-1632339000-1632344400@busstoptheatre.coop
SUMMARY:Footnotes: an Evening of 3 Short Plays
DESCRIPTION:An evening of short plays from acclaimed playwright Hannah Moscovitch’s early years. Essay\, USSR\, and Mexico City. \nTickets are Pay What You Can on a sliding scale\, with all ticket sales being donated to The Bus Stop Theatre Co-op’s Inclusion Fund.\nIf you wish to receive a tax receipt from The Bus Stop: select a Free ticket from our platform here\, head to Theatre Nova Scotia’s donation website\, select The Bus Stop from the drop down list\, and donate to them directly. \nSeating is extremely limited for our performances and tickets must be ordered in advance. \nSeating is arranged in bubbles of 4 and tickets must be ordered in batches of 4. If you are unable to reserve with a group of that size\, and would be happy to be seated in a pod of 4 with others\, please let us know at matchsticktheatre@gmail.com and we will do our best to accommodate your request.
URL:https://busstoptheatre.coop/event/footnotes-an-evening-of-3-short-plays/2021-09-22/
ATTACH;FMTTYPE=image/jpeg:https://busstoptheatre.coop/wp-content/uploads/2021/09/BSTC-MT-Footnotes.jpg
ORGANIZER;CN="Matchstick Theatre":MAILTO:matchsticktheatre@gmail.com
END:VEVENT
BEGIN:VEVENT
DTSTART;VALUE=DATE:20181011
DTEND;VALUE=DATE:20181015
DTSTAMP:20260420T202704
CREATED:20180924T185237Z
LAST-MODIFIED:20180924T185526Z
UID:5174-1539216000-1539561599@busstoptheatre.coop
SUMMARY:The Little Years: Presented by Matchstick Theatre
DESCRIPTION:With just six performances from October 11th-14th\, Matchstick Theatre proudly presents John Mighton’s The Little Years\, the last production of its 2018 season\, at the Bus Stop Theatre with support from the Canada Council for the Arts and Theatre Nova Scotia. \nJohn Mighton’s epic masterpiece orbits Kate\, who begins the play as a young woman of 14\, and follows her life from 1957 to 2002. Now in 2018\, where many are still battling for equality and respect\, Mighton’s drama presents a microcosm of progress to remind us that there is something to fight for\, even if we ourselves don’t always reap the results of our efforts. \nFrom the playwright: Kate possesses the makings of a gifted mathematician with an enthusiasm for exploring the mysteries of space and time. But this is the 1950s and women are routinely laughed out of scientific circles. Besides\, every family has its star\, and Kate’s brother already holds that distinction. Hindered by prejudices against women\, Kate is confined to a life of unfulfilling jobs\, leading her to become bitter and unhappy. The Little Years confronts the impact of chauvinism and explores the nature of fame\, the value of art\, and the passing of time. \nKate – Colleen MacIsaac\nGrace – Christine Daniels\nRoger – Matthew Lumley\nAlice – Mauralea Austin\nYoung Kate / Tanya – Kayla Gunn\nMr.Castle / Doctor / Mr.York – Sean Skerry\nMary – Amanda Mullally\nNorman – Sam Vigneault \nDirected by Jake Planinc\nStage Management Chelsea Dickie\nProduced by Alex Mills\nSet Design Wesley Babcock\nLighting Design Alison Crosby\nSound Design Jordan Palmer \nTickets are $25 ($20 for artists\, students\, seniors\, underwaged\, and Bus Stop Co-op members) and can be booked in advance through Ticket Halifax\, or by contacting matchsticktheatre@gmail.com\nWe will have one Pay What You Can performance on Saturday the 13th at 2pm. \nhttps://www.tickethalifax.com/events/57262894/john-mightons-the-little-years \nThe Little Years opens on October 11th and runs for just six performances with shows at 8:00pm on the 11th-14th and 2:00pm on the 13th and 14th. The matinee on the 13th is Pay What You Can. Run time is approximately 1 hour and 15 minutes\, with a 10 minute intermission.
URL:https://busstoptheatre.coop/event/the-little-years-presented-by-matchstick-theatre/
LOCATION:The Bus Stop Theatre\, 2203 Gottingen Street\, Halifax\, Nova Scotia\, B3K3B5\, Canada
CATEGORIES:Theatre
ATTACH;FMTTYPE=image/jpeg:https://busstoptheatre.coop/wp-content/uploads/2018/09/Little-Years.jpg
ORGANIZER;CN="Matchstick Theatre":MAILTO:matchsticktheatre@gmail.com
GEO:44.6531707;-63.585073
X-APPLE-STRUCTURED-LOCATION;VALUE=URI;X-ADDRESS=The Bus Stop Theatre 2203 Gottingen Street Halifax Nova Scotia B3K3B5 Canada;X-APPLE-RADIUS=500;X-TITLE=2203 Gottingen Street:geo:-63.585073,44.6531707
END:VEVENT
BEGIN:VEVENT
DTSTART;TZID=America/Halifax:20180711T200000
DTEND;TZID=America/Halifax:20180715T210000
DTSTAMP:20260420T202704
CREATED:20180619T145217Z
LAST-MODIFIED:20180619T145217Z
UID:4820-1531339200-1531688400@busstoptheatre.coop
SUMMARY:The Woodcutter by Don Hannah
DESCRIPTION:A scruffy\, exhausted man is lost in the woods at nightfall with only a few sentimental objects in his pockets. Alone in a clearing\, he unloads his thoughts to the surrounding wilderness\, ranting and raging\, unravelling a story of a troubled past and of the family he adores\, eventually coming to terms with the impossible truth of what he’s done. \nMatchstick Theatre presents Don Hannah’s one-man play The Woodcutter at the Bus Stop Theatre this July 11th-15th\, with support from Arts Nova Scotia and Theatre Nova Scotia. The play is recommended for mature audiences only. Please contact Matchstick Theatre if you have any questions\, concerns\, or comments: matchsticktheatre@gmail.com \nJuly 11th-15th: 8pm-9pm \nMatinée- July 14th & 15th: 2pm-3pm \nThe audience capacity is limited to only 36 per show. Tickets are on sale now at tickethalifax.com. \nTed – Sébastien Poissant Labelle \nDirected by Jake Planinc\nStage Managed by Chelsea Dickie\nProduced by Alex Mills\nLighting Design by Alison Crosby\nSound Design by Jordan Palmer\nSet Design by Wesley Babcock
URL:https://busstoptheatre.coop/event/the-woodcutter-by-don-hannah/
LOCATION:The Bus Stop Theatre\, 2203 Gottingen Street\, Halifax\, Nova Scotia\, B3K3B5\, Canada
CATEGORIES:Theatre
ATTACH;FMTTYPE=image/jpeg:https://busstoptheatre.coop/wp-content/uploads/2018/06/the-woodcutter.jpg
ORGANIZER;CN="Matchstick Theatre":MAILTO:matchsticktheatre@gmail.com
GEO:44.6531707;-63.585073
X-APPLE-STRUCTURED-LOCATION;VALUE=URI;X-ADDRESS=The Bus Stop Theatre 2203 Gottingen Street Halifax Nova Scotia B3K3B5 Canada;X-APPLE-RADIUS=500;X-TITLE=2203 Gottingen Street:geo:-63.585073,44.6531707
END:VEVENT
BEGIN:VEVENT
DTSTART;TZID=America/Halifax:20180301T200000
DTEND;TZID=America/Halifax:20180304T220000
DTSTAMP:20260420T202704
CREATED:20180203T014847Z
LAST-MODIFIED:20180203T014847Z
UID:4188-1519934400-1520200800@busstoptheatre.coop
SUMMARY:Peter Fechter: 59 Minutes - Presented by Matchstick Theatre
DESCRIPTION:Matchstick Theatre proudly presents its production of Jordan Tannahill’s Governor General’s award-winning play Peter Fechter: 59 Minutes\, this March at The Bus Stop Theatre Co-op. \nHalf documentary\, Peter Fechter: 59 Minutes tells the very real story of two boys who attempt to join the many who defected into West Berlin by crossing the Berlin Wall. The attempt\, however\, results in eighteen-year-old Peter getting shot in the lower pelvis. He lay between the border’s barricades for approximately an hour before dying from this injury. Half conceptualization\, Tannahill expertly navigates these fifty-nine minutes from gunshot to final breath\, exploring what could possibly have motivated Peter to risk his life to cross the wall. What can matter to us so much that we risk everything for it? \nThe play stars Peter Sarty\, Henricus Gielis\, Andrew Chandler\, and Rena Kossatz. The play is directed by Alison Crosby\, stage managed byChelsea Dickie\, produced by Alex Mills\, and designed by Wesley Babcock\, Jordan Palmer\, Anna Shepard\, and Emma Roode. \nTickets are $15 ($12 for students\, seniors\, underwaged\, and Bus Stop Co-op members) and can be booked in advance through Ticket Halifax\, or by contacting matchsticktheatre@gmail.com \nhttp://www.tickethalifax.com/events/51541383/peter-fechter-59-minutes \nPeter Fechter: 59 Minutes opens on March 1st\, and runs for five shows until Sunday the 4th. \nMatchstick Theatre produces contemporary Canadian plays\, striving to ignite\, affect\, and ultimately transform its audience with every performance. We are grateful to be supported by Theatre Nova Scotia.
URL:https://busstoptheatre.coop/event/peter-fechter-59-minutes-presented-by-matchstick-theatre/
LOCATION:The Bus Stop Theatre\, 2203 Gottingen Street\, Halifax\, Nova Scotia\, B3K3B5\, Canada
CATEGORIES:Theatre
ATTACH;FMTTYPE=image/jpeg:https://busstoptheatre.coop/wp-content/uploads/2018/02/Matchstick-2.jpg
ORGANIZER;CN="Matchstick Theatre":MAILTO:matchsticktheatre@gmail.com
GEO:44.6531707;-63.585073
X-APPLE-STRUCTURED-LOCATION;VALUE=URI;X-ADDRESS=The Bus Stop Theatre 2203 Gottingen Street Halifax Nova Scotia B3K3B5 Canada;X-APPLE-RADIUS=500;X-TITLE=2203 Gottingen Street:geo:-63.585073,44.6531707
END:VEVENT
BEGIN:VEVENT
DTSTART;TZID=America/Halifax:20180212T190000
DTEND;TZID=America/Halifax:20180212T200000
DTSTAMP:20260420T202704
CREATED:20180203T010655Z
LAST-MODIFIED:20180203T010740Z
UID:4162-1518462000-1518465600@busstoptheatre.coop
SUMMARY:Matchstick's Playreading Series: Joyride by Michael Melski
DESCRIPTION:For the first instalment of their 2018 playreading series\, Matchstick Theatre presents Michael Melski’s Joyride on Monday\, February 12th at The Bus Stop Theatre Co-op. \nJoyride\, the play that launched the celebrated Cape Breton playwright’s career\, was first performed at the Atlantic Fringe Festival in 1994. It is a reflection of post-industrial Cape Breton\, a setting that is recognizable today. As the author describes it: \n“Most of our old friends had moved off the island for work. Nothing new in that\, but the young faces that were hanging out…seemed strange to me. There was something a little scared\, a little desperate that kept occurring in the eyes. It was two years after the McDonald’s murders. But the wake wasn’t over. Maybe it never will be.” \nIn the play we meet Rachel\, earning minimum wage as a convenience store clerk\, Jess\, working for his father’s seasonal landscaping business\, and Craig\, home on probation and unemployed. With nowhere to go and nothing to do\, the three friends get caught up in a whirlwind. \nA masterful hour of Nova Scotian dialogue\, Matchstick Theatre’s reading of Michael Melski’s Joyride features Kya Mosey as Rachel\, Henricus Gielis as Jess\, and Taylor Olson as Craig\, with stage directions read by Chelsea Dickie. \nThe doors for the reading will be open as of 6:30\, and the reading will begin promptly at 7:00pm. Admission is Pay What You Can at the door\, in support of both Matchstick Theatre and The Bus Stop Theatre Co-op.
URL:https://busstoptheatre.coop/event/matchsticks-playreading-series-joyride-by-michael-melski/
LOCATION:The Bus Stop Theatre\, 2203 Gottingen Street\, Halifax\, Nova Scotia\, B3K3B5\, Canada
CATEGORIES:Theatre
ATTACH;FMTTYPE=image/jpeg:https://busstoptheatre.coop/wp-content/uploads/2018/02/Matchstick.jpg
ORGANIZER;CN="Matchstick Theatre":MAILTO:matchsticktheatre@gmail.com
GEO:44.6531707;-63.585073
X-APPLE-STRUCTURED-LOCATION;VALUE=URI;X-ADDRESS=The Bus Stop Theatre 2203 Gottingen Street Halifax Nova Scotia B3K3B5 Canada;X-APPLE-RADIUS=500;X-TITLE=2203 Gottingen Street:geo:-63.585073,44.6531707
END:VEVENT
BEGIN:VEVENT
DTSTART;TZID=UTC:20170111T200000
DTEND;TZID=UTC:20170115T220000
DTSTAMP:20260420T202704
CREATED:20170105T193932Z
LAST-MODIFIED:20170111T142133Z
UID:2809-1484164800-1484517600@busstoptheatre.coop
SUMMARY:Matchstick Theatre presents: In On It
DESCRIPTION:Daniel MacIvor’s In On It is a reality-bending\, overlooked Canadian gem. Both hilarious and truly tragic\, the play questions how and why we tell stories\, especially the ones we tell ourselves to help us through our most difficult moments. \nMatchstick Theatre’s production stars Brandon Lorimer and Tom Lute and runs at The Bus Stop Theatre from January 11th-15th\, 2017 with the support of Theatre Nova Scotia. \nMatchstick Theatre produces contemporary Canadian plays and strives to ignite\, affect\, transport\, and transform its audience with every performance.\nVisit www.matchsticktheatre.net for more information.
URL:https://busstoptheatre.coop/event/in-on-it/
LOCATION:The Bus Stop Theatre\, 2203 Gottingen Street\, Halifax\, Nova Scotia\, B3K3B5\, Canada
CATEGORIES:Theatre
ATTACH;FMTTYPE=image/jpeg:https://busstoptheatre.coop/wp-content/uploads/2016/12/in-on-it-fi-2.jpg
ORGANIZER;CN="Matchstick Theatre":MAILTO:matchsticktheatre@gmail.com
GEO:44.6531707;-63.585073
X-APPLE-STRUCTURED-LOCATION;VALUE=URI;X-ADDRESS=The Bus Stop Theatre 2203 Gottingen Street Halifax Nova Scotia B3K3B5 Canada;X-APPLE-RADIUS=500;X-TITLE=2203 Gottingen Street:geo:-63.585073,44.6531707
END:VEVENT
END:VCALENDAR