BEGIN:VCALENDAR
VERSION:2.0
PRODID:-//The Bus Stop Theatre - ECPv6.14.2//NONSGML v1.0//EN
CALSCALE:GREGORIAN
METHOD:PUBLISH
X-WR-CALNAME:The Bus Stop Theatre
X-ORIGINAL-URL:https://busstoptheatre.coop
X-WR-CALDESC:Events for The Bus Stop Theatre
REFRESH-INTERVAL;VALUE=DURATION:PT1H
X-Robots-Tag:noindex
X-PUBLISHED-TTL:PT1H
BEGIN:VTIMEZONE
TZID:America/Halifax
BEGIN:DAYLIGHT
TZOFFSETFROM:-0400
TZOFFSETTO:-0300
TZNAME:ADT
DTSTART:20170312T060000
END:DAYLIGHT
BEGIN:STANDARD
TZOFFSETFROM:-0300
TZOFFSETTO:-0400
TZNAME:AST
DTSTART:20171105T050000
END:STANDARD
END:VTIMEZONE
BEGIN:VEVENT
DTSTART;TZID=America/Halifax:20170715T130000
DTEND;TZID=America/Halifax:20170715T160000
DTSTAMP:20260423T051355
CREATED:20170713T144901Z
LAST-MODIFIED:20170713T144901Z
UID:3623-1500123600-1500134400@busstoptheatre.coop
SUMMARY:So You Want to Tour the World With Your Art (Queer Acts)
DESCRIPTION:Workshop with Sunny Drake \nSo You Wanna Tour the World with your Art: step by step considerations for self-producing and touring independent performance\, including being presented by venues or festivals and Do-It-Yourself style touring (e.g. to warehouses\, youth centres\, hiring venues). Sunny has toured extensively to over 80 venues in 55 cities in the USA\, Canada\, Europe\, Puerto Rico and Australia. \nPresented in partnership with Halifax Fringe Festival
URL:https://busstoptheatre.coop/event/so-you-want-to-tour-the-world-with-your-art-queer-acts/
LOCATION:The Bus Stop Theatre\, 2203 Gottingen Street\, Halifax\, Nova Scotia\, B3K3B5\, Canada
CATEGORIES:Festival,Meetings & Workshops,Queer Acts
ATTACH;FMTTYPE=image/jpeg:https://busstoptheatre.coop/wp-content/uploads/2017/07/QA-Tour.jpg
ORGANIZER;CN="Queer Acts Festival":MAILTO:queeracts@gmail.com
GEO:44.6531707;-63.585073
X-APPLE-STRUCTURED-LOCATION;VALUE=URI;X-ADDRESS=The Bus Stop Theatre 2203 Gottingen Street Halifax Nova Scotia B3K3B5 Canada;X-APPLE-RADIUS=500;X-TITLE=2203 Gottingen Street:geo:-63.585073,44.6531707
END:VEVENT
BEGIN:VEVENT
DTSTART;VALUE=DATE:20170715
DTEND;VALUE=DATE:20170717
DTSTAMP:20260423T051355
CREATED:20170705T152933Z
LAST-MODIFIED:20170705T152933Z
UID:3593-1500076800-1500249599@busstoptheatre.coop
SUMMARY:No Treats - Queer Acts Theatre Festival
DESCRIPTION:Written and performed by Aisha Zaman (60min\, Bus Stop Theatre) \n“They experienced suffering and adversity and were so shaken in spirit that even the Prophet and the faithful who were with him cried\, ‘When will God’s help come?’” (Al-Baqarah-214). \nWhen 15-year-old Yasmin realizes that her “never-tell-anyone-especially-not-your-parents” secret is out\, she begins a winner-take-all fight against herself for her right to live her seemingly ironic life by challenging the notion that there is no room for sexual diversity in Islam. \nCW: Suicide\, mental health \nThe Bus Stop Theatre\nSaturday July 15th\, 7PM\nSunday July 16th\, 3:30PM\nSunday July 16th\, 9:30PM \nTICKET HALIFAX LINK
URL:https://busstoptheatre.coop/event/no-treats-queer-acts-theatre-festival/
LOCATION:The Bus Stop Theatre\, 2203 Gottingen Street\, Halifax\, Nova Scotia\, B3K3B5\, Canada
CATEGORIES:Festival,Queer Acts,Theatre
ATTACH;FMTTYPE=image/jpeg:https://busstoptheatre.coop/wp-content/uploads/2017/07/QA-No-Treats.jpg
ORGANIZER;CN="Queer Acts Festival":MAILTO:queeracts@gmail.com
GEO:44.6531707;-63.585073
X-APPLE-STRUCTURED-LOCATION;VALUE=URI;X-ADDRESS=The Bus Stop Theatre 2203 Gottingen Street Halifax Nova Scotia B3K3B5 Canada;X-APPLE-RADIUS=500;X-TITLE=2203 Gottingen Street:geo:-63.585073,44.6531707
END:VEVENT
BEGIN:VEVENT
DTSTART;VALUE=DATE:20170714
DTEND;VALUE=DATE:20170717
DTSTAMP:20260423T051355
CREATED:20170705T153642Z
LAST-MODIFIED:20170705T154024Z
UID:3603-1499990400-1500249599@busstoptheatre.coop
SUMMARY:Emerging Queer Artists Double Bill - Queer Acts Theatre Festival
DESCRIPTION:Emerging Queer Artists Double-Bill (60 Min\, Bus Stop Theatre) \nQueer Acts has partnered with Raven Davis as mentor and Jade Byard Peek is our local emerging queer artist! Jade is a Black and Mi’kmaw Artist working with Raven in a new piece entitled “fried”. Fried is a performance piece that confronts the colonial expectation of the presentation of black femme bodies in white spaces\, intersected with conflicting notions trans-femme “passing” Ideals. While engaging conversations of appropriation\, harassment\, and tokenism\, Fried explores the labour\, pain\, and struggle of maintaining and straightening afro-textured hair\, while balancing of culture\, work\, and personal pressures and expectations. Using the combination of audio\, monologue\, and the act of straightening hair under time constraints\, shows the labour of being a black trans woman in a humid city\, depicting the constant assault on black women’s bodies\, especially their hair. \nFrom Toronto\, we have writer/actor François Macdonald who comes to us with his play Aquarius\, directed by Sunny Drake. In April 1975\, the Aquarius bathhouse in downtown Montreal was firebombed\, killing three patrons\, two of whom were never identified or claimed. Aquarius tells the story of two men who met in the bathhouse that night. Originally conceived as part of Buddies in Bad Times Theatre’s 2016/17 Emerging Creators Unit\, first performed at the 38th Rhubarb Festival in Toronto this past February and shared again at Toronto’s Queer Pride Festival last month\, Aquarius is an exploration of sexuality\, repression\, violence and memory as it relates to Montreal in the 1970s and to the recent legalization of homosexuality by Prime Minister Pierre Trudeau in 1969. Creator and performer — François Macdonald\, Director — Sunny Drake\, Dramaturge — Mel Hague\, Sound Designer — Jason Thomson \nThe Bus Stop Theatre\nFriday July 14th\, 6:30PM\nSaturday July 15th\, 8:30PM\nSunday July 16th\, 2:00PM \nTICKET HALIFAX LINK
URL:https://busstoptheatre.coop/event/emerging-queer-artists-double-bill-queer-acts-theatre-festival/
LOCATION:The Bus Stop Theatre\, 2203 Gottingen Street\, Halifax\, Nova Scotia\, B3K3B5\, Canada
CATEGORIES:Festival,Queer Acts,Theatre
ATTACH;FMTTYPE=image/jpeg:https://busstoptheatre.coop/wp-content/uploads/2017/07/QA-emerging.jpg
ORGANIZER;CN="Queer Acts Festival":MAILTO:queeracts@gmail.com
GEO:44.6531707;-63.585073
X-APPLE-STRUCTURED-LOCATION;VALUE=URI;X-ADDRESS=The Bus Stop Theatre 2203 Gottingen Street Halifax Nova Scotia B3K3B5 Canada;X-APPLE-RADIUS=500;X-TITLE=2203 Gottingen Street:geo:-63.585073,44.6531707
END:VEVENT
BEGIN:VEVENT
DTSTART;VALUE=DATE:20170713
DTEND;VALUE=DATE:20170717
DTSTAMP:20260423T051355
CREATED:20170705T153832Z
LAST-MODIFIED:20170705T153832Z
UID:3606-1499904000-1500249599@busstoptheatre.coop
SUMMARY:Kooni - Queer Acts Theatre Festival
DESCRIPTION:Written and performed by Izad Etemadi\, Direction and Dramaturgy by Liza Balkan\, Film Direction by Moze Mossanen and Stage Management by Steph Raposo. (60 Min\, Bus Stop Theatre) \n[koo-knee] Persian. Noun.\n1. A person who is known to have anal sex. This term is most often used towards men to imply homosexuality.�2. Commonly used as an insult.�3. Mostly used as slang for “fag.” \n“Dude\, you’re so Kooni.” \nHis parents left Iran over 30 years ago in search for a better life for their children. Going back to Iran now could result in mandatory military service and even\, death. But what if they hadn’t made that selfless choice? What would his life look like? This Canadian ‘Kooni’ contrasts his life in Canada with an imagined one in Iran\, integrating the two worlds through live performance and video. \nIzad last visited Halifax in 2015 with his comedic hit Love With Leila\, which is currently on stage at OUTstages in Victoria. \nThe Bus Stop Theatre\nThursday July 13th\, 8:00PM\nFriday July 14th\, 8:00PM\nSunday July 16th\, 8:00PM \nTICKET HALIFAX LINK
URL:https://busstoptheatre.coop/event/kooni-queer-acts-theatre-festival/
LOCATION:The Bus Stop Theatre\, 2203 Gottingen Street\, Halifax\, Nova Scotia\, B3K3B5\, Canada
CATEGORIES:Festival,Queer Acts,Theatre
ATTACH;FMTTYPE=image/jpeg:https://busstoptheatre.coop/wp-content/uploads/2017/07/QA-Kooni.jpg
ORGANIZER;CN="Queer Acts Festival":MAILTO:queeracts@gmail.com
GEO:44.6531707;-63.585073
X-APPLE-STRUCTURED-LOCATION;VALUE=URI;X-ADDRESS=The Bus Stop Theatre 2203 Gottingen Street Halifax Nova Scotia B3K3B5 Canada;X-APPLE-RADIUS=500;X-TITLE=2203 Gottingen Street:geo:-63.585073,44.6531707
END:VEVENT
BEGIN:VEVENT
DTSTART;VALUE=DATE:20170713
DTEND;VALUE=DATE:20170717
DTSTAMP:20260423T051355
CREATED:20170705T153427Z
LAST-MODIFIED:20170705T153427Z
UID:3600-1499904000-1500249599@busstoptheatre.coop
SUMMARY:Breakfast - Queer Acts Theatre Festival
DESCRIPTION:Written and performed by Adam Myatt and Nolan Natasha (30 Min\, Bus Stop Theatre)\nBreakfast is a comedy about waiting\, often for the wrong reasons. Two friends sit in a quiet diner on a weekday afternoon\, ordering off the breakfast menu. While waiting for their order to arrive\, they discuss\, among other things\, annoying social media posts\, relationships and orchestra conductors (what do they contribute\, anyway?!). Breakfast explores the quiet earnestness inside a couple of grumps. \nThe Bus Stop Theatre\nThursday July 13th\, 7:00PM\nSaturday July 15th\, 6:00PM\nSunday July 16th\, 7:00PM \nTICKET HALIFAX LINK
URL:https://busstoptheatre.coop/event/breakfast-queer-acts-theatre-festival/
LOCATION:The Bus Stop Theatre\, 2203 Gottingen Street\, Halifax\, Nova Scotia\, B3K3B5\, Canada
CATEGORIES:Festival,Queer Acts,Theatre
ATTACH;FMTTYPE=image/jpeg:https://busstoptheatre.coop/wp-content/uploads/2017/07/QA-Breakfast.jpg
ORGANIZER;CN="Queer Acts Festival":MAILTO:queeracts@gmail.com
GEO:44.6531707;-63.585073
X-APPLE-STRUCTURED-LOCATION;VALUE=URI;X-ADDRESS=The Bus Stop Theatre 2203 Gottingen Street Halifax Nova Scotia B3K3B5 Canada;X-APPLE-RADIUS=500;X-TITLE=2203 Gottingen Street:geo:-63.585073,44.6531707
END:VEVENT
BEGIN:VEVENT
DTSTART;VALUE=DATE:20170713
DTEND;VALUE=DATE:20170715
DTSTAMP:20260423T051355
CREATED:20170705T153224Z
LAST-MODIFIED:20170705T155653Z
UID:3597-1499904000-1500076799@busstoptheatre.coop
SUMMARY:The Queer Ages of Hugo Dann - Queer Acts Theatre Festival
DESCRIPTION:Performed and Written by Hugo Dann\, with Rosemary Gilbert (90 Min\, Bus Stop Theatre)\nThe Queer Ages of Hugo Dann explores the life of its author/performer from 1966 to the present day. The queer theatre artist and activist traces the connection between his life in the theatre and his coming of age as a gay artist. The play explores the disintegration of his family as a result of his father’s closeted homosexuality\, his discovery of sex in the heady first years of of LGBTQ+ liberation\, the years of violence and plague\, right up to massacre in Orlando and beyond. Along the way it tracks the changes in Canadian attitudes and political responses to Queer/Trans peoples. \nThe Bus Stop Theatre\nThursday July 13th\, 9:30PM\nFriday July 14th\, 9:30PM\nSaturday July 15th\, 10:00PM \nTICKET HALIFAX LINK
URL:https://busstoptheatre.coop/event/the-queer-ages-of-hugo-dann-queer-acts-theatre-festival/
LOCATION:The Bus Stop Theatre\, 2203 Gottingen Street\, Halifax\, Nova Scotia\, B3K3B5\, Canada
CATEGORIES:Festival,Queer Acts,Theatre
ATTACH;FMTTYPE=image/jpeg:https://busstoptheatre.coop/wp-content/uploads/2017/07/QA-Hugo.jpg
ORGANIZER;CN="Queer Acts Festival":MAILTO:queeracts@gmail.com
GEO:44.6531707;-63.585073
X-APPLE-STRUCTURED-LOCATION;VALUE=URI;X-ADDRESS=The Bus Stop Theatre 2203 Gottingen Street Halifax Nova Scotia B3K3B5 Canada;X-APPLE-RADIUS=500;X-TITLE=2203 Gottingen Street:geo:-63.585073,44.6531707
END:VEVENT
END:VCALENDAR