BEGIN:VCALENDAR
VERSION:2.0
PRODID:-//The Bus Stop Theatre - ECPv6.14.2//NONSGML v1.0//EN
CALSCALE:GREGORIAN
METHOD:PUBLISH
X-WR-CALNAME:The Bus Stop Theatre
X-ORIGINAL-URL:https://busstoptheatre.coop
X-WR-CALDESC:Events for The Bus Stop Theatre
REFRESH-INTERVAL;VALUE=DURATION:PT1H
X-Robots-Tag:noindex
X-PUBLISHED-TTL:PT1H
BEGIN:VTIMEZONE
TZID:America/Halifax
BEGIN:DAYLIGHT
TZOFFSETFROM:-0400
TZOFFSETTO:-0300
TZNAME:ADT
DTSTART:20180311T060000
END:DAYLIGHT
BEGIN:STANDARD
TZOFFSETFROM:-0300
TZOFFSETTO:-0400
TZNAME:AST
DTSTART:20181104T050000
END:STANDARD
END:VTIMEZONE
BEGIN:VEVENT
DTSTART;TZID=America/Halifax:20180721T200000
DTEND;TZID=America/Halifax:20180722T020000
DTSTAMP:20260421T181127
CREATED:20180704T183819Z
LAST-MODIFIED:20180704T183819Z
UID:4891-1532203200-1532224800@busstoptheatre.coop
SUMMARY:Filthy Radicals 10 Year Anniversary Tour/Cathartics CD Release
DESCRIPTION:Saturday July 21st @ the Bus Stop Theatre\n(2203 Gottingen Street\, Halifax\, NS) \nThe Filthy Radicals 10 Year Anniversary Tour\nThe Cathartics CD Release Show \nThe Cathartics (Homegrown Punk Rock)\nhttps://cathartics.bandcamp.com/ \nWeekend Dads (Homegrown Punk Rock)\nhttps://weekenddads.bandcamp.com/ \nThe Filthy Radicals (Toronto Punk Skacore)\nhttps://stayfilthy.bandcamp.com/ \nLarson Sunrise (Homegrown Punk Rock) \nLee Sturgess (Brooklin\, Ontario Punk Rock)\nhttps://criticalhit1.bandcamp.com/releases \nStand Back (Homegrown Rock n Roll) \n$10 at the door \nDoors at 8pm\nShow at 9pm \nAFTERSHOW PARTY WITH DJ Zhukow
URL:https://busstoptheatre.coop/event/filthy-radicals-10-year-anniversary-tour-cathartics-cd-release/
LOCATION:The Bus Stop Theatre\, 2203 Gottingen Street\, Halifax\, Nova Scotia\, B3K3B5\, Canada
CATEGORIES:Music,Performance Arts
ATTACH;FMTTYPE=image/jpeg:https://busstoptheatre.coop/wp-content/uploads/2018/07/35292345_160853718111174_8156360654240874496_n.jpg
ORGANIZER;CN="Revolve Collectives":MAILTO:avalon@revolvecollective.com
GEO:44.6531707;-63.585073
X-APPLE-STRUCTURED-LOCATION;VALUE=URI;X-ADDRESS=The Bus Stop Theatre 2203 Gottingen Street Halifax Nova Scotia B3K3B5 Canada;X-APPLE-RADIUS=500;X-TITLE=2203 Gottingen Street:geo:-63.585073,44.6531707
END:VEVENT
END:VCALENDAR