BEGIN:VCALENDAR
VERSION:2.0
PRODID:-//The Bus Stop Theatre - ECPv6.14.2//NONSGML v1.0//EN
CALSCALE:GREGORIAN
METHOD:PUBLISH
X-ORIGINAL-URL:https://busstoptheatre.coop
X-WR-CALDESC:Events for The Bus Stop Theatre
REFRESH-INTERVAL;VALUE=DURATION:PT1H
X-Robots-Tag:noindex
X-PUBLISHED-TTL:PT1H
BEGIN:VTIMEZONE
TZID:America/Halifax
BEGIN:DAYLIGHT
TZOFFSETFROM:-0400
TZOFFSETTO:-0300
TZNAME:ADT
DTSTART:20190310T060000
END:DAYLIGHT
BEGIN:STANDARD
TZOFFSETFROM:-0300
TZOFFSETTO:-0400
TZNAME:AST
DTSTART:20191103T050000
END:STANDARD
END:VTIMEZONE
BEGIN:VEVENT
DTSTART;TZID=America/Halifax:20190420T193000
DTEND;TZID=America/Halifax:20190420T230000
DTSTAMP:20260420T182728
CREATED:20190327T225521Z
LAST-MODIFIED:20190327T225521Z
UID:5624-1555788600-1555801200@busstoptheatre.coop
SUMMARY:River of Diamonds Album Release Show
DESCRIPTION:Forward Music Group presents River of Diamonds album release for ‘Photon Touch’ April 20 at The Bus Stop Theatre. River of Diamonds is poet/vocalist Michelle Elrick and producer/musician Michael Belyea. Their stage show combines pop instrumentation\, upbeat grooves\, spoken word and video projection into an immersive audience experience. \n‘Photon Touch’ is their debut full-length album\, released in tandem with a 24-page book of the poems published by Trunk Sale Independent Press and printed by Gaspereau Printers. \nMichelle Elrick is an award-winning poet and author of two previous books\, including Then/Again (Nightwood\, 2017). \nMichael Belyea is a professional drummer (Jenn Grant\, David Myles\, Olympic Symphonium)\, multi-instrumentalist and producer. He released a solo album\, Burier\, under the name Taung Child in 2014.
URL:https://busstoptheatre.coop/event/river-of-diamonds-album-release-show/
LOCATION:The Bus Stop Theatre\, 2203 Gottingen Street\, Halifax\, Nova Scotia\, B3K3B5\, Canada
CATEGORIES:Music
ATTACH;FMTTYPE=image/jpeg:https://busstoptheatre.coop/wp-content/uploads/2019/03/River.jpg
GEO:44.6531707;-63.585073
X-APPLE-STRUCTURED-LOCATION;VALUE=URI;X-ADDRESS=The Bus Stop Theatre 2203 Gottingen Street Halifax Nova Scotia B3K3B5 Canada;X-APPLE-RADIUS=500;X-TITLE=2203 Gottingen Street:geo:-63.585073,44.6531707
END:VEVENT
END:VCALENDAR