BEGIN:VCALENDAR
VERSION:2.0
PRODID:-//The Bus Stop Theatre - ECPv6.14.2//NONSGML v1.0//EN
CALSCALE:GREGORIAN
METHOD:PUBLISH
X-ORIGINAL-URL:https://busstoptheatre.coop
X-WR-CALDESC:Events for The Bus Stop Theatre
REFRESH-INTERVAL;VALUE=DURATION:PT1H
X-Robots-Tag:noindex
X-PUBLISHED-TTL:PT1H
BEGIN:VTIMEZONE
TZID:America/Halifax
BEGIN:DAYLIGHT
TZOFFSETFROM:-0400
TZOFFSETTO:-0300
TZNAME:ADT
DTSTART:20170312T060000
END:DAYLIGHT
BEGIN:STANDARD
TZOFFSETFROM:-0300
TZOFFSETTO:-0400
TZNAME:AST
DTSTART:20171105T050000
END:STANDARD
END:VTIMEZONE
BEGIN:VEVENT
DTSTART;TZID=America/Halifax:20171211T190000
DTEND;TZID=America/Halifax:20171211T210000
DTSTAMP:20260420T061044
CREATED:20171124T134850Z
LAST-MODIFIED:20171124T135426Z
UID:4015-1513018800-1513026000@busstoptheatre.coop
SUMMARY:Mindful Art - Spoken Out Against
DESCRIPTION:The Schizophrenia Society of Nova Scotia has been coordinating a variety of events highlighting the creativity\, diversity\, and ingenuity of those living with mental health and addictions challenges. These Mindful Art events have been made possible by funding provided by the Nova Scotia Department of Culture and Heritage’s Forward 150 Fund. These events have included Mindful Art windows highlighting shaping healthy communities\, a Mad Hatter Tea Party highlighting Mad Pride\, and a Spoken Out\, spoken word event that brought out a variety of passionate and talented spoken word artists. \nOn behalf of the Schizophrenia Society on Nova Scotia\, I would like to invite you to our last official Mindful Art event happening on December 11\, at the Bus Stop Theatre (2203 Gottingen St\, Halifax) from 7 pm to 9 pm. Due to the extreme success of the Spoken Out event in August\, we will be presenting Spoken Out Again. We encourage you to come and share in celebrating the passion\, creativity and courage of all who are performing. While this is our last official event under the grant of the Mindful Art Initiative we hope to continue these events in future as they have brought together people from all walks of life and have demonstrated the bright future for those living with mental health and addictions. We hope to see you there!
URL:https://busstoptheatre.coop/event/mindful-art-spoken-out-against/
LOCATION:The Bus Stop Theatre\, 2203 Gottingen Street\, Halifax\, Nova Scotia\, B3K3B5\, Canada
CATEGORIES:Performance Arts
ATTACH;FMTTYPE=image/jpeg:https://busstoptheatre.coop/wp-content/uploads/2017/11/Spoken-Out-Against.jpg
GEO:44.6531707;-63.585073
X-APPLE-STRUCTURED-LOCATION;VALUE=URI;X-ADDRESS=The Bus Stop Theatre 2203 Gottingen Street Halifax Nova Scotia B3K3B5 Canada;X-APPLE-RADIUS=500;X-TITLE=2203 Gottingen Street:geo:-63.585073,44.6531707
END:VEVENT
END:VCALENDAR