BEGIN:VCALENDAR
VERSION:2.0
PRODID:-//The Bus Stop Theatre - ECPv6.14.2//NONSGML v1.0//EN
CALSCALE:GREGORIAN
METHOD:PUBLISH
X-WR-CALNAME:The Bus Stop Theatre
X-ORIGINAL-URL:https://busstoptheatre.coop
X-WR-CALDESC:Events for The Bus Stop Theatre
REFRESH-INTERVAL;VALUE=DURATION:PT1H
X-Robots-Tag:noindex
X-PUBLISHED-TTL:PT1H
BEGIN:VTIMEZONE
TZID:America/Halifax
BEGIN:DAYLIGHT
TZOFFSETFROM:-0400
TZOFFSETTO:-0300
TZNAME:ADT
DTSTART:20220313T060000
END:DAYLIGHT
BEGIN:STANDARD
TZOFFSETFROM:-0300
TZOFFSETTO:-0400
TZNAME:AST
DTSTART:20221106T050000
END:STANDARD
END:VTIMEZONE
BEGIN:VEVENT
DTSTART;TZID=America/Halifax:20220524T190000
DTEND;TZID=America/Halifax:20220524T210000
DTSTAMP:20260421T014900
CREATED:20220510T161956Z
LAST-MODIFIED:20220510T161956Z
UID:9437-1653418800-1653426000@busstoptheatre.coop
SUMMARY:The Big Sing - Lost Together
DESCRIPTION: THE BIG SING IS BACK! \nGrab your tickets now for this special event at The Bus Stop Theatre and celebrate the return to singing!\nSONG: “Lost Together” by Blue Rodeo\n**Advance ticket purchase required**\nTBS t-shirts available free for pick up at the event while supplies last!\n\nNever been to a Big Sing before? Picture a Nova Scotia kitchen party\, with 100 friends\, learning one of the best rock tunes of our time\, finishing with a filmed performance in perfected three-part harmony. Seriously. It’s awesome.\nBlue Rodeo won’t be at the event\, but if you have a connection we’ll reserve some seats!\n\nCOVID-19 PRECAUTIONS (subject to change)\n-mask wearing is optional\n-voluntary testing beforehand is recommended\n-theatre capacity will be limited\, but social distancing will not be enforced\nCOVID is still with us and singing is believed to cause high transmission\, so make the decision which is right for you and we’re happy to chat if you have any questions beforehand!
URL:https://busstoptheatre.coop/event/the-big-sing-lost-together/
LOCATION:The Bus Stop Theatre\, 2203 Gottingen Street\, Halifax\, Nova Scotia\, B3K3B5\, Canada
CATEGORIES:Music
ATTACH;FMTTYPE=image/png:https://busstoptheatre.coop/wp-content/uploads/2022/05/big-e1652199582765.png
GEO:44.6531707;-63.585073
X-APPLE-STRUCTURED-LOCATION;VALUE=URI;X-ADDRESS=The Bus Stop Theatre 2203 Gottingen Street Halifax Nova Scotia B3K3B5 Canada;X-APPLE-RADIUS=500;X-TITLE=2203 Gottingen Street:geo:-63.585073,44.6531707
END:VEVENT
END:VCALENDAR