BEGIN:VCALENDAR
VERSION:2.0
PRODID:-//The Bus Stop Theatre - ECPv6.14.2//NONSGML v1.0//EN
CALSCALE:GREGORIAN
METHOD:PUBLISH
X-WR-CALNAME:The Bus Stop Theatre
X-ORIGINAL-URL:https://busstoptheatre.coop
X-WR-CALDESC:Events for The Bus Stop Theatre
REFRESH-INTERVAL;VALUE=DURATION:PT1H
X-Robots-Tag:noindex
X-PUBLISHED-TTL:PT1H
BEGIN:VTIMEZONE
TZID:America/Halifax
BEGIN:DAYLIGHT
TZOFFSETFROM:-0400
TZOFFSETTO:-0300
TZNAME:ADT
DTSTART:20210314T060000
END:DAYLIGHT
BEGIN:STANDARD
TZOFFSETFROM:-0300
TZOFFSETTO:-0400
TZNAME:AST
DTSTART:20211107T050000
END:STANDARD
END:VTIMEZONE
BEGIN:VEVENT
DTSTART;TZID=America/Halifax:20210124T160000
DTEND;TZID=America/Halifax:20210124T180000
DTSTAMP:20260420T164658
CREATED:20210113T120910Z
LAST-MODIFIED:20210113T120910Z
UID:7616-1611504000-1611511200@busstoptheatre.coop
SUMMARY:Bus Stop Theatre Writer's Circle
DESCRIPTION:SIGN UP (IT’S FREE):\nhttp://bit.do/writerscircle \nABOUT:\nThe Bus Stop Theatre Writer’s Circle (formerly the Bus Stop Theatre Playwrights Unit) is an open invite writer’s collective. We meet monthly to share writing and feedback. We aim to create an affirming\, nurturing space to support the vulnerable practice of sharing new writing. Join us once or come every month – we just ask that you sign up in advance because capacity is limited.\n\nTo date we have been a theatre/playwright focused group\, and that’s where most of our expertise is. We value cross-pollination and we invite writers from other disciplines to join us! Whether you want to dip your toes into playwriting or you want to get feedback on your poetry/screenplay/short story\, we’d love to have you.\n\nWe have resources to support artists working towards professional productions\, but we welcome all writers\, whether you identify as “professional” or not.\n\nThe BST Writer’s Circle is organized by producer Meg Hubley and coordinator Karen Gross.\n\nHOW IT WORKS:\nWe meet on the third Sunday of every month.\n\nAfter you sign up\, we’ll confirm your spot (and send you the Zoom link) a week before the session. We have space for ten people who want to share work plus five people who just want to listen and give feedback.\n\nSessions are about two hours long with a break halfway through and ten minutes per writer to share writing and hear feedback. We go over the details of how sessions run every time\, so don’t worry if it’s your first time joining us! You’re also welcome to email writerscircle@thebusstoptheatre.org with any questions.\n\nWe suggest bringing a maximum of two pages of writing to allow enough time for responses. Writers are encouraged to come to the session with a specific question or issue they’re working on and want feedback about. The facilitator can also offer reflection questions to the group.\n\nThis is a reciprocal exchange: sharing your feedback is as important as sharing your work.\n\nIf you’re new to the Writer’s Circle and you want to get a feel for the group before you share your writing\, or if you just don’t have work to share this month\, you’re welcome to attend as a listener.\n\nLogo by Colleen MacIsaac.
URL:https://busstoptheatre.coop/event/bus-stop-theatre-writers-circle/
LOCATION:Online\, Halifax\, Nova Scotia\, Canada
CATEGORIES:Meetings & Workshops,Writer's Circle
ATTACH;FMTTYPE=image/jpeg:https://busstoptheatre.coop/wp-content/uploads/2021/01/138642996_1278407832552954_2815992965506759592_o.jpg
ORGANIZER;CN="Bus Stop Theatre Writer's Circle":MAILTO:writerscircle@thebusstoptheatre.org
GEO:44.6487635;-63.5752387
END:VEVENT
END:VCALENDAR